BEGIN:VCALENDAR
VERSION:2.0
PRODID:-//En Face Magazine - ECPv6.15.20//NONSGML v1.0//EN
CALSCALE:GREGORIAN
METHOD:PUBLISH
X-ORIGINAL-URL:https://enfacemagazine.com
X-WR-CALDESC:Events for En Face Magazine
REFRESH-INTERVAL;VALUE=DURATION:PT1H
X-Robots-Tag:noindex
X-PUBLISHED-TTL:PT1H
BEGIN:VTIMEZONE
TZID:America/New_York
BEGIN:DAYLIGHT
TZOFFSETFROM:-0500
TZOFFSETTO:-0400
TZNAME:EDT
DTSTART:20230312T070000
END:DAYLIGHT
BEGIN:STANDARD
TZOFFSETFROM:-0400
TZOFFSETTO:-0500
TZNAME:EST
DTSTART:20231105T060000
END:STANDARD
BEGIN:DAYLIGHT
TZOFFSETFROM:-0500
TZOFFSETTO:-0400
TZNAME:EDT
DTSTART:20240310T070000
END:DAYLIGHT
BEGIN:STANDARD
TZOFFSETFROM:-0400
TZOFFSETTO:-0500
TZNAME:EST
DTSTART:20241103T060000
END:STANDARD
BEGIN:DAYLIGHT
TZOFFSETFROM:-0500
TZOFFSETTO:-0400
TZNAME:EDT
DTSTART:20250309T070000
END:DAYLIGHT
BEGIN:STANDARD
TZOFFSETFROM:-0400
TZOFFSETTO:-0500
TZNAME:EST
DTSTART:20251102T060000
END:STANDARD
END:VTIMEZONE
BEGIN:VEVENT
DTSTART;TZID=America/New_York:20241001T193000
DTEND;TZID=America/New_York:20241001T220000
DTSTAMP:20260425T160633
CREATED:20240731T222118Z
LAST-MODIFIED:20250813T140913Z
UID:10000844-1727811000-1727820000@enfacemagazine.com
SUMMARY:Balanchine + Ratmansky
DESCRIPTION:A trio of classic dances by Balanchine joins a favorite from Alexei Ratmansky. Mozartiana\, one of Balanchine’s late works\, weaves an elegiac spell with its austerely beautiful black costuming and pellucid classical choreography. Two dances set to Stravinsky\, the elegant\, neoclassical Monumentum pro Gesualdo and the spiky\, arrestingly unique Movements for Piano and Orchestra\, always make for a stimulating pairing. And Ratmansky’s Concerto DSCH\, set to a piano concerto by one of his favorite composers\, Dmitri Shostakovich\, ranks among the dancemaker’s most exuberant and energetic works.
URL:https://enfacemagazine.com/event/balanchine-ratmansky/2024-10-01/
LOCATION:David H. Koch Theater\, 20 Lincoln Center Plaza\, New York\, NY\, 10023\, United States
CATEGORIES:Ballet
ATTACH;FMTTYPE=image/png:https://enfacemagazine.com/wp-content/uploads/2024/07/nycb.png
END:VEVENT
END:VCALENDAR