BEGIN:VCALENDAR
VERSION:2.0
PRODID:-//En Face Magazine - ECPv6.15.20//NONSGML v1.0//EN
CALSCALE:GREGORIAN
METHOD:PUBLISH
X-ORIGINAL-URL:https://enfacemagazine.com
X-WR-CALDESC:Events for En Face Magazine
REFRESH-INTERVAL;VALUE=DURATION:PT1H
X-Robots-Tag:noindex
X-PUBLISHED-TTL:PT1H
BEGIN:VTIMEZONE
TZID:America/Chicago
BEGIN:DAYLIGHT
TZOFFSETFROM:-0600
TZOFFSETTO:-0500
TZNAME:CDT
DTSTART:20230312T080000
END:DAYLIGHT
BEGIN:STANDARD
TZOFFSETFROM:-0500
TZOFFSETTO:-0600
TZNAME:CST
DTSTART:20231105T070000
END:STANDARD
BEGIN:DAYLIGHT
TZOFFSETFROM:-0600
TZOFFSETTO:-0500
TZNAME:CDT
DTSTART:20240310T080000
END:DAYLIGHT
BEGIN:STANDARD
TZOFFSETFROM:-0500
TZOFFSETTO:-0600
TZNAME:CST
DTSTART:20241103T070000
END:STANDARD
BEGIN:DAYLIGHT
TZOFFSETFROM:-0600
TZOFFSETTO:-0500
TZNAME:CDT
DTSTART:20250309T080000
END:DAYLIGHT
BEGIN:STANDARD
TZOFFSETFROM:-0500
TZOFFSETTO:-0600
TZNAME:CST
DTSTART:20251102T070000
END:STANDARD
END:VTIMEZONE
BEGIN:VTIMEZONE
TZID:America/New_York
BEGIN:DAYLIGHT
TZOFFSETFROM:-0500
TZOFFSETTO:-0400
TZNAME:EDT
DTSTART:20230312T070000
END:DAYLIGHT
BEGIN:STANDARD
TZOFFSETFROM:-0400
TZOFFSETTO:-0500
TZNAME:EST
DTSTART:20231105T060000
END:STANDARD
BEGIN:DAYLIGHT
TZOFFSETFROM:-0500
TZOFFSETTO:-0400
TZNAME:EDT
DTSTART:20240310T070000
END:DAYLIGHT
BEGIN:STANDARD
TZOFFSETFROM:-0400
TZOFFSETTO:-0500
TZNAME:EST
DTSTART:20241103T060000
END:STANDARD
BEGIN:DAYLIGHT
TZOFFSETFROM:-0500
TZOFFSETTO:-0400
TZNAME:EDT
DTSTART:20250309T070000
END:DAYLIGHT
BEGIN:STANDARD
TZOFFSETFROM:-0400
TZOFFSETTO:-0500
TZNAME:EST
DTSTART:20251102T060000
END:STANDARD
END:VTIMEZONE
BEGIN:VEVENT
DTSTART;TZID=America/Chicago:20241003T193000
DTEND;TZID=America/Chicago:20241003T220000
DTSTAMP:20260425T095240
CREATED:20240731T221215Z
LAST-MODIFIED:20250813T140913Z
UID:10000097-1727983800-1727992800@enfacemagazine.com
SUMMARY:Dracula with Serenade
DESCRIPTION:This fall\, Nashville Ballet entwines the spellbinding allure of Dracula with the elegance of George Balanchine’s Serenade for a double bill that transcends the ordinary. Delve into the dark\, passionate world of Dracula\, a ballet rich in love\, lust\, and eternal desire\, set against a backdrop of Gothic mystery. Dracula will captivate audiences with its tale of immortal yearning. In contrast\, George Balanchine’s Serenade is a serene masterpiece\, a testament to the beauty of classical ballet\, danced to Tchaikovsky’s haunting Serenade for Strings in C3 played live by The Nashville Symphony. This double feature promises an unforgettable blend of a thrilling narrative and exquisite dance. \nPreview the Magazine >>
URL:https://enfacemagazine.com/event/dracula-with-serenade/2024-10-03/
LOCATION:Polk Theater\, TPAC\, 505 Deaderick St\, Nashville\, TN\, 37243\, United States
CATEGORIES:Ballet
ATTACH;FMTTYPE=image/jpeg:https://enfacemagazine.com/wp-content/uploads/2024/07/NB_Dracula-e1724355713857.jpg
END:VEVENT
BEGIN:VEVENT
DTSTART;TZID=America/New_York:20241003T193000
DTEND;TZID=America/New_York:20241003T220000
DTSTAMP:20260425T095240
CREATED:20240731T222117Z
LAST-MODIFIED:20250813T140913Z
UID:10000841-1727983800-1727992800@enfacemagazine.com
SUMMARY:All Peck
DESCRIPTION:NYCB marks Justin Peck’s tenth year as resident choreographer with this selection of some of his finest works\, displaying both his versatility and his musicality. The program includes his first dance for the Company\, In Creases\, from 2012\, an ensemble piece set to music by Philip Glass. As its title indicates\, Solo was choreographed for a single dancer\, and made its debut as a short film directed by Sofia Coppola during the pandemic. Partita is one of Peck’s signature sneaker ballets\, inspired by the Pulitzer Prize–winning a capella composition\, which was in turn a tribute to the painter Sol LeWitt\, whose daughter\, Eva LeWitt\, provided the designs. The program concludes with Peck’s exuberant Everywhere We Go\, celebrating his enduring collaboration with the composer Sufjan Stevens.
URL:https://enfacemagazine.com/event/all-peck/2024-10-03/
LOCATION:David H. Koch Theater\, 20 Lincoln Center Plaza\, New York\, NY\, 10023\, United States
CATEGORIES:Ballet
ATTACH;FMTTYPE=image/png:https://enfacemagazine.com/wp-content/uploads/2024/07/NYCB_AllPeck_v2.png
END:VEVENT
END:VCALENDAR