BEGIN:VCALENDAR
VERSION:2.0
PRODID:-//En Face Magazine - ECPv6.15.20//NONSGML v1.0//EN
CALSCALE:GREGORIAN
METHOD:PUBLISH
X-WR-CALNAME:En Face Magazine
X-ORIGINAL-URL:https://enfacemagazine.com
X-WR-CALDESC:Events for En Face Magazine
REFRESH-INTERVAL;VALUE=DURATION:PT1H
X-Robots-Tag:noindex
X-PUBLISHED-TTL:PT1H
BEGIN:VTIMEZONE
TZID:America/Chicago
BEGIN:DAYLIGHT
TZOFFSETFROM:-0600
TZOFFSETTO:-0500
TZNAME:CDT
DTSTART:20230312T080000
END:DAYLIGHT
BEGIN:STANDARD
TZOFFSETFROM:-0500
TZOFFSETTO:-0600
TZNAME:CST
DTSTART:20231105T070000
END:STANDARD
BEGIN:DAYLIGHT
TZOFFSETFROM:-0600
TZOFFSETTO:-0500
TZNAME:CDT
DTSTART:20240310T080000
END:DAYLIGHT
BEGIN:STANDARD
TZOFFSETFROM:-0500
TZOFFSETTO:-0600
TZNAME:CST
DTSTART:20241103T070000
END:STANDARD
BEGIN:DAYLIGHT
TZOFFSETFROM:-0600
TZOFFSETTO:-0500
TZNAME:CDT
DTSTART:20250309T080000
END:DAYLIGHT
BEGIN:STANDARD
TZOFFSETFROM:-0500
TZOFFSETTO:-0600
TZNAME:CST
DTSTART:20251102T070000
END:STANDARD
END:VTIMEZONE
BEGIN:VTIMEZONE
TZID:America/Los_Angeles
BEGIN:DAYLIGHT
TZOFFSETFROM:-0800
TZOFFSETTO:-0700
TZNAME:PDT
DTSTART:20230312T100000
END:DAYLIGHT
BEGIN:STANDARD
TZOFFSETFROM:-0700
TZOFFSETTO:-0800
TZNAME:PST
DTSTART:20231105T090000
END:STANDARD
BEGIN:DAYLIGHT
TZOFFSETFROM:-0800
TZOFFSETTO:-0700
TZNAME:PDT
DTSTART:20240310T100000
END:DAYLIGHT
BEGIN:STANDARD
TZOFFSETFROM:-0700
TZOFFSETTO:-0800
TZNAME:PST
DTSTART:20241103T090000
END:STANDARD
BEGIN:DAYLIGHT
TZOFFSETFROM:-0800
TZOFFSETTO:-0700
TZNAME:PDT
DTSTART:20250309T100000
END:DAYLIGHT
BEGIN:STANDARD
TZOFFSETFROM:-0700
TZOFFSETTO:-0800
TZNAME:PST
DTSTART:20251102T090000
END:STANDARD
END:VTIMEZONE
BEGIN:VTIMEZONE
TZID:America/New_York
BEGIN:DAYLIGHT
TZOFFSETFROM:-0500
TZOFFSETTO:-0400
TZNAME:EDT
DTSTART:20230312T070000
END:DAYLIGHT
BEGIN:STANDARD
TZOFFSETFROM:-0400
TZOFFSETTO:-0500
TZNAME:EST
DTSTART:20231105T060000
END:STANDARD
BEGIN:DAYLIGHT
TZOFFSETFROM:-0500
TZOFFSETTO:-0400
TZNAME:EDT
DTSTART:20240310T070000
END:DAYLIGHT
BEGIN:STANDARD
TZOFFSETFROM:-0400
TZOFFSETTO:-0500
TZNAME:EST
DTSTART:20241103T060000
END:STANDARD
BEGIN:DAYLIGHT
TZOFFSETFROM:-0500
TZOFFSETTO:-0400
TZNAME:EDT
DTSTART:20250309T070000
END:DAYLIGHT
BEGIN:STANDARD
TZOFFSETFROM:-0400
TZOFFSETTO:-0500
TZNAME:EST
DTSTART:20251102T060000
END:STANDARD
END:VTIMEZONE
BEGIN:VEVENT
DTSTART;TZID=America/Chicago:20241006T140000
DTEND;TZID=America/Chicago:20241006T163000
DTSTAMP:20260425T130829
CREATED:20240731T221215Z
LAST-MODIFIED:20250813T140913Z
UID:10000252-1728223200-1728232200@enfacemagazine.com
SUMMARY:Dracula with Serenade
DESCRIPTION:This fall\, Nashville Ballet entwines the spellbinding allure of Dracula with the elegance of George Balanchine’s Serenade for a double bill that transcends the ordinary. Delve into the dark\, passionate world of Dracula\, a ballet rich in love\, lust\, and eternal desire\, set against a backdrop of Gothic mystery. Dracula will captivate audiences with its tale of immortal yearning. In contrast\, George Balanchine’s Serenade is a serene masterpiece\, a testament to the beauty of classical ballet\, danced to Tchaikovsky’s haunting Serenade for Strings in C3 played live by The Nashville Symphony. This double feature promises an unforgettable blend of a thrilling narrative and exquisite dance. \nPreview the Magazine >>
URL:https://enfacemagazine.com/event/dracula-with-serenade/2024-10-06/
LOCATION:Polk Theater\, TPAC\, 505 Deaderick St\, Nashville\, TN\, 37243\, United States
CATEGORIES:Ballet
ATTACH;FMTTYPE=image/jpeg:https://enfacemagazine.com/wp-content/uploads/2024/07/NB_Dracula-e1724355713857.jpg
END:VEVENT
BEGIN:VEVENT
DTSTART;TZID=America/Los_Angeles:20241006T140000
DTEND;TZID=America/Los_Angeles:20241006T163000
DTSTAMP:20260425T130829
CREATED:20240731T221323Z
LAST-MODIFIED:20250813T140913Z
UID:10000254-1728223200-1728232200@enfacemagazine.com
SUMMARY:Hansel and Gretel
DESCRIPTION:Hansel and Gretel’s black-and-white world explodes with color—and candy—when they meet a witch in the woods in this hit ballet from Australian choreographer Loughlan Prior. \nFeaturing an original score from Claire Cowan and a captivating silent-film-aesthetic\, this fresh take on the famous fairy tale delivers the perfect amount of October spookiness. \nPreview the Magazine >>
URL:https://enfacemagazine.com/event/hansel-and-gretel/2024-10-06/
LOCATION:Keller Auditorium\, 222 SW Clay St.\, Portland\, OR\, 97201\, Unites States
CATEGORIES:Ballet,Story ballet
ATTACH;FMTTYPE=image/png:https://enfacemagazine.com/wp-content/uploads/2024/07/OBTHansel_Horiz-e1724437201376.png
END:VEVENT
BEGIN:VEVENT
DTSTART;TZID=America/New_York:20241006T150000
DTEND;TZID=America/New_York:20241006T173000
DTSTAMP:20260425T130829
CREATED:20240731T222119Z
LAST-MODIFIED:20250813T140913Z
UID:10000854-1728226800-1728235800@enfacemagazine.com
SUMMARY:Coppélia
DESCRIPTION:The rare full-length ballet highlighted by generous doses of comedy\, Coppélia returns to the repertory to mark the 50th anniversary of Balanchine’s 1974 staging. Drawing on the Petipa production\, Balanchine collaborated with the great Russian dancer Alexandra Danilova\, renowned for her performance in the central role of Swanilda\, to bring this 19th-century staple to renewed life. The playful premise: The inventor Dr. Coppélius creates a life-sized doll whose eerie charms entrance the village youth Franz\, amusing his beloved Swanilda\, who hatches a plot to impersonate the doll and hoodwink her love. Rich in classical choreography infused with high spirits\, the ballet has remained in the international repertory ever since its debut.
URL:https://enfacemagazine.com/event/coppelia/2024-10-06/
LOCATION:David H. Koch Theater\, 20 Lincoln Center Plaza\, New York\, NY\, 10023\, United States
CATEGORIES:Ballet,Story ballet
ATTACH;FMTTYPE=image/png:https://enfacemagazine.com/wp-content/uploads/2024/07/NYCB_Coppelia_v2.png
END:VEVENT
END:VCALENDAR