BEGIN:VCALENDAR
VERSION:2.0
PRODID:-//En Face Magazine - ECPv6.15.20//NONSGML v1.0//EN
CALSCALE:GREGORIAN
METHOD:PUBLISH
X-WR-CALNAME:En Face Magazine
X-ORIGINAL-URL:https://enfacemagazine.com
X-WR-CALDESC:Events for En Face Magazine
REFRESH-INTERVAL;VALUE=DURATION:PT1H
X-Robots-Tag:noindex
X-PUBLISHED-TTL:PT1H
BEGIN:VTIMEZONE
TZID:America/New_York
BEGIN:DAYLIGHT
TZOFFSETFROM:-0500
TZOFFSETTO:-0400
TZNAME:EDT
DTSTART:20230312T070000
END:DAYLIGHT
BEGIN:STANDARD
TZOFFSETFROM:-0400
TZOFFSETTO:-0500
TZNAME:EST
DTSTART:20231105T060000
END:STANDARD
BEGIN:DAYLIGHT
TZOFFSETFROM:-0500
TZOFFSETTO:-0400
TZNAME:EDT
DTSTART:20240310T070000
END:DAYLIGHT
BEGIN:STANDARD
TZOFFSETFROM:-0400
TZOFFSETTO:-0500
TZNAME:EST
DTSTART:20241103T060000
END:STANDARD
BEGIN:DAYLIGHT
TZOFFSETFROM:-0500
TZOFFSETTO:-0400
TZNAME:EDT
DTSTART:20250309T070000
END:DAYLIGHT
BEGIN:STANDARD
TZOFFSETFROM:-0400
TZOFFSETTO:-0500
TZNAME:EST
DTSTART:20251102T060000
END:STANDARD
END:VTIMEZONE
BEGIN:VEVENT
DTSTART;TZID=America/New_York:20241106T190000
DTEND;TZID=America/New_York:20241106T213000
DTSTAMP:20260424T145359
CREATED:20240912T165254Z
LAST-MODIFIED:20250813T140843Z
UID:10000967-1730919600-1730928600@enfacemagazine.com
SUMMARY:Paul Taylor Dance Company
DESCRIPTION:“One of the most exciting\, innovative\, and delightful dance companies in the entire world.” —The New York Times \nFrom Artistic Director Michael Novak this season features two World Premieres by Resident Choreographer Lauren Lovette\, a World Premiere by Robert Battle\, ten unforgettable dances by founder Paul Taylor\, two special tributes to dance icon Loïe Fuller choreographed by Jody Sperling\, plus the return of Lovette’s Echo\, Ulysses Dove’s Vespers\, and Larry Keigwin’s Rush Hour. \nEvery performance features live music by the Orchestra of St. Luke’s under the direction of David LaMarche and conductor Tara Simoncic. Back by popular demand\, Grammy-winning trio Time for Three performs Nov. 5–6 and Nov. 12–15. \nPreview the Magazine >>
URL:https://enfacemagazine.com/event/paul-taylor-dance-company/2024-11-06/
LOCATION:David H. Koch Theater\, 20 Lincoln Center Plaza\, New York\, NY\, 10023\, United States
CATEGORIES:Ballet
ATTACH;FMTTYPE=image/png:https://enfacemagazine.com/wp-content/uploads/2024/09/PTDC_NYC2024-e1726159952376.png
END:VEVENT
END:VCALENDAR