BEGIN:VCALENDAR
VERSION:2.0
PRODID:-//En Face Magazine - ECPv6.15.20//NONSGML v1.0//EN
CALSCALE:GREGORIAN
METHOD:PUBLISH
X-WR-CALNAME:En Face Magazine
X-ORIGINAL-URL:https://enfacemagazine.com
X-WR-CALDESC:Events for En Face Magazine
REFRESH-INTERVAL;VALUE=DURATION:PT1H
X-Robots-Tag:noindex
X-PUBLISHED-TTL:PT1H
BEGIN:VTIMEZONE
TZID:America/New_York
BEGIN:DAYLIGHT
TZOFFSETFROM:-0500
TZOFFSETTO:-0400
TZNAME:EDT
DTSTART:20230312T070000
END:DAYLIGHT
BEGIN:STANDARD
TZOFFSETFROM:-0400
TZOFFSETTO:-0500
TZNAME:EST
DTSTART:20231105T060000
END:STANDARD
BEGIN:DAYLIGHT
TZOFFSETFROM:-0500
TZOFFSETTO:-0400
TZNAME:EDT
DTSTART:20240310T070000
END:DAYLIGHT
BEGIN:STANDARD
TZOFFSETFROM:-0400
TZOFFSETTO:-0500
TZNAME:EST
DTSTART:20241103T060000
END:STANDARD
BEGIN:DAYLIGHT
TZOFFSETFROM:-0500
TZOFFSETTO:-0400
TZNAME:EDT
DTSTART:20250309T070000
END:DAYLIGHT
BEGIN:STANDARD
TZOFFSETFROM:-0400
TZOFFSETTO:-0500
TZNAME:EST
DTSTART:20251102T060000
END:STANDARD
END:VTIMEZONE
BEGIN:VEVENT
DTSTART;TZID=America/New_York:20241203T190000
DTEND;TZID=America/New_York:20241203T210000
DTSTAMP:20260423T143003
CREATED:20240731T222036Z
LAST-MODIFIED:20250813T140820Z
UID:10000554-1733252400-1733259600@enfacemagazine.com
SUMMARY:The Washington Ballet's The Nutcracker
DESCRIPTION:Set in the heart of DC\, this reimagined ballet features a George Washington Nutcracker who leads a heroic battle against the notorious Rat King. Amidst the charming streets of Georgetown and cherry blossom trees\, stunning dance performances and nods to DC’s rich history make this an unforgettable experience for all ages. \nThe Washington Ballet’s The Nutcracker will transport audiences into a winter wonderland that has become a lasting holiday tradition not to be missed. \nPreview the Magazine >>
URL:https://enfacemagazine.com/event/the-washington-ballet-nutcracker-2024/2024-12-03/
LOCATION:Warner Theatre\, 513 13th St NW\, Washington\, D.C.\, DC\, 20004\, United States
CATEGORIES:Ballet,Family Fun,Nutcracker,Story ballet
ATTACH;FMTTYPE=image/jpeg:https://enfacemagazine.com/wp-content/uploads/2024/07/TWB-The-Nutcracker-qNqyek.tmp_.jpg
END:VEVENT
END:VCALENDAR