BEGIN:VCALENDAR
VERSION:2.0
PRODID:-//En Face Magazine - ECPv6.15.20//NONSGML v1.0//EN
CALSCALE:GREGORIAN
METHOD:PUBLISH
X-WR-CALNAME:En Face Magazine
X-ORIGINAL-URL:https://enfacemagazine.com
X-WR-CALDESC:Events for En Face Magazine
REFRESH-INTERVAL;VALUE=DURATION:PT1H
X-Robots-Tag:noindex
X-PUBLISHED-TTL:PT1H
BEGIN:VTIMEZONE
TZID:America/Los_Angeles
BEGIN:DAYLIGHT
TZOFFSETFROM:-0800
TZOFFSETTO:-0700
TZNAME:PDT
DTSTART:20230312T100000
END:DAYLIGHT
BEGIN:STANDARD
TZOFFSETFROM:-0700
TZOFFSETTO:-0800
TZNAME:PST
DTSTART:20231105T090000
END:STANDARD
BEGIN:DAYLIGHT
TZOFFSETFROM:-0800
TZOFFSETTO:-0700
TZNAME:PDT
DTSTART:20240310T100000
END:DAYLIGHT
BEGIN:STANDARD
TZOFFSETFROM:-0700
TZOFFSETTO:-0800
TZNAME:PST
DTSTART:20241103T090000
END:STANDARD
BEGIN:DAYLIGHT
TZOFFSETFROM:-0800
TZOFFSETTO:-0700
TZNAME:PDT
DTSTART:20250309T100000
END:DAYLIGHT
BEGIN:STANDARD
TZOFFSETFROM:-0700
TZOFFSETTO:-0800
TZNAME:PST
DTSTART:20251102T090000
END:STANDARD
END:VTIMEZONE
BEGIN:VTIMEZONE
TZID:America/New_York
BEGIN:DAYLIGHT
TZOFFSETFROM:-0500
TZOFFSETTO:-0400
TZNAME:EDT
DTSTART:20230312T070000
END:DAYLIGHT
BEGIN:STANDARD
TZOFFSETFROM:-0400
TZOFFSETTO:-0500
TZNAME:EST
DTSTART:20231105T060000
END:STANDARD
BEGIN:DAYLIGHT
TZOFFSETFROM:-0500
TZOFFSETTO:-0400
TZNAME:EDT
DTSTART:20240310T070000
END:DAYLIGHT
BEGIN:STANDARD
TZOFFSETFROM:-0400
TZOFFSETTO:-0500
TZNAME:EST
DTSTART:20241103T060000
END:STANDARD
BEGIN:DAYLIGHT
TZOFFSETFROM:-0500
TZOFFSETTO:-0400
TZNAME:EDT
DTSTART:20250309T070000
END:DAYLIGHT
BEGIN:STANDARD
TZOFFSETFROM:-0400
TZOFFSETTO:-0500
TZNAME:EST
DTSTART:20251102T060000
END:STANDARD
END:VTIMEZONE
BEGIN:VEVENT
DTSTART;TZID=America/Los_Angeles:20241210T110000
DTEND;TZID=America/Los_Angeles:20241210T130000
DTSTAMP:20260423T113540
CREATED:20240731T221836Z
LAST-MODIFIED:20250813T140820Z
UID:10000628-1733828400-1733835600@enfacemagazine.com
SUMMARY:San Francisco Ballet's Nutcracker
DESCRIPTION:On Christmas Eve 1944\, San Francisco Ballet launched a national holiday tradition with the American premiere of Nutcracker—the first complete version ever staged in the United States. This year\, Tomasson’s larger-than-life production which premiered in 2004 celebrates its 20th anniversary. \nTomasson’s Nutcracker is set in 1915 San Francisco during the Panama Pacific International Exhibition\, a time when the City celebrated a new age of technology and international collaboration\, much like the San Francisco of today. \nJoin us as the lights dim\, music soars\, snowflakes swirl\, flowers dance\, and a child dreams about a whole new world in a Nutcracker as unique as it is magical. \nPreview the Magazine >>
URL:https://enfacemagazine.com/event/sf-ballet-nutcracker-2024/2024-12-10/1/
LOCATION:War Memorial Opera House\, 301 Van Ness Ave\, San Francisco\, CA\, 94102\, United States
CATEGORIES:Ballet,Nutcracker,Story ballet
ATTACH;FMTTYPE=image/jpeg:https://enfacemagazine.com/wp-content/uploads/2024/07/NUT2021BAK_ET30421_CE-e1724352617298.jpg
END:VEVENT
BEGIN:VEVENT
DTSTART;TZID=America/Los_Angeles:20241210T180000
DTEND;TZID=America/Los_Angeles:20241210T200000
DTSTAMP:20260423T113540
CREATED:20240731T221836Z
LAST-MODIFIED:20250813T140820Z
UID:10000629-1733853600-1733860800@enfacemagazine.com
SUMMARY:San Francisco Ballet's Nutcracker
DESCRIPTION:On Christmas Eve 1944\, San Francisco Ballet launched a national holiday tradition with the American premiere of Nutcracker—the first complete version ever staged in the United States. This year\, Tomasson’s larger-than-life production which premiered in 2004 celebrates its 20th anniversary. \nTomasson’s Nutcracker is set in 1915 San Francisco during the Panama Pacific International Exhibition\, a time when the City celebrated a new age of technology and international collaboration\, much like the San Francisco of today. \nJoin us as the lights dim\, music soars\, snowflakes swirl\, flowers dance\, and a child dreams about a whole new world in a Nutcracker as unique as it is magical. \nPreview the Magazine >>
URL:https://enfacemagazine.com/event/sf-ballet-nutcracker-2024/2024-12-10/2/
LOCATION:War Memorial Opera House\, 301 Van Ness Ave\, San Francisco\, CA\, 94102\, United States
CATEGORIES:Ballet,Nutcracker,Story ballet
ATTACH;FMTTYPE=image/jpeg:https://enfacemagazine.com/wp-content/uploads/2024/07/NUT2021BAK_ET30421_CE-e1724352617298.jpg
END:VEVENT
BEGIN:VEVENT
DTSTART;TZID=America/New_York:20241210T190000
DTEND;TZID=America/New_York:20241210T210000
DTSTAMP:20260423T113540
CREATED:20240731T222036Z
LAST-MODIFIED:20250813T140820Z
UID:10000562-1733857200-1733864400@enfacemagazine.com
SUMMARY:The Washington Ballet's The Nutcracker
DESCRIPTION:Set in the heart of DC\, this reimagined ballet features a George Washington Nutcracker who leads a heroic battle against the notorious Rat King. Amidst the charming streets of Georgetown and cherry blossom trees\, stunning dance performances and nods to DC’s rich history make this an unforgettable experience for all ages. \nThe Washington Ballet’s The Nutcracker will transport audiences into a winter wonderland that has become a lasting holiday tradition not to be missed. \nPreview the Magazine >>
URL:https://enfacemagazine.com/event/the-washington-ballet-nutcracker-2024/2024-12-10/
LOCATION:Warner Theatre\, 513 13th St NW\, Washington\, D.C.\, DC\, 20004\, United States
CATEGORIES:Ballet,Family Fun,Nutcracker,Story ballet
ATTACH;FMTTYPE=image/jpeg:https://enfacemagazine.com/wp-content/uploads/2024/07/TWB-The-Nutcracker-qNqyek.tmp_.jpg
END:VEVENT
BEGIN:VEVENT
DTSTART;TZID=America/New_York:20241210T193000
DTEND;TZID=America/New_York:20241210T213000
DTSTAMP:20260423T113540
CREATED:20240731T220918Z
LAST-MODIFIED:20250813T140820Z
UID:10000676-1733859000-1733866200@enfacemagazine.com
SUMMARY:Boston Ballet's The Nutcracker
DESCRIPTION:Share the enchantment and joy with your loved ones this season and see for yourself why audiences love The Nutcracker. This signature holiday event offers an abundance of gifts that leave audiences dazzled by the beauty and cheer of the experience. \nPreview the Magazine >>
URL:https://enfacemagazine.com/event/boston-ballet-nutcracker-2024/2024-12-10/
LOCATION:Citizens Opera House\, 539 Washington St\, Boston\, MA\, _02111\, United States
CATEGORIES:Ballet,Family Fun,Nutcracker,Story ballet
ATTACH;FMTTYPE=image/jpeg:https://enfacemagazine.com/wp-content/uploads/2024/07/BBNutcracker24.jpeg
GEO:42.3540¡ N;71.0623¡ W
X-APPLE-STRUCTURED-LOCATION;VALUE=URI;X-ADDRESS=Citizens Opera House 539 Washington St Boston MA _02111 United States;X-APPLE-RADIUS=500;X-TITLE=539 Washington St:geo:71.0623¡ W,42.3540¡ N
END:VEVENT
BEGIN:VEVENT
DTSTART;TZID=America/New_York:20241210T193000
DTEND;TZID=America/New_York:20241210T220000
DTSTAMP:20260423T113540
CREATED:20240731T220801Z
LAST-MODIFIED:20250813T140820Z
UID:10000724-1733859000-1733868000@enfacemagazine.com
SUMMARY:Alvin Ailey's 2024 New York Season
DESCRIPTION:Alvin Ailey American Dance Theater\, City Center’s Principal Dance Company and a beloved cultural ambassador\, returns for a five-week holiday season celebrating a lineage and legacy that continues to open doors and break new ground. Ailey’s extraordinary dancers bring to life world premieres and new productions by a number of choreographers for whom Alvin Ailey paved the way\, including the 25th anniversary return of Ronald K. Brown’s blockbuster Grace\, a rapturous work in which the secular and sacred meet\, connecting African and American dance. \nPreview the Magazine >>
URL:https://enfacemagazine.com/event/ailey-new-york-season-2024/2024-12-10/
LOCATION:New York City Center\, 131 W 55th St\, New York\, NY\, 10019\, United States
CATEGORIES:Ballet
ATTACH;FMTTYPE=image/jpeg:https://enfacemagazine.com/wp-content/uploads/2024/07/MAIN-IMAGE-Members-of-Alvin-Ailey-American-Dance-Theater.-Photo-by-Dario-Calmese_horiz-scaled-e1731703792200.jpg
END:VEVENT
END:VCALENDAR