BEGIN:VCALENDAR
VERSION:2.0
PRODID:-//En Face Magazine - ECPv6.15.20//NONSGML v1.0//EN
CALSCALE:GREGORIAN
METHOD:PUBLISH
X-ORIGINAL-URL:https://enfacemagazine.com
X-WR-CALDESC:Events for En Face Magazine
REFRESH-INTERVAL;VALUE=DURATION:PT1H
X-Robots-Tag:noindex
X-PUBLISHED-TTL:PT1H
BEGIN:VTIMEZONE
TZID:America/New_York
BEGIN:DAYLIGHT
TZOFFSETFROM:-0500
TZOFFSETTO:-0400
TZNAME:EDT
DTSTART:20230312T070000
END:DAYLIGHT
BEGIN:STANDARD
TZOFFSETFROM:-0400
TZOFFSETTO:-0500
TZNAME:EST
DTSTART:20231105T060000
END:STANDARD
BEGIN:DAYLIGHT
TZOFFSETFROM:-0500
TZOFFSETTO:-0400
TZNAME:EDT
DTSTART:20240310T070000
END:DAYLIGHT
BEGIN:STANDARD
TZOFFSETFROM:-0400
TZOFFSETTO:-0500
TZNAME:EST
DTSTART:20241103T060000
END:STANDARD
BEGIN:DAYLIGHT
TZOFFSETFROM:-0500
TZOFFSETTO:-0400
TZNAME:EDT
DTSTART:20250309T070000
END:DAYLIGHT
BEGIN:STANDARD
TZOFFSETFROM:-0400
TZOFFSETTO:-0500
TZNAME:EST
DTSTART:20251102T060000
END:STANDARD
END:VTIMEZONE
BEGIN:VTIMEZONE
TZID:America/Chicago
BEGIN:DAYLIGHT
TZOFFSETFROM:-0600
TZOFFSETTO:-0500
TZNAME:CDT
DTSTART:20230312T080000
END:DAYLIGHT
BEGIN:STANDARD
TZOFFSETFROM:-0500
TZOFFSETTO:-0600
TZNAME:CST
DTSTART:20231105T070000
END:STANDARD
BEGIN:DAYLIGHT
TZOFFSETFROM:-0600
TZOFFSETTO:-0500
TZNAME:CDT
DTSTART:20240310T080000
END:DAYLIGHT
BEGIN:STANDARD
TZOFFSETFROM:-0500
TZOFFSETTO:-0600
TZNAME:CST
DTSTART:20241103T070000
END:STANDARD
BEGIN:DAYLIGHT
TZOFFSETFROM:-0600
TZOFFSETTO:-0500
TZNAME:CDT
DTSTART:20250309T080000
END:DAYLIGHT
BEGIN:STANDARD
TZOFFSETFROM:-0500
TZOFFSETTO:-0600
TZNAME:CST
DTSTART:20251102T070000
END:STANDARD
END:VTIMEZONE
BEGIN:VTIMEZONE
TZID:America/Los_Angeles
BEGIN:DAYLIGHT
TZOFFSETFROM:-0800
TZOFFSETTO:-0700
TZNAME:PDT
DTSTART:20230312T100000
END:DAYLIGHT
BEGIN:STANDARD
TZOFFSETFROM:-0700
TZOFFSETTO:-0800
TZNAME:PST
DTSTART:20231105T090000
END:STANDARD
BEGIN:DAYLIGHT
TZOFFSETFROM:-0800
TZOFFSETTO:-0700
TZNAME:PDT
DTSTART:20240310T100000
END:DAYLIGHT
BEGIN:STANDARD
TZOFFSETFROM:-0700
TZOFFSETTO:-0800
TZNAME:PST
DTSTART:20241103T090000
END:STANDARD
BEGIN:DAYLIGHT
TZOFFSETFROM:-0800
TZOFFSETTO:-0700
TZNAME:PDT
DTSTART:20250309T100000
END:DAYLIGHT
BEGIN:STANDARD
TZOFFSETFROM:-0700
TZOFFSETTO:-0800
TZNAME:PST
DTSTART:20251102T090000
END:STANDARD
END:VTIMEZONE
BEGIN:VEVENT
DTSTART;TZID=America/New_York:20241223T120000
DTEND;TZID=America/New_York:20241223T140000
DTSTAMP:20260422T191323
CREATED:20240731T221616Z
LAST-MODIFIED:20250813T140820Z
UID:10000233-1734955200-1734962400@enfacemagazine.com
SUMMARY:George Balanchine's The Nutcracker®
DESCRIPTION:Follow Marie on her journey through this fantastical realm as her one-of-a-kind Nutcracker Prince sets into motion a series of events that will transport you to a world filled with dancing snowflakes\, dazzling costumes\, epic mouse battles\, and breathtaking choreography. \nGeorge Balanchine’s The Nutcracker® is more than a performance; it’s a celebration of beauty and magic that will fill your soul with the spirit of the holiday season. Share this unforgettable experience with your loved ones and create cherished memories that will last a lifetime. \nPreview the Magazine >>
URL:https://enfacemagazine.com/event/george-balanchines-the-nutcracker/2024-12-23/1/
LOCATION:Academy of Music\, 240 S Broad St.\, Philadelphia\, PA\, 19102\, United States
CATEGORIES:Ballet,Family Fun,Nutcracker,Story ballet
ATTACH;FMTTYPE=image/jpeg:https://enfacemagazine.com/wp-content/uploads/2024/07/PB_24-25_season-Nut_Soldier_by_iziliaev-1-scaled-1-A7LagO.tmp_-e1724354500514.jpg
END:VEVENT
BEGIN:VEVENT
DTSTART;TZID=America/Chicago:20241223T140000
DTEND;TZID=America/Chicago:20241223T160000
DTSTAMP:20260422T191323
CREATED:20240731T220805Z
LAST-MODIFIED:20250813T140819Z
UID:10000533-1734962400-1734969600@enfacemagazine.com
SUMMARY:The Nutcracker
DESCRIPTION:Waltz into the winter season with the spectacular 62nd Annual Presentation of The Nutcracker…the longest-running production of this holiday classic in the state of Texas! \nJoin us for this timeless story of a young girl\, Clara\, as she follows her dream-inspired adventures through a twinkling winter wonderland to the Court of the Sugar Plum Fairy. Featuring exquisite costumes and astonishing sets\, enjoy the artistry of a cast of more than one hundred artists on stage. With live accompaniment by the Austin Symphony Orchestra\, Tchaikovsky’s timeless score comes to life with music and choreography sure to warm the season and create lasting magical memories! \nPreview the Magazine >>
URL:https://enfacemagazine.com/event/the-nutcracker-2/2024-12-23/
LOCATION:The Long Center\, 701 W Riverside Dr\, Austin\, TX\, 78704\, United States
CATEGORIES:Ballet,Family Fun,Nutcracker,Story ballet
ATTACH;FMTTYPE=image/png:https://enfacemagazine.com/wp-content/uploads/2024/07/BA_Nutcracker-e1724358754951.png
END:VEVENT
BEGIN:VEVENT
DTSTART;TZID=America/Chicago:20241223T140000
DTEND;TZID=America/Chicago:20241223T160000
DTSTAMP:20260422T191323
CREATED:20240731T221217Z
LAST-MODIFIED:20250813T140820Z
UID:10000208-1734962400-1734969600@enfacemagazine.com
SUMMARY:Nashville's Nutcracker
DESCRIPTION:Embark on a magical journey this holiday season with Nashville’s Nutcracker\, a cherished tradition that brings together history\, magic\, and dance. Winner of a 2020 Emmy Award-winning film and named the Best Dance Production of 2022 by Broadway World Nashville\, this is Nashville’s can’t-miss holiday event. Set against the backdrop of the vibrant city\, this performance invites audiences of all ages to revel in the splendor of the Sugar Plum Fairy’s kingdom\, the fierceness of the Mouse King\, and the timeless adventure of Clara and her Nutcracker Prince. Experience the joy and wonder of this classic tale reimagined\, capturing the heart and spirit of Nashville with live music by The Nashville Symphony. Join us for an unforgettable celebration of music\, dance\, and storytelling that embodies the magic of the holidays. \nPreview the Magazine >>
URL:https://enfacemagazine.com/event/nashvilles-nutcracker/2024-12-23/1/
LOCATION:Jackson Hall\, TPAC\, 505 Deaderick St\, Nashville\, TN\, 37243\, United States
CATEGORIES:Ballet,Family Fun,Nutcracker,Story ballet
ATTACH;FMTTYPE=image/jpeg:https://enfacemagazine.com/wp-content/uploads/2024/07/NB_Nut-e1724355863611.jpg
END:VEVENT
BEGIN:VEVENT
DTSTART;TZID=America/Los_Angeles:20241223T140000
DTEND;TZID=America/Los_Angeles:20241223T160000
DTSTAMP:20260422T191323
CREATED:20240731T221324Z
LAST-MODIFIED:20250813T140819Z
UID:10000599-1734962400-1734969600@enfacemagazine.com
SUMMARY:Oregon Ballet Theatre's The Nutcracker
DESCRIPTION:The irresistible holiday tradition of George Balanchine’s The Nutcracker® returns! \nJoin Marie and her Nutcracker Prince as the mischievous Drosselmeier sends them on a magical adventure. Brave toy soldiers battle villainous mice\, candy canes leap\, and snowflakes whirl\, all to Tchaikovsky’s wonderous score. \nFeaturing an increased number of performances with the OBT Orchestra. \nPreview the Magazine >>
URL:https://enfacemagazine.com/event/obt-nutcracker-2024/2024-12-23/1/
LOCATION:Keller Auditorium\, 222 SW Clay St.\, Portland\, OR\, 97201\, Unites States
CATEGORIES:Ballet,Family Fun,Nutcracker,Story ballet
ATTACH;FMTTYPE=image/jpeg:https://enfacemagazine.com/wp-content/uploads/2024/07/2-Nutcracker-scaled-e1724420330560.jpg
END:VEVENT
BEGIN:VEVENT
DTSTART;TZID=America/Los_Angeles:20241223T140000
DTEND;TZID=America/Los_Angeles:20241223T160000
DTSTAMP:20260422T191323
CREATED:20240731T221518Z
LAST-MODIFIED:20250813T140820Z
UID:10000810-1734962400-1734969600@enfacemagazine.com
SUMMARY:Pacific Northwest Ballet's The Nutcracker
DESCRIPTION:George Balanchine’s The Nutcracker® is back and ready to make your holiday season brighter! \nJoin us for the Northwest’s favorite festive tradition\, featuring all the sparkle and joy you’ve come to expect. The Nutcracker experience features a picture-perfect lobby\, Tchaikovsky’s classic score (played brilliantly by the PNB Orchestra)\, gorgeous costumes and scenery\, impressive performances\, and so much more! \nPreview the Magazine >>
URL:https://enfacemagazine.com/event/pnb-nutcracker-2024/2024-12-23/1/
LOCATION:McCaw Hall\, 321 Mercer St\, Seattle\, WA\, 98109\, United States
CATEGORIES:Ballet,Family Fun,Nutcracker,Story ballet
ATTACH;FMTTYPE=image/jpeg:https://enfacemagazine.com/wp-content/uploads/2024/07/PNB_Nut24-e1722369829368-ByMkd4.tmp_-e1724420063769.jpg
END:VEVENT
BEGIN:VEVENT
DTSTART;TZID=America/Los_Angeles:20241223T140000
DTEND;TZID=America/Los_Angeles:20241223T160000
DTSTAMP:20260422T191323
CREATED:20240731T221836Z
LAST-MODIFIED:20250813T140820Z
UID:10000648-1734962400-1734969600@enfacemagazine.com
SUMMARY:San Francisco Ballet's Nutcracker
DESCRIPTION:On Christmas Eve 1944\, San Francisco Ballet launched a national holiday tradition with the American premiere of Nutcracker—the first complete version ever staged in the United States. This year\, Tomasson’s larger-than-life production which premiered in 2004 celebrates its 20th anniversary. \nTomasson’s Nutcracker is set in 1915 San Francisco during the Panama Pacific International Exhibition\, a time when the City celebrated a new age of technology and international collaboration\, much like the San Francisco of today. \nJoin us as the lights dim\, music soars\, snowflakes swirl\, flowers dance\, and a child dreams about a whole new world in a Nutcracker as unique as it is magical. \nPreview the Magazine >>
URL:https://enfacemagazine.com/event/sf-ballet-nutcracker-2024/2024-12-23/1/
LOCATION:War Memorial Opera House\, 301 Van Ness Ave\, San Francisco\, CA\, 94102\, United States
CATEGORIES:Ballet,Nutcracker,Story ballet
ATTACH;FMTTYPE=image/jpeg:https://enfacemagazine.com/wp-content/uploads/2024/07/NUT2021BAK_ET30421_CE-e1724352617298.jpg
END:VEVENT
BEGIN:VEVENT
DTSTART;TZID=America/Chicago:20241223T143000
DTEND;TZID=America/Chicago:20241223T163000
DTSTAMP:20260422T191323
CREATED:20240731T221832Z
LAST-MODIFIED:20250813T140820Z
UID:10000550-1734964200-1734971400@enfacemagazine.com
SUMMARY:Saint Louis Ballet's The Nutcracker
DESCRIPTION:Ring in the holidays with the region’s most glorious Nutcracker. Great costumes\, sets and\, of course\, great dancing make this the extravaganza thousands of St. Louisans flock to. \nPreview the Magazine >>
URL:https://enfacemagazine.com/event/st-louis-ballet-nutcracker-2024/2024-12-23/1/
LOCATION:Touhill Performing Arts Center\, 1 Touhill Cir\, St. Louis\, MO\, 63121\, United States
CATEGORIES:Ballet,Family Fun,Nutcracker,Story ballet
ATTACH;FMTTYPE=image/png:https://enfacemagazine.com/wp-content/uploads/2024/07/STLB_Nut24-e1724353408815.png
END:VEVENT
BEGIN:VEVENT
DTSTART;TZID=America/New_York:20241223T170000
DTEND;TZID=America/New_York:20241223T190000
DTSTAMP:20260422T191323
CREATED:20240731T221616Z
LAST-MODIFIED:20250813T140820Z
UID:10000234-1734973200-1734980400@enfacemagazine.com
SUMMARY:George Balanchine's The Nutcracker®
DESCRIPTION:Follow Marie on her journey through this fantastical realm as her one-of-a-kind Nutcracker Prince sets into motion a series of events that will transport you to a world filled with dancing snowflakes\, dazzling costumes\, epic mouse battles\, and breathtaking choreography. \nGeorge Balanchine’s The Nutcracker® is more than a performance; it’s a celebration of beauty and magic that will fill your soul with the spirit of the holiday season. Share this unforgettable experience with your loved ones and create cherished memories that will last a lifetime. \nPreview the Magazine >>
URL:https://enfacemagazine.com/event/george-balanchines-the-nutcracker/2024-12-23/2/
LOCATION:Academy of Music\, 240 S Broad St.\, Philadelphia\, PA\, 19102\, United States
CATEGORIES:Ballet,Family Fun,Nutcracker,Story ballet
ATTACH;FMTTYPE=image/jpeg:https://enfacemagazine.com/wp-content/uploads/2024/07/PB_24-25_season-Nut_Soldier_by_iziliaev-1-scaled-1-A7LagO.tmp_-e1724354500514.jpg
END:VEVENT
BEGIN:VEVENT
DTSTART;TZID=America/Chicago:20241223T190000
DTEND;TZID=America/Chicago:20241223T210000
DTSTAMP:20260422T191323
CREATED:20240731T221217Z
LAST-MODIFIED:20250813T140820Z
UID:10000209-1734980400-1734987600@enfacemagazine.com
SUMMARY:Nashville's Nutcracker
DESCRIPTION:Embark on a magical journey this holiday season with Nashville’s Nutcracker\, a cherished tradition that brings together history\, magic\, and dance. Winner of a 2020 Emmy Award-winning film and named the Best Dance Production of 2022 by Broadway World Nashville\, this is Nashville’s can’t-miss holiday event. Set against the backdrop of the vibrant city\, this performance invites audiences of all ages to revel in the splendor of the Sugar Plum Fairy’s kingdom\, the fierceness of the Mouse King\, and the timeless adventure of Clara and her Nutcracker Prince. Experience the joy and wonder of this classic tale reimagined\, capturing the heart and spirit of Nashville with live music by The Nashville Symphony. Join us for an unforgettable celebration of music\, dance\, and storytelling that embodies the magic of the holidays. \nPreview the Magazine >>
URL:https://enfacemagazine.com/event/nashvilles-nutcracker/2024-12-23/2/
LOCATION:Jackson Hall\, TPAC\, 505 Deaderick St\, Nashville\, TN\, 37243\, United States
CATEGORIES:Ballet,Family Fun,Nutcracker,Story ballet
ATTACH;FMTTYPE=image/jpeg:https://enfacemagazine.com/wp-content/uploads/2024/07/NB_Nut-e1724355863611.jpg
END:VEVENT
BEGIN:VEVENT
DTSTART;TZID=America/Chicago:20241223T190000
DTEND;TZID=America/Chicago:20241223T210000
DTSTAMP:20260422T191323
CREATED:20240731T221832Z
LAST-MODIFIED:20250813T140820Z
UID:10000551-1734980400-1734987600@enfacemagazine.com
SUMMARY:Saint Louis Ballet's The Nutcracker
DESCRIPTION:Ring in the holidays with the region’s most glorious Nutcracker. Great costumes\, sets and\, of course\, great dancing make this the extravaganza thousands of St. Louisans flock to. \nPreview the Magazine >>
URL:https://enfacemagazine.com/event/st-louis-ballet-nutcracker-2024/2024-12-23/2/
LOCATION:Touhill Performing Arts Center\, 1 Touhill Cir\, St. Louis\, MO\, 63121\, United States
CATEGORIES:Ballet,Family Fun,Nutcracker,Story ballet
ATTACH;FMTTYPE=image/png:https://enfacemagazine.com/wp-content/uploads/2024/07/STLB_Nut24-e1724353408815.png
END:VEVENT
BEGIN:VEVENT
DTSTART;TZID=America/Los_Angeles:20241223T190000
DTEND;TZID=America/Los_Angeles:20241223T210000
DTSTAMP:20260422T191323
CREATED:20240731T221836Z
LAST-MODIFIED:20250813T140820Z
UID:10000649-1734980400-1734987600@enfacemagazine.com
SUMMARY:San Francisco Ballet's Nutcracker
DESCRIPTION:On Christmas Eve 1944\, San Francisco Ballet launched a national holiday tradition with the American premiere of Nutcracker—the first complete version ever staged in the United States. This year\, Tomasson’s larger-than-life production which premiered in 2004 celebrates its 20th anniversary. \nTomasson’s Nutcracker is set in 1915 San Francisco during the Panama Pacific International Exhibition\, a time when the City celebrated a new age of technology and international collaboration\, much like the San Francisco of today. \nJoin us as the lights dim\, music soars\, snowflakes swirl\, flowers dance\, and a child dreams about a whole new world in a Nutcracker as unique as it is magical. \nPreview the Magazine >>
URL:https://enfacemagazine.com/event/sf-ballet-nutcracker-2024/2024-12-23/2/
LOCATION:War Memorial Opera House\, 301 Van Ness Ave\, San Francisco\, CA\, 94102\, United States
CATEGORIES:Ballet,Nutcracker,Story ballet
ATTACH;FMTTYPE=image/jpeg:https://enfacemagazine.com/wp-content/uploads/2024/07/NUT2021BAK_ET30421_CE-e1724352617298.jpg
END:VEVENT
BEGIN:VEVENT
DTSTART;TZID=America/Los_Angeles:20241223T193000
DTEND;TZID=America/Los_Angeles:20241223T213000
DTSTAMP:20260422T191323
CREATED:20240731T221324Z
LAST-MODIFIED:20250813T140819Z
UID:10000600-1734982200-1734989400@enfacemagazine.com
SUMMARY:Oregon Ballet Theatre's The Nutcracker
DESCRIPTION:The irresistible holiday tradition of George Balanchine’s The Nutcracker® returns! \nJoin Marie and her Nutcracker Prince as the mischievous Drosselmeier sends them on a magical adventure. Brave toy soldiers battle villainous mice\, candy canes leap\, and snowflakes whirl\, all to Tchaikovsky’s wonderous score. \nFeaturing an increased number of performances with the OBT Orchestra. \nPreview the Magazine >>
URL:https://enfacemagazine.com/event/obt-nutcracker-2024/2024-12-23/2/
LOCATION:Keller Auditorium\, 222 SW Clay St.\, Portland\, OR\, 97201\, Unites States
CATEGORIES:Ballet,Family Fun,Nutcracker,Story ballet
ATTACH;FMTTYPE=image/jpeg:https://enfacemagazine.com/wp-content/uploads/2024/07/2-Nutcracker-scaled-e1724420330560.jpg
END:VEVENT
BEGIN:VEVENT
DTSTART;TZID=America/Los_Angeles:20241223T193000
DTEND;TZID=America/Los_Angeles:20241223T213000
DTSTAMP:20260422T191323
CREATED:20240731T221518Z
LAST-MODIFIED:20250813T140820Z
UID:10000811-1734982200-1734989400@enfacemagazine.com
SUMMARY:Pacific Northwest Ballet's The Nutcracker
DESCRIPTION:George Balanchine’s The Nutcracker® is back and ready to make your holiday season brighter! \nJoin us for the Northwest’s favorite festive tradition\, featuring all the sparkle and joy you’ve come to expect. The Nutcracker experience features a picture-perfect lobby\, Tchaikovsky’s classic score (played brilliantly by the PNB Orchestra)\, gorgeous costumes and scenery\, impressive performances\, and so much more! \nPreview the Magazine >>
URL:https://enfacemagazine.com/event/pnb-nutcracker-2024/2024-12-23/2/
LOCATION:McCaw Hall\, 321 Mercer St\, Seattle\, WA\, 98109\, United States
CATEGORIES:Ballet,Family Fun,Nutcracker,Story ballet
ATTACH;FMTTYPE=image/jpeg:https://enfacemagazine.com/wp-content/uploads/2024/07/PNB_Nut24-e1722369829368-ByMkd4.tmp_-e1724420063769.jpg
END:VEVENT
END:VCALENDAR