BEGIN:VCALENDAR
VERSION:2.0
PRODID:-//En Face Magazine - ECPv6.15.20//NONSGML v1.0//EN
CALSCALE:GREGORIAN
METHOD:PUBLISH
X-ORIGINAL-URL:https://enfacemagazine.com
X-WR-CALDESC:Events for En Face Magazine
REFRESH-INTERVAL;VALUE=DURATION:PT1H
X-Robots-Tag:noindex
X-PUBLISHED-TTL:PT1H
BEGIN:VTIMEZONE
TZID:America/New_York
BEGIN:DAYLIGHT
TZOFFSETFROM:-0500
TZOFFSETTO:-0400
TZNAME:EDT
DTSTART:20250309T070000
END:DAYLIGHT
BEGIN:STANDARD
TZOFFSETFROM:-0400
TZOFFSETTO:-0500
TZNAME:EST
DTSTART:20251102T060000
END:STANDARD
BEGIN:DAYLIGHT
TZOFFSETFROM:-0500
TZOFFSETTO:-0400
TZNAME:EDT
DTSTART:20260308T070000
END:DAYLIGHT
BEGIN:STANDARD
TZOFFSETFROM:-0400
TZOFFSETTO:-0500
TZNAME:EST
DTSTART:20261101T060000
END:STANDARD
BEGIN:DAYLIGHT
TZOFFSETFROM:-0500
TZOFFSETTO:-0400
TZNAME:EDT
DTSTART:20270314T070000
END:DAYLIGHT
BEGIN:STANDARD
TZOFFSETFROM:-0400
TZOFFSETTO:-0500
TZNAME:EST
DTSTART:20271107T060000
END:STANDARD
END:VTIMEZONE
BEGIN:VTIMEZONE
TZID:America/Los_Angeles
BEGIN:DAYLIGHT
TZOFFSETFROM:-0800
TZOFFSETTO:-0700
TZNAME:PDT
DTSTART:20250309T100000
END:DAYLIGHT
BEGIN:STANDARD
TZOFFSETFROM:-0700
TZOFFSETTO:-0800
TZNAME:PST
DTSTART:20251102T090000
END:STANDARD
BEGIN:DAYLIGHT
TZOFFSETFROM:-0800
TZOFFSETTO:-0700
TZNAME:PDT
DTSTART:20260308T100000
END:DAYLIGHT
BEGIN:STANDARD
TZOFFSETFROM:-0700
TZOFFSETTO:-0800
TZNAME:PST
DTSTART:20261101T090000
END:STANDARD
BEGIN:DAYLIGHT
TZOFFSETFROM:-0800
TZOFFSETTO:-0700
TZNAME:PDT
DTSTART:20270314T100000
END:DAYLIGHT
BEGIN:STANDARD
TZOFFSETFROM:-0700
TZOFFSETTO:-0800
TZNAME:PST
DTSTART:20271107T090000
END:STANDARD
END:VTIMEZONE
BEGIN:VEVENT
DTSTART;TZID=America/New_York:20260319T193000
DTEND;TZID=America/New_York:20260319T220000
DTSTAMP:20260420T190552
CREATED:20250108T203239Z
LAST-MODIFIED:20250807T193101Z
UID:10001403-1773948600-1773957600@enfacemagazine.com
SUMMARY:The Dream
DESCRIPTION:This program consists of two inspiring works that connect one of the most influential classical choreographers with an emerging new talent. In one evening\, experience Sir Frederick Ashton’s The Dream and a world premiere by My’Kal Stromile. We invite you to see these ballets in conversation with one another and to experience the many layers of humanity in our artform\, from the lighthearted to the deeply moving. \nFeatured Image: National Ballet of Canada in Sir Frederick Ashton’s The Dream\, photo by Aleksandar Antonijevic\, courtesy of National Ballet of Canada.
URL:https://enfacemagazine.com/event/the-dream/2026-03-19/
LOCATION:Citizens Opera House\, 539 Washington St\, Boston\, MA\, _02111\, United States
CATEGORIES:Ballet
ATTACH;FMTTYPE=image/jpeg:https://enfacemagazine.com/wp-content/uploads/2025/04/DRE-325-VAN-CHA-1-300-e1744140874900.jpg
GEO:42.3540¡ N;71.0623¡ W
X-APPLE-STRUCTURED-LOCATION;VALUE=URI;X-ADDRESS=Citizens Opera House 539 Washington St Boston MA _02111 United States;X-APPLE-RADIUS=500;X-TITLE=539 Washington St:geo:71.0623¡ W,42.3540¡ N
END:VEVENT
BEGIN:VEVENT
DTSTART;TZID=America/Los_Angeles:20260319T193000
DTEND;TZID=America/Los_Angeles:20260319T220000
DTSTAMP:20260420T190552
CREATED:20250808T155017Z
LAST-MODIFIED:20251008T193350Z
UID:10001744-1773948600-1773957600@enfacemagazine.com
SUMMARY:Don Quixote
DESCRIPTION:Grab your castanets and get ready for a whirlwind of fiery dancing and playful wit with ballet’s original romantic comedy\, Don Quixote. Inspired by Cervantes’ classic novel\, this energetic production is packed with passion\, humor\, sensational dance. Additional choreography by Helgi Tomasson and Yuri Possokhov\, Don Quixote is ballet at its most joyful. A family-friendly experience for all ages as exciting for first-time spectators as it is for longtime ballet lovers. \nMadeline Woo as Kitri from Tomasson/Possokhov’s Don Quixote // © Studio Schuller for San Francisco Ballet
URL:https://enfacemagazine.com/event/don-quixote-sfb/2026-03-19/
LOCATION:War Memorial Opera House\, 301 Van Ness Ave\, San Francisco\, CA\, 94102\, United States
CATEGORIES:Ballet,Kid-Friendly,Story ballet
ATTACH;FMTTYPE=image/png:https://enfacemagazine.com/wp-content/uploads/2025/08/SFBDonQ_v2.png
GEO:37.7785¡ N;122.4203¡ W
X-APPLE-STRUCTURED-LOCATION;VALUE=URI;X-ADDRESS=War Memorial Opera House 301 Van Ness Ave San Francisco CA 94102 United States;X-APPLE-RADIUS=500;X-TITLE=301 Van Ness Ave:geo:122.4203¡ W,37.7785¡ N
END:VEVENT
BEGIN:VEVENT
DTSTART;TZID=America/New_York:20260319T193000
DTEND;TZID=America/New_York:20260319T220000
DTSTAMP:20260420T190552
CREATED:20250808T195636Z
LAST-MODIFIED:20250813T140043Z
UID:10002017-1773948600-1773957600@enfacemagazine.com
SUMMARY:Othello
DESCRIPTION:Immerse yourself in the gripping drama of Lar Lubovitch’s Othello\, a ballet that plunges into the dark heart of Shakespeare’s tragic tale. This powerful full-length work\, set to Elliot Goldenthal’s evocative score\, explores themes of love\, jealousy\, and betrayal with profound emotional depth. Lubovitch’s innovative choreography seamlessly blends classical ballet with a contemporary sensibility\, creating a visceral and compelling narrative that will keep you on the edge of your seat. Witness the devastating consequences of Iago’s manipulation as Othello’s world unravels\, brought to life by ABT’s exceptional artists in a truly unforgettable theatrical experience. \nDesmond Richardson in Othello. Photo: Roy Round
URL:https://enfacemagazine.com/event/othello/2026-03-19/
LOCATION:David H. Koch Theater\, 20 Lincoln Center Plaza\, New York\, NY\, 10023\, United States
CATEGORIES:Ballet,Story ballet
ATTACH;FMTTYPE=image/png:https://enfacemagazine.com/wp-content/uploads/2025/08/ABTOthello-e1754682984448.png
END:VEVENT
END:VCALENDAR