BEGIN:VCALENDAR
VERSION:2.0
PRODID:-//En Face Magazine - ECPv6.15.20//NONSGML v1.0//EN
CALSCALE:GREGORIAN
METHOD:PUBLISH
X-ORIGINAL-URL:https://enfacemagazine.com
X-WR-CALDESC:Events for En Face Magazine
REFRESH-INTERVAL;VALUE=DURATION:PT1H
X-Robots-Tag:noindex
X-PUBLISHED-TTL:PT1H
BEGIN:VTIMEZONE
TZID:America/Los_Angeles
BEGIN:DAYLIGHT
TZOFFSETFROM:-0800
TZOFFSETTO:-0700
TZNAME:PDT
DTSTART:20250309T100000
END:DAYLIGHT
BEGIN:STANDARD
TZOFFSETFROM:-0700
TZOFFSETTO:-0800
TZNAME:PST
DTSTART:20251102T090000
END:STANDARD
BEGIN:DAYLIGHT
TZOFFSETFROM:-0800
TZOFFSETTO:-0700
TZNAME:PDT
DTSTART:20260308T100000
END:DAYLIGHT
BEGIN:STANDARD
TZOFFSETFROM:-0700
TZOFFSETTO:-0800
TZNAME:PST
DTSTART:20261101T090000
END:STANDARD
BEGIN:DAYLIGHT
TZOFFSETFROM:-0800
TZOFFSETTO:-0700
TZNAME:PDT
DTSTART:20270314T100000
END:DAYLIGHT
BEGIN:STANDARD
TZOFFSETFROM:-0700
TZOFFSETTO:-0800
TZNAME:PST
DTSTART:20271107T090000
END:STANDARD
END:VTIMEZONE
BEGIN:VEVENT
DTSTART;TZID=America/Los_Angeles:20260324T193000
DTEND;TZID=America/Los_Angeles:20260324T220000
DTSTAMP:20260420T231335
CREATED:20250808T155017Z
LAST-MODIFIED:20251008T193350Z
UID:10001749-1774380600-1774389600@enfacemagazine.com
SUMMARY:Don Quixote
DESCRIPTION:Grab your castanets and get ready for a whirlwind of fiery dancing and playful wit with ballet’s original romantic comedy\, Don Quixote. Inspired by Cervantes’ classic novel\, this energetic production is packed with passion\, humor\, sensational dance. Additional choreography by Helgi Tomasson and Yuri Possokhov\, Don Quixote is ballet at its most joyful. A family-friendly experience for all ages as exciting for first-time spectators as it is for longtime ballet lovers. \nMadeline Woo as Kitri from Tomasson/Possokhov’s Don Quixote // © Studio Schuller for San Francisco Ballet
URL:https://enfacemagazine.com/event/don-quixote-sfb/2026-03-24/
LOCATION:War Memorial Opera House\, 301 Van Ness Ave\, San Francisco\, CA\, 94102\, United States
CATEGORIES:Ballet,Kid-Friendly,Story ballet
ATTACH;FMTTYPE=image/png:https://enfacemagazine.com/wp-content/uploads/2025/08/SFBDonQ_v2.png
GEO:37.7785¡ N;122.4203¡ W
X-APPLE-STRUCTURED-LOCATION;VALUE=URI;X-ADDRESS=War Memorial Opera House 301 Van Ness Ave San Francisco CA 94102 United States;X-APPLE-RADIUS=500;X-TITLE=301 Van Ness Ave:geo:122.4203¡ W,37.7785¡ N
END:VEVENT
END:VCALENDAR