BEGIN:VCALENDAR
VERSION:2.0
PRODID:-//En Face Magazine - ECPv6.15.20//NONSGML v1.0//EN
CALSCALE:GREGORIAN
METHOD:PUBLISH
X-ORIGINAL-URL:https://enfacemagazine.com
X-WR-CALDESC:Events for En Face Magazine
REFRESH-INTERVAL;VALUE=DURATION:PT1H
X-Robots-Tag:noindex
X-PUBLISHED-TTL:PT1H
BEGIN:VTIMEZONE
TZID:America/New_York
BEGIN:DAYLIGHT
TZOFFSETFROM:-0500
TZOFFSETTO:-0400
TZNAME:EDT
DTSTART:20250309T070000
END:DAYLIGHT
BEGIN:STANDARD
TZOFFSETFROM:-0400
TZOFFSETTO:-0500
TZNAME:EST
DTSTART:20251102T060000
END:STANDARD
BEGIN:DAYLIGHT
TZOFFSETFROM:-0500
TZOFFSETTO:-0400
TZNAME:EDT
DTSTART:20260308T070000
END:DAYLIGHT
BEGIN:STANDARD
TZOFFSETFROM:-0400
TZOFFSETTO:-0500
TZNAME:EST
DTSTART:20261101T060000
END:STANDARD
BEGIN:DAYLIGHT
TZOFFSETFROM:-0500
TZOFFSETTO:-0400
TZNAME:EDT
DTSTART:20270314T070000
END:DAYLIGHT
BEGIN:STANDARD
TZOFFSETFROM:-0400
TZOFFSETTO:-0500
TZNAME:EST
DTSTART:20271107T060000
END:STANDARD
END:VTIMEZONE
BEGIN:VEVENT
DTSTART;TZID=America/New_York:20260423T183000
DTEND;TZID=America/New_York:20260423T203000
DTSTAMP:20260420T144913
CREATED:20250819T152006Z
LAST-MODIFIED:20260213T173047Z
UID:10002079-1776969000-1776976200@enfacemagazine.com
SUMMARY:MUJERES: Women in Motion
DESCRIPTION:Ballet Hispánico’s 56th Season brings together four choreographers whose work approaches dance as a way of thinking about the present. \n\nCassi Abranches’ Trança offers a contemporary take on Brazilian dance capturing the restless energy of daily life. (World Premiere)\nMarianela Boán’s Reactor Antígona reimagines the Greek myth as a living question on female sacrifice\, the passage between worlds\, and the self-imposed structures we live under. (World Premiere)\nAnnabelle Lopez Ochoa’s Línea Recta explores what happens when individuality begins to move collectively through flamenco dance. (Company Repertory)\nStephanie Martinez’s Otra Vez\, Otra Vez\, Otra Vez offers a richly textured reflection on the cyclical patterns of life inspired by Picasso’s Old Guitarist. (New Company Work)\n\nEach work speaks in its own language\, yet all share a common thread: a curiosity about how we move through the world and alongside one another. \nAlso featured is the En Familia / Family Matinee on April 25—a joyful\, one-hour performance with narration and interactive moments\, hosted by Artistic Director & CEO Eduardo Vilaro. All tickets are $25. \nPhoto by Rachel Neville
URL:https://enfacemagazine.com/event/mujeres-women-in-motion/2026-04-23/
LOCATION:New York City Center\, 131 W 55th St\, New York\, NY\, 10019\, United States
CATEGORIES:Ballet
ATTACH;FMTTYPE=image/jpeg:https://enfacemagazine.com/wp-content/uploads/2025/08/BH2026NYCC.jpg
END:VEVENT
END:VCALENDAR