BEGIN:VCALENDAR
VERSION:2.0
PRODID:-//En Face Magazine - ECPv6.15.20//NONSGML v1.0//EN
CALSCALE:GREGORIAN
METHOD:PUBLISH
X-ORIGINAL-URL:https://enfacemagazine.com
X-WR-CALDESC:Events for En Face Magazine
REFRESH-INTERVAL;VALUE=DURATION:PT1H
X-Robots-Tag:noindex
X-PUBLISHED-TTL:PT1H
BEGIN:VTIMEZONE
TZID:America/New_York
BEGIN:DAYLIGHT
TZOFFSETFROM:-0500
TZOFFSETTO:-0400
TZNAME:EDT
DTSTART:20250309T070000
END:DAYLIGHT
BEGIN:STANDARD
TZOFFSETFROM:-0400
TZOFFSETTO:-0500
TZNAME:EST
DTSTART:20251102T060000
END:STANDARD
BEGIN:DAYLIGHT
TZOFFSETFROM:-0500
TZOFFSETTO:-0400
TZNAME:EDT
DTSTART:20260308T070000
END:DAYLIGHT
BEGIN:STANDARD
TZOFFSETFROM:-0400
TZOFFSETTO:-0500
TZNAME:EST
DTSTART:20261101T060000
END:STANDARD
BEGIN:DAYLIGHT
TZOFFSETFROM:-0500
TZOFFSETTO:-0400
TZNAME:EDT
DTSTART:20270314T070000
END:DAYLIGHT
BEGIN:STANDARD
TZOFFSETFROM:-0400
TZOFFSETTO:-0500
TZNAME:EST
DTSTART:20271107T060000
END:STANDARD
END:VTIMEZONE
BEGIN:VTIMEZONE
TZID:America/Los_Angeles
BEGIN:DAYLIGHT
TZOFFSETFROM:-0800
TZOFFSETTO:-0700
TZNAME:PDT
DTSTART:20250309T100000
END:DAYLIGHT
BEGIN:STANDARD
TZOFFSETFROM:-0700
TZOFFSETTO:-0800
TZNAME:PST
DTSTART:20251102T090000
END:STANDARD
BEGIN:DAYLIGHT
TZOFFSETFROM:-0800
TZOFFSETTO:-0700
TZNAME:PDT
DTSTART:20260308T100000
END:DAYLIGHT
BEGIN:STANDARD
TZOFFSETFROM:-0700
TZOFFSETTO:-0800
TZNAME:PST
DTSTART:20261101T090000
END:STANDARD
BEGIN:DAYLIGHT
TZOFFSETFROM:-0800
TZOFFSETTO:-0700
TZNAME:PDT
DTSTART:20270314T100000
END:DAYLIGHT
BEGIN:STANDARD
TZOFFSETFROM:-0700
TZOFFSETTO:-0800
TZNAME:PST
DTSTART:20271107T090000
END:STANDARD
END:VTIMEZONE
BEGIN:VEVENT
DTSTART;TZID=America/New_York:20260516T133000
DTEND;TZID=America/New_York:20260516T160000
DTSTAMP:20260420T214648
CREATED:20250208T203951Z
LAST-MODIFIED:20250807T193013Z
UID:10001419-1778938200-1778947200@enfacemagazine.com
SUMMARY:Spring Experience
DESCRIPTION:The 2026 Spring Experience is made up of three contrasting works that showcase the versatility of Boston Ballet dancers and the varied styles of contemporary ballet storytelling—Jerome Robbins’ Dances at a Gathering\, William Forsythe’s Herman Schmerman\, and Lia Cirio’s After. \nFeatured Image: Viktorina Kapitonova and SeokJoo Kim in Lia Cirio’s After\, photo by Rosalie O’Connor\, courtesy of Boston Ballet.
URL:https://enfacemagazine.com/event/spring-experience-2026/2026-05-16/1/
LOCATION:Citizens Opera House\, 539 Washington St\, Boston\, MA\, _02111\, United States
CATEGORIES:Ballet
ATTACH;FMTTYPE=image/jpeg:https://enfacemagazine.com/wp-content/uploads/2025/04/241024_boston_5112-e1743520419376.jpg
GEO:42.3540¡ N;71.0623¡ W
X-APPLE-STRUCTURED-LOCATION;VALUE=URI;X-ADDRESS=Citizens Opera House 539 Washington St Boston MA _02111 United States;X-APPLE-RADIUS=500;X-TITLE=539 Washington St:geo:71.0623¡ W,42.3540¡ N
END:VEVENT
BEGIN:VEVENT
DTSTART;TZID=America/Los_Angeles:20260516T140000
DTEND;TZID=America/Los_Angeles:20260516T163000
DTSTAMP:20260420T214648
CREATED:20250813T135744Z
LAST-MODIFIED:20250813T135744Z
UID:10002076-1778940000-1778949000@enfacemagazine.com
SUMMARY:Giselle
DESCRIPTION:New Ballet presents Giselle in a world premiere re-staging by Artistic Director Dalia Rawson\, offering a fresh interpretation rooted in the ballet’s original choreography. A cornerstone of the Romantic ballet era since its 1841 debut\, Giselle tells the tragic story of a young peasant girl who dies of a broken heart after being deceived by a nobleman. In the ballet’s chilling second act\, Giselle joins the Wilis—ghostly spirits of betrayed young women—who rise at night to exact revenge on unsuspecting men. With its unforgettable blend of tender emotion\, supernatural beauty\, and technical mastery\, Giselle remains one of the most iconic and enduring works in the classical ballet repertoire. Rawson’s new staging honors this legacy while bringing renewed depth and poignancy to its haunting themes.
URL:https://enfacemagazine.com/event/new-ballet-giselle/2026-05-16/1/
LOCATION:Hammer Theatre Center\, 101 Paseo de San Antonio\, San Jose\, CA\, 95113\, United States
CATEGORIES:Ballet,Story ballet
ATTACH;FMTTYPE=image/jpeg:https://enfacemagazine.com/wp-content/uploads/2025/08/Giselle-by-Tony-Abello-e1755093442389.jpg
END:VEVENT
BEGIN:VEVENT
DTSTART;TZID=America/Los_Angeles:20260516T190000
DTEND;TZID=America/Los_Angeles:20260516T213000
DTSTAMP:20260420T214648
CREATED:20250813T135744Z
LAST-MODIFIED:20250813T135744Z
UID:10002077-1778958000-1778967000@enfacemagazine.com
SUMMARY:Giselle
DESCRIPTION:New Ballet presents Giselle in a world premiere re-staging by Artistic Director Dalia Rawson\, offering a fresh interpretation rooted in the ballet’s original choreography. A cornerstone of the Romantic ballet era since its 1841 debut\, Giselle tells the tragic story of a young peasant girl who dies of a broken heart after being deceived by a nobleman. In the ballet’s chilling second act\, Giselle joins the Wilis—ghostly spirits of betrayed young women—who rise at night to exact revenge on unsuspecting men. With its unforgettable blend of tender emotion\, supernatural beauty\, and technical mastery\, Giselle remains one of the most iconic and enduring works in the classical ballet repertoire. Rawson’s new staging honors this legacy while bringing renewed depth and poignancy to its haunting themes.
URL:https://enfacemagazine.com/event/new-ballet-giselle/2026-05-16/2/
LOCATION:Hammer Theatre Center\, 101 Paseo de San Antonio\, San Jose\, CA\, 95113\, United States
CATEGORIES:Ballet,Story ballet
ATTACH;FMTTYPE=image/jpeg:https://enfacemagazine.com/wp-content/uploads/2025/08/Giselle-by-Tony-Abello-e1755093442389.jpg
END:VEVENT
BEGIN:VEVENT
DTSTART;TZID=America/New_York:20260516T193000
DTEND;TZID=America/New_York:20260516T220000
DTSTAMP:20260420T214648
CREATED:20250208T203951Z
LAST-MODIFIED:20250807T193013Z
UID:10001420-1778959800-1778968800@enfacemagazine.com
SUMMARY:Spring Experience
DESCRIPTION:The 2026 Spring Experience is made up of three contrasting works that showcase the versatility of Boston Ballet dancers and the varied styles of contemporary ballet storytelling—Jerome Robbins’ Dances at a Gathering\, William Forsythe’s Herman Schmerman\, and Lia Cirio’s After. \nFeatured Image: Viktorina Kapitonova and SeokJoo Kim in Lia Cirio’s After\, photo by Rosalie O’Connor\, courtesy of Boston Ballet.
URL:https://enfacemagazine.com/event/spring-experience-2026/2026-05-16/2/
LOCATION:Citizens Opera House\, 539 Washington St\, Boston\, MA\, _02111\, United States
CATEGORIES:Ballet
ATTACH;FMTTYPE=image/jpeg:https://enfacemagazine.com/wp-content/uploads/2025/04/241024_boston_5112-e1743520419376.jpg
GEO:42.3540¡ N;71.0623¡ W
X-APPLE-STRUCTURED-LOCATION;VALUE=URI;X-ADDRESS=Citizens Opera House 539 Washington St Boston MA _02111 United States;X-APPLE-RADIUS=500;X-TITLE=539 Washington St:geo:71.0623¡ W,42.3540¡ N
END:VEVENT
END:VCALENDAR