BEGIN:VCALENDAR
VERSION:2.0
PRODID:-//En Face Magazine - ECPv6.15.20//NONSGML v1.0//EN
CALSCALE:GREGORIAN
METHOD:PUBLISH
X-ORIGINAL-URL:https://enfacemagazine.com
X-WR-CALDESC:Events for En Face Magazine
REFRESH-INTERVAL;VALUE=DURATION:PT1H
X-Robots-Tag:noindex
X-PUBLISHED-TTL:PT1H
BEGIN:VTIMEZONE
TZID:America/New_York
BEGIN:DAYLIGHT
TZOFFSETFROM:-0500
TZOFFSETTO:-0400
TZNAME:EDT
DTSTART:20250309T070000
END:DAYLIGHT
BEGIN:STANDARD
TZOFFSETFROM:-0400
TZOFFSETTO:-0500
TZNAME:EST
DTSTART:20251102T060000
END:STANDARD
BEGIN:DAYLIGHT
TZOFFSETFROM:-0500
TZOFFSETTO:-0400
TZNAME:EDT
DTSTART:20260308T070000
END:DAYLIGHT
BEGIN:STANDARD
TZOFFSETFROM:-0400
TZOFFSETTO:-0500
TZNAME:EST
DTSTART:20261101T060000
END:STANDARD
BEGIN:DAYLIGHT
TZOFFSETFROM:-0500
TZOFFSETTO:-0400
TZNAME:EDT
DTSTART:20270314T070000
END:DAYLIGHT
BEGIN:STANDARD
TZOFFSETFROM:-0400
TZOFFSETTO:-0500
TZNAME:EST
DTSTART:20271107T060000
END:STANDARD
END:VTIMEZONE
BEGIN:VTIMEZONE
TZID:America/Los_Angeles
BEGIN:DAYLIGHT
TZOFFSETFROM:-0800
TZOFFSETTO:-0700
TZNAME:PDT
DTSTART:20250309T100000
END:DAYLIGHT
BEGIN:STANDARD
TZOFFSETFROM:-0700
TZOFFSETTO:-0800
TZNAME:PST
DTSTART:20251102T090000
END:STANDARD
BEGIN:DAYLIGHT
TZOFFSETFROM:-0800
TZOFFSETTO:-0700
TZNAME:PDT
DTSTART:20260308T100000
END:DAYLIGHT
BEGIN:STANDARD
TZOFFSETFROM:-0700
TZOFFSETTO:-0800
TZNAME:PST
DTSTART:20261101T090000
END:STANDARD
BEGIN:DAYLIGHT
TZOFFSETFROM:-0800
TZOFFSETTO:-0700
TZNAME:PDT
DTSTART:20270314T100000
END:DAYLIGHT
BEGIN:STANDARD
TZOFFSETFROM:-0700
TZOFFSETTO:-0800
TZNAME:PST
DTSTART:20271107T090000
END:STANDARD
END:VTIMEZONE
BEGIN:VEVENT
DTSTART;TZID=America/New_York:20260531T133000
DTEND;TZID=America/New_York:20260531T160000
DTSTAMP:20260421T015100
CREATED:20250208T204517Z
LAST-MODIFIED:20250807T192936Z
UID:10001426-1780234200-1780243200@enfacemagazine.com
SUMMARY:The Sleeping Beauty
DESCRIPTION:Deep in a century-long slumber\, a beautiful princess and her kingdom await the power of true love’s kiss. The Sleeping Beauty enchants with a host of magical characters—from the deliciously wicked fairy Carabosse and the valiant Prince Desire\, to the benevolent woodland fairies and hilarious Puss in Boots. This iconic production\, with its sumptuous sets and costumes\, will transport you to a world of beauty. \nFeatured Image: Ji Young Chae and Jeffrey Cirio in Marius Petipa’s The Sleeping Beauty\, photo by Liza Voll\, courtesy of Boston Ballet.
URL:https://enfacemagazine.com/event/boston-the-sleeping-beauty/2026-05-31/1/
LOCATION:Citizens Opera House\, 539 Washington St\, Boston\, MA\, _02111\, United States
CATEGORIES:Ballet,Story ballet
ATTACH;FMTTYPE=image/jpeg:https://enfacemagazine.com/wp-content/uploads/2025/04/6489-May2023-LizaVollPhotography-e1744141631789.jpg
GEO:42.3540¡ N;71.0623¡ W
X-APPLE-STRUCTURED-LOCATION;VALUE=URI;X-ADDRESS=Citizens Opera House 539 Washington St Boston MA _02111 United States;X-APPLE-RADIUS=500;X-TITLE=539 Washington St:geo:71.0623¡ W,42.3540¡ N
END:VEVENT
BEGIN:VEVENT
DTSTART;TZID=America/Los_Angeles:20260531T140000
DTEND;TZID=America/Los_Angeles:20260531T160000
DTSTAMP:20260421T015100
CREATED:20250812T135347Z
LAST-MODIFIED:20251009T201302Z
UID:10002139-1780236000-1780243200@enfacemagazine.com
SUMMARY:Beer & Ballet
DESCRIPTION:Sacramento favorite Beer & Ballet returns! Enjoy this unique performance\, featuring new choreographic creations by our own Sacramento Ballet Company Dancers. Each ticket includes a complimentary glass of beer\, wine\, or non-alcoholic beverage\, making for a delightful evening. Sponsored by Bike Dog Brewing Company\, and Old Sugar Mill Wineries.
URL:https://enfacemagazine.com/event/beer-ballet-2026/2026-05-31/
LOCATION:CLARA Studios\, 2420 N St #110\, Sacramento\, CA\, 95816\, United States
CATEGORIES:Ballet
ATTACH;FMTTYPE=image/png:https://enfacemagazine.com/wp-content/uploads/2025/08/SB_BeerBallet_10.9.25.png
END:VEVENT
BEGIN:VEVENT
DTSTART;TZID=America/New_York:20260531T193000
DTEND;TZID=America/New_York:20260531T220000
DTSTAMP:20260421T015100
CREATED:20250208T204517Z
LAST-MODIFIED:20250807T192936Z
UID:10001427-1780255800-1780264800@enfacemagazine.com
SUMMARY:The Sleeping Beauty
DESCRIPTION:Deep in a century-long slumber\, a beautiful princess and her kingdom await the power of true love’s kiss. The Sleeping Beauty enchants with a host of magical characters—from the deliciously wicked fairy Carabosse and the valiant Prince Desire\, to the benevolent woodland fairies and hilarious Puss in Boots. This iconic production\, with its sumptuous sets and costumes\, will transport you to a world of beauty. \nFeatured Image: Ji Young Chae and Jeffrey Cirio in Marius Petipa’s The Sleeping Beauty\, photo by Liza Voll\, courtesy of Boston Ballet.
URL:https://enfacemagazine.com/event/boston-the-sleeping-beauty/2026-05-31/2/
LOCATION:Citizens Opera House\, 539 Washington St\, Boston\, MA\, _02111\, United States
CATEGORIES:Ballet,Story ballet
ATTACH;FMTTYPE=image/jpeg:https://enfacemagazine.com/wp-content/uploads/2025/04/6489-May2023-LizaVollPhotography-e1744141631789.jpg
GEO:42.3540¡ N;71.0623¡ W
X-APPLE-STRUCTURED-LOCATION;VALUE=URI;X-ADDRESS=Citizens Opera House 539 Washington St Boston MA _02111 United States;X-APPLE-RADIUS=500;X-TITLE=539 Washington St:geo:71.0623¡ W,42.3540¡ N
END:VEVENT
END:VCALENDAR