BEGIN:VCALENDAR
VERSION:2.0
PRODID:-//En Face Magazine - ECPv6.15.20//NONSGML v1.0//EN
CALSCALE:GREGORIAN
METHOD:PUBLISH
X-ORIGINAL-URL:https://enfacemagazine.com
X-WR-CALDESC:Events for En Face Magazine
REFRESH-INTERVAL;VALUE=DURATION:PT1H
X-Robots-Tag:noindex
X-PUBLISHED-TTL:PT1H
BEGIN:VTIMEZONE
TZID:America/New_York
BEGIN:DAYLIGHT
TZOFFSETFROM:-0500
TZOFFSETTO:-0400
TZNAME:EDT
DTSTART:20250309T070000
END:DAYLIGHT
BEGIN:STANDARD
TZOFFSETFROM:-0400
TZOFFSETTO:-0500
TZNAME:EST
DTSTART:20251102T060000
END:STANDARD
BEGIN:DAYLIGHT
TZOFFSETFROM:-0500
TZOFFSETTO:-0400
TZNAME:EDT
DTSTART:20260308T070000
END:DAYLIGHT
BEGIN:STANDARD
TZOFFSETFROM:-0400
TZOFFSETTO:-0500
TZNAME:EST
DTSTART:20261101T060000
END:STANDARD
BEGIN:DAYLIGHT
TZOFFSETFROM:-0500
TZOFFSETTO:-0400
TZNAME:EDT
DTSTART:20270314T070000
END:DAYLIGHT
BEGIN:STANDARD
TZOFFSETFROM:-0400
TZOFFSETTO:-0500
TZNAME:EST
DTSTART:20271107T060000
END:STANDARD
END:VTIMEZONE
BEGIN:VEVENT
DTSTART;TZID=America/New_York:20260630T193000
DTEND;TZID=America/New_York:20260630T220000
DTSTAMP:20260420T231304
CREATED:20251212T181219Z
LAST-MODIFIED:20251212T181219Z
UID:10002168-1782847800-1782856800@enfacemagazine.com
SUMMARY:Don Quixote
DESCRIPTION:Based on Miguel de Cervantes’ sweeping tale of romance and chivalry\, this classic ballet features the misadventures of the titular knight-errant of la Mancha and his devoted squire\, Sancho Panza. These beloved characters are positively heroic when it comes to aiding the spirited maiden Kitri and her charming amour. From the bravura dancing of the fiery toreador Espada to the colorful caravan of gypsies\, the stage explodes with one show-stopping performance after another in this feast of choreographic fireworks. \nSkylar Brandt and Herman Cornejo in Don Quixote. Photo: Rosalie O’Connor Photography.
URL:https://enfacemagazine.com/event/abt-don-quixote/2026-06-30/
LOCATION:Metropolitan Opera House\, 30 Lincoln Center Plaza\, New York\, NY\, 10023\, United States
CATEGORIES:Ballet,Story ballet
ATTACH;FMTTYPE=image/png:https://enfacemagazine.com/wp-content/uploads/2025/12/ABTDonQ-e1765563115834.png
END:VEVENT
END:VCALENDAR