BEGIN:VCALENDAR
VERSION:2.0
PRODID:-//En Face Magazine - ECPv6.15.20//NONSGML v1.0//EN
CALSCALE:GREGORIAN
METHOD:PUBLISH
X-ORIGINAL-URL:https://enfacemagazine.com
X-WR-CALDESC:Events for En Face Magazine
REFRESH-INTERVAL;VALUE=DURATION:PT1H
X-Robots-Tag:noindex
X-PUBLISHED-TTL:PT1H
BEGIN:VTIMEZONE
TZID:America/New_York
BEGIN:DAYLIGHT
TZOFFSETFROM:-0500
TZOFFSETTO:-0400
TZNAME:EDT
DTSTART:20250309T070000
END:DAYLIGHT
BEGIN:STANDARD
TZOFFSETFROM:-0400
TZOFFSETTO:-0500
TZNAME:EST
DTSTART:20251102T060000
END:STANDARD
BEGIN:DAYLIGHT
TZOFFSETFROM:-0500
TZOFFSETTO:-0400
TZNAME:EDT
DTSTART:20260308T070000
END:DAYLIGHT
BEGIN:STANDARD
TZOFFSETFROM:-0400
TZOFFSETTO:-0500
TZNAME:EST
DTSTART:20261101T060000
END:STANDARD
BEGIN:DAYLIGHT
TZOFFSETFROM:-0500
TZOFFSETTO:-0400
TZNAME:EDT
DTSTART:20270314T070000
END:DAYLIGHT
BEGIN:STANDARD
TZOFFSETFROM:-0400
TZOFFSETTO:-0500
TZNAME:EST
DTSTART:20271107T060000
END:STANDARD
END:VTIMEZONE
BEGIN:VEVENT
DTSTART;TZID=America/New_York:20260710T140000
DTEND;TZID=America/New_York:20260710T163000
DTSTAMP:20260421T073157
CREATED:20251118T194804Z
LAST-MODIFIED:20251118T213106Z
UID:10002148-1783692000-1783701000@enfacemagazine.com
SUMMARY:Sylvia
DESCRIPTION:In this Arcadian love story\, set in mythical Greece amid a realm of otherworldly creatures and verdant forests\, the deity Eros intervenes to unite the nymph Sylvia with the lovelorn shepherd Aminta. The splendid score by Léo Delibes was so admired by Tchaikovsky that he purportedly declared: had he known the music existed at the time\, he would never have composed Swan Lake!
URL:https://enfacemagazine.com/event/abt-sylvia/2026-07-10/1/
LOCATION:Metropolitan Opera House\, 30 Lincoln Center Plaza\, New York\, NY\, 10023\, United States
CATEGORIES:Ballet,Story ballet
ATTACH;FMTTYPE=image/jpeg:https://enfacemagazine.com/wp-content/uploads/2024/12/ABTSylvia-e1735055779570.jpg
END:VEVENT
BEGIN:VEVENT
DTSTART;TZID=America/New_York:20260710T193000
DTEND;TZID=America/New_York:20260710T220000
DTSTAMP:20260421T073157
CREATED:20251118T194804Z
LAST-MODIFIED:20251118T213106Z
UID:10002149-1783711800-1783720800@enfacemagazine.com
SUMMARY:Sylvia
DESCRIPTION:In this Arcadian love story\, set in mythical Greece amid a realm of otherworldly creatures and verdant forests\, the deity Eros intervenes to unite the nymph Sylvia with the lovelorn shepherd Aminta. The splendid score by Léo Delibes was so admired by Tchaikovsky that he purportedly declared: had he known the music existed at the time\, he would never have composed Swan Lake!
URL:https://enfacemagazine.com/event/abt-sylvia/2026-07-10/2/
LOCATION:Metropolitan Opera House\, 30 Lincoln Center Plaza\, New York\, NY\, 10023\, United States
CATEGORIES:Ballet,Story ballet
ATTACH;FMTTYPE=image/jpeg:https://enfacemagazine.com/wp-content/uploads/2024/12/ABTSylvia-e1735055779570.jpg
END:VEVENT
END:VCALENDAR