BEGIN:VCALENDAR
VERSION:2.0
PRODID:-//En Face Magazine - ECPv6.15.20//NONSGML v1.0//EN
CALSCALE:GREGORIAN
METHOD:PUBLISH
X-ORIGINAL-URL:https://enfacemagazine.com
X-WR-CALDESC:Events for En Face Magazine
REFRESH-INTERVAL;VALUE=DURATION:PT1H
X-Robots-Tag:noindex
X-PUBLISHED-TTL:PT1H
BEGIN:VTIMEZONE
TZID:America/New_York
BEGIN:DAYLIGHT
TZOFFSETFROM:-0500
TZOFFSETTO:-0400
TZNAME:EDT
DTSTART:20240310T070000
END:DAYLIGHT
BEGIN:STANDARD
TZOFFSETFROM:-0400
TZOFFSETTO:-0500
TZNAME:EST
DTSTART:20241103T060000
END:STANDARD
BEGIN:DAYLIGHT
TZOFFSETFROM:-0500
TZOFFSETTO:-0400
TZNAME:EDT
DTSTART:20250309T070000
END:DAYLIGHT
BEGIN:STANDARD
TZOFFSETFROM:-0400
TZOFFSETTO:-0500
TZNAME:EST
DTSTART:20251102T060000
END:STANDARD
BEGIN:DAYLIGHT
TZOFFSETFROM:-0500
TZOFFSETTO:-0400
TZNAME:EDT
DTSTART:20260308T070000
END:DAYLIGHT
BEGIN:STANDARD
TZOFFSETFROM:-0400
TZOFFSETTO:-0500
TZNAME:EST
DTSTART:20261101T060000
END:STANDARD
END:VTIMEZONE
BEGIN:VEVENT
DTSTART;TZID=America/New_York:20250204T193000
DTEND;TZID=America/New_York:20250204T220000
DTSTAMP:20260425T155639
CREATED:20240731T222251Z
LAST-MODIFIED:20250813T140753Z
UID:10000864-1738697400-1738706400@enfacemagazine.com
SUMMARY:All Stravinsky
DESCRIPTION:A program devoted to works set to music by the Russian composer Igor Stravinsky is highlighted by two unique Jerome Robbins gems: The Cage\, which depicts a swarm of insect-like female creatures descending upon their unwitting male prey\, and Concertino\, a trio that was originally performed as the third section of Robbins’ Four Chamber Works. Balanchine’s Danses Concertantes\, a spirited ballet with richly detailed costumes and hints of commedia dell’arte-inspired humor\, opens the program\, and his classic leotard ballet Stravinsky Violin Concerto\, one of Balanchine’s greatest achievements\, brings the affair to a rousing finish.
URL:https://enfacemagazine.com/event/all-stravinsky/2025-02-04/
LOCATION:David H. Koch Theater\, 20 Lincoln Center Plaza\, New York\, NY\, 10023\, United States
CATEGORIES:Ballet
ATTACH;FMTTYPE=image/webp:https://enfacemagazine.com/wp-content/uploads/2024/07/NYCB_AllStravinsky-e1724356212600.webp
END:VEVENT
END:VCALENDAR