BEGIN:VCALENDAR
VERSION:2.0
PRODID:-//En Face Magazine - ECPv6.15.20//NONSGML v1.0//EN
CALSCALE:GREGORIAN
METHOD:PUBLISH
X-WR-CALNAME:En Face Magazine
X-ORIGINAL-URL:https://enfacemagazine.com
X-WR-CALDESC:Events for En Face Magazine
REFRESH-INTERVAL;VALUE=DURATION:PT1H
X-Robots-Tag:noindex
X-PUBLISHED-TTL:PT1H
BEGIN:VTIMEZONE
TZID:America/Denver
BEGIN:DAYLIGHT
TZOFFSETFROM:-0700
TZOFFSETTO:-0600
TZNAME:MDT
DTSTART:20240310T090000
END:DAYLIGHT
BEGIN:STANDARD
TZOFFSETFROM:-0600
TZOFFSETTO:-0700
TZNAME:MST
DTSTART:20241103T080000
END:STANDARD
BEGIN:DAYLIGHT
TZOFFSETFROM:-0700
TZOFFSETTO:-0600
TZNAME:MDT
DTSTART:20250309T090000
END:DAYLIGHT
BEGIN:STANDARD
TZOFFSETFROM:-0600
TZOFFSETTO:-0700
TZNAME:MST
DTSTART:20251102T080000
END:STANDARD
BEGIN:DAYLIGHT
TZOFFSETFROM:-0700
TZOFFSETTO:-0600
TZNAME:MDT
DTSTART:20260308T090000
END:DAYLIGHT
BEGIN:STANDARD
TZOFFSETFROM:-0600
TZOFFSETTO:-0700
TZNAME:MST
DTSTART:20261101T080000
END:STANDARD
END:VTIMEZONE
BEGIN:VTIMEZONE
TZID:America/New_York
BEGIN:DAYLIGHT
TZOFFSETFROM:-0500
TZOFFSETTO:-0400
TZNAME:EDT
DTSTART:20240310T070000
END:DAYLIGHT
BEGIN:STANDARD
TZOFFSETFROM:-0400
TZOFFSETTO:-0500
TZNAME:EST
DTSTART:20241103T060000
END:STANDARD
BEGIN:DAYLIGHT
TZOFFSETFROM:-0500
TZOFFSETTO:-0400
TZNAME:EDT
DTSTART:20250309T070000
END:DAYLIGHT
BEGIN:STANDARD
TZOFFSETFROM:-0400
TZOFFSETTO:-0500
TZNAME:EST
DTSTART:20251102T060000
END:STANDARD
BEGIN:DAYLIGHT
TZOFFSETFROM:-0500
TZOFFSETTO:-0400
TZNAME:EDT
DTSTART:20260308T070000
END:DAYLIGHT
BEGIN:STANDARD
TZOFFSETFROM:-0400
TZOFFSETTO:-0500
TZNAME:EST
DTSTART:20261101T060000
END:STANDARD
END:VTIMEZONE
BEGIN:VTIMEZONE
TZID:America/Los_Angeles
BEGIN:DAYLIGHT
TZOFFSETFROM:-0800
TZOFFSETTO:-0700
TZNAME:PDT
DTSTART:20240310T100000
END:DAYLIGHT
BEGIN:STANDARD
TZOFFSETFROM:-0700
TZOFFSETTO:-0800
TZNAME:PST
DTSTART:20241103T090000
END:STANDARD
BEGIN:DAYLIGHT
TZOFFSETFROM:-0800
TZOFFSETTO:-0700
TZNAME:PDT
DTSTART:20250309T100000
END:DAYLIGHT
BEGIN:STANDARD
TZOFFSETFROM:-0700
TZOFFSETTO:-0800
TZNAME:PST
DTSTART:20251102T090000
END:STANDARD
BEGIN:DAYLIGHT
TZOFFSETFROM:-0800
TZOFFSETTO:-0700
TZNAME:PDT
DTSTART:20260308T100000
END:DAYLIGHT
BEGIN:STANDARD
TZOFFSETFROM:-0700
TZOFFSETTO:-0800
TZNAME:PST
DTSTART:20261101T090000
END:STANDARD
END:VTIMEZONE
BEGIN:VEVENT
DTSTART;TZID=America/Denver:20250207T193000
DTEND;TZID=America/Denver:20250207T213000
DTSTAMP:20260425T220114
CREATED:20240731T220822Z
LAST-MODIFIED:20250813T140752Z
UID:10000279-1738956600-1738963800@enfacemagazine.com
SUMMARY:Anthology
DESCRIPTION:Often an audience favorite\, Anthology offers rich variety in a collection of short works. This season\, the common thread in this program is one of distinctly American influences. In different ways\, each of these works exemplify the many facets of American dance as we know it today. \nWe are excited to revive Six Figures\, created by company soloist Ashley Baker during our digital season in 2021. Ashley created this work for the screen and is excited to reimagine it for a live audience. \nCreated for the 50th anniversary celebration of the Lar Lubovitch Dance Company\, Something About Night offers poignant scenes of dancers sharing moments of refuge in an increasingly loud world. We are thrilled to have this work return to our stage this season. \nCherice Barton is a new voice in Ballet Idaho’s repertoire\, but she is anything but new to the world of choreography. Barton’s experience ranges from concert dance to film\, Broadway\, and television. Based in Los Angeles\, she has worked with famous figures like Katy Perry and George Lucas\, and we are thrilled to see what Cherice creates in Boise with our talented artists. \nAlso back by popular demand\, we will close our program with the incredible Extremely Close\, choreographed by Alejandro Cerrudo featuring music by the iconic American composer\, Phillip Glass. One of Cerrudo’s most performed works\, this work has proven to be an enduring classic of the contemporary dance cannon\, leaving the audience captivated with its hypnotic drama. \nPreview the Magazine >>
URL:https://enfacemagazine.com/event/anthology/2025-02-07/
LOCATION:Boise State University SPEC\, 1800 W University Dr\, Boise\, ID\, 83706\, United States
CATEGORIES:Ballet
ATTACH;FMTTYPE=image/jpeg:https://enfacemagazine.com/wp-content/uploads/2024/07/anth-featured-Image-1-980x551-1.jpg
END:VEVENT
BEGIN:VEVENT
DTSTART;TZID=America/New_York:20250207T193000
DTEND;TZID=America/New_York:20250207T220000
DTSTAMP:20260425T220114
CREATED:20240731T222318Z
LAST-MODIFIED:20250813T140752Z
UID:10000896-1738956600-1738965600@enfacemagazine.com
SUMMARY:Innovators & Icons
DESCRIPTION:Jerome Robbins’ intimate knowledge of Chopin’s piano works illuminates the delicate beauty of In the Night\, set to the composer’s nocturnes and featuring the romantic interplay among three couples set against a backdrop evoking a starry night sky. Balanchine’s ever-popular leotard ballet Symphony in Three Movements ranks among the most exhilarating dances he created to the music of Stravinsky\, with its driving energy matching the fierce pulse of the score. Rounding out the evening is a world premiere from Artist in Residence Alexei Ratmansky\, his eighth dance commissioned by the Company.
URL:https://enfacemagazine.com/event/innovators-icons/2025-02-07/
LOCATION:David H. Koch Theater\, 20 Lincoln Center Plaza\, New York\, NY\, 10023\, United States
CATEGORIES:Ballet
ATTACH;FMTTYPE=image/png:https://enfacemagazine.com/wp-content/uploads/2024/07/NYCB_InnIcons_v2.png
END:VEVENT
BEGIN:VEVENT
DTSTART;TZID=America/Los_Angeles:20250207T193000
DTEND;TZID=America/Los_Angeles:20250207T223000
DTSTAMP:20260425T220114
CREATED:20240731T221519Z
LAST-MODIFIED:20250813T140752Z
UID:10000286-1738956600-1738967400@enfacemagazine.com
SUMMARY:The Sleeping Beauty
DESCRIPTION:This brand-new production of The Sleeping Beauty promises to enchant with scenic design by glass artist Preston Singletary and costumes by Paul Tazewell (Hamilton\, West Side Story\, PNB’s Swan Lake). \nStep into a world of magic and monarchs in this historically-informed re-imagining of a classic tale. Walk with Princess Aurora through a Pacific Northwest–inspired fairyland\, as she fulfills her destiny in a ballet full of adventure\, dreams\, and love. \nPreview the Magazine >>
URL:https://enfacemagazine.com/event/the-sleeping-beauty-3/2025-02-07/
LOCATION:McCaw Hall\, 321 Mercer St\, Seattle\, WA\, 98109\, United States
CATEGORIES:Ballet,Story ballet
ATTACH;FMTTYPE=image/png:https://enfacemagazine.com/wp-content/uploads/2024/07/pnb-textsleepingbeauty.png
END:VEVENT
BEGIN:VEVENT
DTSTART;TZID=America/Los_Angeles:20250207T200000
DTEND;TZID=America/Los_Angeles:20250207T223000
DTSTAMP:20260425T220114
CREATED:20250115T184905Z
LAST-MODIFIED:20250813T140752Z
UID:10001134-1738958400-1738967400@enfacemagazine.com
SUMMARY:Twyla Tharp Dance Diamond Jubilee
DESCRIPTION:A titan of American dance\, Twyla Tharp celebrates 60 years crafting strikingly original\, thoroughly accessible\, and utterly uncategorizable works with the West Coast premiere of SLACKTIDE\, a new collaboration with composer Philip Glass\, the artists’ first partnership in nearly 40 years. Performed live by Chicago’s Grammy-winning Third Coast Percussion ensemble\, the score is based on Glass’ 1993–99 work Aguas da Amazonia and reflects on the crisis of climate change. Tharp also revives Diabelli\, her 1998 triumph that challenges 11 dancers and a pianist to embody Beethoven’s endlessly inventive Diabelli Variations (performed live by pianist Vladimir Rumyantsev). \n“Tharp is America’s crossover dance queen… She melds classical ballet with modern dance\, avant-garde experiment with Broadway pizzazz\, technical rigor with off-the-cuff attitude\, uptown glamor with downtown grit.” —The Guardian
URL:https://enfacemagazine.com/event/twyla-tharp-dance-diamond-jubilee/2025-02-07/
LOCATION:Zellerbach Hall\, 101 Zellerbach Hall\, Berkeley\, CA\, 94720\, United States
CATEGORIES:Ballet
ATTACH;FMTTYPE=image/jpeg:https://enfacemagazine.com/wp-content/uploads/2025/01/twyla-tharp-dance-diamond-jubilee-2425-2-1920x900-1-e1736967131847.jpg
END:VEVENT
END:VCALENDAR