BEGIN:VCALENDAR
VERSION:2.0
PRODID:-//En Face Magazine - ECPv6.15.20//NONSGML v1.0//EN
CALSCALE:GREGORIAN
METHOD:PUBLISH
X-ORIGINAL-URL:https://enfacemagazine.com
X-WR-CALDESC:Events for En Face Magazine
REFRESH-INTERVAL;VALUE=DURATION:PT1H
X-Robots-Tag:noindex
X-PUBLISHED-TTL:PT1H
BEGIN:VTIMEZONE
TZID:America/Los_Angeles
BEGIN:DAYLIGHT
TZOFFSETFROM:-0800
TZOFFSETTO:-0700
TZNAME:PDT
DTSTART:20240310T100000
END:DAYLIGHT
BEGIN:STANDARD
TZOFFSETFROM:-0700
TZOFFSETTO:-0800
TZNAME:PST
DTSTART:20241103T090000
END:STANDARD
BEGIN:DAYLIGHT
TZOFFSETFROM:-0800
TZOFFSETTO:-0700
TZNAME:PDT
DTSTART:20250309T100000
END:DAYLIGHT
BEGIN:STANDARD
TZOFFSETFROM:-0700
TZOFFSETTO:-0800
TZNAME:PST
DTSTART:20251102T090000
END:STANDARD
BEGIN:DAYLIGHT
TZOFFSETFROM:-0800
TZOFFSETTO:-0700
TZNAME:PDT
DTSTART:20260308T100000
END:DAYLIGHT
BEGIN:STANDARD
TZOFFSETFROM:-0700
TZOFFSETTO:-0800
TZNAME:PST
DTSTART:20261101T090000
END:STANDARD
END:VTIMEZONE
BEGIN:VTIMEZONE
TZID:America/New_York
BEGIN:DAYLIGHT
TZOFFSETFROM:-0500
TZOFFSETTO:-0400
TZNAME:EDT
DTSTART:20240310T070000
END:DAYLIGHT
BEGIN:STANDARD
TZOFFSETFROM:-0400
TZOFFSETTO:-0500
TZNAME:EST
DTSTART:20241103T060000
END:STANDARD
BEGIN:DAYLIGHT
TZOFFSETFROM:-0500
TZOFFSETTO:-0400
TZNAME:EDT
DTSTART:20250309T070000
END:DAYLIGHT
BEGIN:STANDARD
TZOFFSETFROM:-0400
TZOFFSETTO:-0500
TZNAME:EST
DTSTART:20251102T060000
END:STANDARD
BEGIN:DAYLIGHT
TZOFFSETFROM:-0500
TZOFFSETTO:-0400
TZNAME:EDT
DTSTART:20260308T070000
END:DAYLIGHT
BEGIN:STANDARD
TZOFFSETFROM:-0400
TZOFFSETTO:-0500
TZNAME:EST
DTSTART:20261101T060000
END:STANDARD
END:VTIMEZONE
BEGIN:VEVENT
DTSTART;TZID=America/Los_Angeles:20250218T193000
DTEND;TZID=America/Los_Angeles:20250218T220000
DTSTAMP:20260425T202836
CREATED:20240731T221915Z
LAST-MODIFIED:20250813T140727Z
UID:10000277-1739907000-1739916000@enfacemagazine.com
SUMMARY:Cool Britannia
DESCRIPTION:Known as the cultural renaissance that swept through Britain in the late 1990s and early 2000s\, Cool Britannia celebrated innovation\, creativity\, and a sense of optimism. So too does this program\, offering a contemporary take on tradition and pushing the boundaries of artistic expression with an evening recognizing the new wave of British voices in dance. Longtime SF Ballet fans will welcome the return of Wheeldon’s luminous Within the Golden Hour and McGregor’s inventive Chroma\, set to an original score from The White Stripes’ Jack White III and Joby Talbot\, and performed by our Grammy Award–winning Orchestra. The highly anticipated North American premiere of Akram Khan’s Dust\, a one-act exploration of the human experience amidst the haunting backdrop of the aftermath of World War I\, closes the evening. \nPreview the Magazine >>
URL:https://enfacemagazine.com/event/cool-britannia/2025-02-18/
LOCATION:War Memorial Opera House\, 301 Van Ness Ave\, San Francisco\, CA\, 94102\, United States
CATEGORIES:Ballet
ATTACH;FMTTYPE=image/jpeg:https://enfacemagazine.com/wp-content/uploads/2024/07/Cool_Britannia_A_Final_Resized-e1736279943202.jpg
END:VEVENT
BEGIN:VEVENT
DTSTART;TZID=America/New_York:20250218T193000
DTEND;TZID=America/New_York:20250218T220000
DTSTAMP:20260425T202836
CREATED:20240731T222317Z
LAST-MODIFIED:20250813T140752Z
UID:10000901-1739907000-1739916000@enfacemagazine.com
SUMMARY:All Balanchine II
DESCRIPTION:The Company honors the centenary of Maria Tallchief’s birth with three Balanchine works created on the great ballerina. Tallchief danced in the 1952 premiere of Scotch Symphony\, a romantic ballet in which Balanchine paid homage to the dramatic landscape and atmosphere of the Scottish Highlands. A pas de deux inspired by the full-length Sylvia returns to the repertory after 30 years\, and features intricate classical steps that highlighted her spectacular technique. And Tallchief was also renowned for her performance in the title role of Firebird\, an allegorical fantasy set to Stravinsky’s brilliant score.
URL:https://enfacemagazine.com/event/all-balanchine-ii/2025-02-18/
LOCATION:David H. Koch Theater\, 20 Lincoln Center Plaza\, New York\, NY\, 10023\, United States
CATEGORIES:Ballet
ATTACH;FMTTYPE=image/png:https://enfacemagazine.com/wp-content/uploads/2024/07/NYCB_Winter_AllBalanchineII-RwhLQK.tmp_-e1724356312742.png
END:VEVENT
END:VCALENDAR