BEGIN:VCALENDAR
VERSION:2.0
PRODID:-//En Face Magazine - ECPv6.15.20//NONSGML v1.0//EN
CALSCALE:GREGORIAN
METHOD:PUBLISH
X-WR-CALNAME:En Face Magazine
X-ORIGINAL-URL:https://enfacemagazine.com
X-WR-CALDESC:Events for En Face Magazine
REFRESH-INTERVAL;VALUE=DURATION:PT1H
X-Robots-Tag:noindex
X-PUBLISHED-TTL:PT1H
BEGIN:VTIMEZONE
TZID:America/Los_Angeles
BEGIN:DAYLIGHT
TZOFFSETFROM:-0800
TZOFFSETTO:-0700
TZNAME:PDT
DTSTART:20240310T100000
END:DAYLIGHT
BEGIN:STANDARD
TZOFFSETFROM:-0700
TZOFFSETTO:-0800
TZNAME:PST
DTSTART:20241103T090000
END:STANDARD
BEGIN:DAYLIGHT
TZOFFSETFROM:-0800
TZOFFSETTO:-0700
TZNAME:PDT
DTSTART:20250309T100000
END:DAYLIGHT
BEGIN:STANDARD
TZOFFSETFROM:-0700
TZOFFSETTO:-0800
TZNAME:PST
DTSTART:20251102T090000
END:STANDARD
BEGIN:DAYLIGHT
TZOFFSETFROM:-0800
TZOFFSETTO:-0700
TZNAME:PDT
DTSTART:20260308T100000
END:DAYLIGHT
BEGIN:STANDARD
TZOFFSETFROM:-0700
TZOFFSETTO:-0800
TZNAME:PST
DTSTART:20261101T090000
END:STANDARD
END:VTIMEZONE
BEGIN:VEVENT
DTSTART;TZID=America/Los_Angeles:20250304T193000
DTEND;TZID=America/Los_Angeles:20250304T220000
DTSTAMP:20260423T015213
CREATED:20240731T221917Z
LAST-MODIFIED:20250813T140659Z
UID:10000344-1741116600-1741125600@enfacemagazine.com
SUMMARY:Raymonda
DESCRIPTION:Tamara Rojo reclaimed one of ballet’s timeless classics with this adaptation of Raymonda. Set against the backdrop of the 19th-century Crimean War\, Rojo expertly draws on the figure of Florence Nightingale to create a Raymonda who redefines the role of women in wartime and society. This lavish adaptation celebrates the best of Petipa’s original work—with its glorious and sensuous score by Alexander Glazunov showcasing the richness of the SF Ballet Orchestra—and updates it with a dramatic new story. \nPreview the Magazine >>
URL:https://enfacemagazine.com/event/raymonda/2025-03-04/
LOCATION:War Memorial Opera House\, 301 Van Ness Ave\, San Francisco\, CA\, 94102\, United States
CATEGORIES:Ballet,Story ballet
ATTACH;FMTTYPE=image/jpeg:https://enfacemagazine.com/wp-content/uploads/2024/07/C_SFB_240703_2058_V2_Final_Resized-e1736280907998.jpg
END:VEVENT
END:VCALENDAR