BEGIN:VCALENDAR
VERSION:2.0
PRODID:-//En Face Magazine - ECPv6.15.20//NONSGML v1.0//EN
CALSCALE:GREGORIAN
METHOD:PUBLISH
X-WR-CALNAME:En Face Magazine
X-ORIGINAL-URL:https://enfacemagazine.com
X-WR-CALDESC:Events for En Face Magazine
REFRESH-INTERVAL;VALUE=DURATION:PT1H
X-Robots-Tag:noindex
X-PUBLISHED-TTL:PT1H
BEGIN:VTIMEZONE
TZID:America/New_York
BEGIN:DAYLIGHT
TZOFFSETFROM:-0500
TZOFFSETTO:-0400
TZNAME:EDT
DTSTART:20240310T070000
END:DAYLIGHT
BEGIN:STANDARD
TZOFFSETFROM:-0400
TZOFFSETTO:-0500
TZNAME:EST
DTSTART:20241103T060000
END:STANDARD
BEGIN:DAYLIGHT
TZOFFSETFROM:-0500
TZOFFSETTO:-0400
TZNAME:EDT
DTSTART:20250309T070000
END:DAYLIGHT
BEGIN:STANDARD
TZOFFSETFROM:-0400
TZOFFSETTO:-0500
TZNAME:EST
DTSTART:20251102T060000
END:STANDARD
BEGIN:DAYLIGHT
TZOFFSETFROM:-0500
TZOFFSETTO:-0400
TZNAME:EDT
DTSTART:20260308T070000
END:DAYLIGHT
BEGIN:STANDARD
TZOFFSETFROM:-0400
TZOFFSETTO:-0500
TZNAME:EST
DTSTART:20261101T060000
END:STANDARD
END:VTIMEZONE
BEGIN:VTIMEZONE
TZID:America/Chicago
BEGIN:DAYLIGHT
TZOFFSETFROM:-0600
TZOFFSETTO:-0500
TZNAME:CDT
DTSTART:20240310T080000
END:DAYLIGHT
BEGIN:STANDARD
TZOFFSETFROM:-0500
TZOFFSETTO:-0600
TZNAME:CST
DTSTART:20241103T070000
END:STANDARD
BEGIN:DAYLIGHT
TZOFFSETFROM:-0600
TZOFFSETTO:-0500
TZNAME:CDT
DTSTART:20250309T080000
END:DAYLIGHT
BEGIN:STANDARD
TZOFFSETFROM:-0500
TZOFFSETTO:-0600
TZNAME:CST
DTSTART:20251102T070000
END:STANDARD
BEGIN:DAYLIGHT
TZOFFSETFROM:-0600
TZOFFSETTO:-0500
TZNAME:CDT
DTSTART:20260308T080000
END:DAYLIGHT
BEGIN:STANDARD
TZOFFSETFROM:-0500
TZOFFSETTO:-0600
TZNAME:CST
DTSTART:20261101T070000
END:STANDARD
END:VTIMEZONE
BEGIN:VEVENT
DTSTART;TZID=America/New_York:20250313T193000
DTEND;TZID=America/New_York:20250313T220000
DTSTAMP:20260422T184251
CREATED:20240731T221618Z
LAST-MODIFIED:20250813T140659Z
UID:10000487-1741894200-1741903200@enfacemagazine.com
SUMMARY:Philadelphia Ballet's Swan Lake
DESCRIPTION:Artistic Director Angel Corella reprises his magnum opus\, telling the tale of Prince Siegfried\, the shapeshifting Odette\, and the spellbinding sorcerer that shackles their forbidden romance. Tchaikovsky’s tranquil score glides beneath a moonlit odyssey of longing\, forgiveness\, and true love. \nTold through a captivating series of technically challenging and emotionally rich dances—from the playful Dance of the Cygnets to the haunting Dying Swan solo—this sweeping and sorrowful tale leaves no doubt as to how it has found its place among Ballet’s most celebrated stories. \nJoin us for the unfolding of this mesmerizing saga and experience for yourself the heartbreaking splendor of Ballet’s greatest love story. \nPreview the Magazine >>
URL:https://enfacemagazine.com/event/philadelphia-ballet-swan-lake/2025-03-13/
LOCATION:Academy of Music\, 240 S Broad St.\, Philadelphia\, PA\, 19102\, United States
CATEGORIES:Ballet,Story ballet
ATTACH;FMTTYPE=image/jpeg:https://enfacemagazine.com/wp-content/uploads/2024/07/1PB_24-25_season_8183_Swan-HERO-Finished_by_iziliaev-1-1-scaled-1-u9AWNs.tmp_-e1724354443880.jpg
END:VEVENT
BEGIN:VEVENT
DTSTART;TZID=America/New_York:20250313T193000
DTEND;TZID=America/New_York:20250313T220000
DTSTAMP:20260422T184251
CREATED:20240822T165937Z
LAST-MODIFIED:20250813T140726Z
UID:10000830-1741894200-1741903200@enfacemagazine.com
SUMMARY:Boston Ballet's Swan Lake
DESCRIPTION:Renowned as a masterpiece\, Swan Lake enthralls audiences with its coveted principal roles and iconic corps de ballet. The second act\, originally choreographed by Lev Ivanov\, is historically considered the finest piece of classical choreography for the corps de ballet. Revel in the technical precision and emotional tonality of dozens of dancers\, brilliantly transformed by Robert Perdziola’s incomparable scenery and costume design. \n“Swan Lake is one of the world’s most iconic and beloved classical ballets. This production showcases the depth of talent within our Company\, from the principal roles to the precision of the iconic corps de ballet scenes. The second act is one of the greatest pieces of corps de ballet choreography. It’s absolutely brilliant. One huge spectacle.”–Artistic Director Mikko Nissinen \nPreview the Magazine >>
URL:https://enfacemagazine.com/event/boston-ballets-swan-lake/2025-03-13/
LOCATION:Citizens Opera House\, 539 Washington St\, Boston\, MA\, _02111\, United States
CATEGORIES:Ballet,Story ballet
ATTACH;FMTTYPE=image/jpeg:https://enfacemagazine.com/wp-content/uploads/2024/07/BBSwanLake.jpeg
GEO:42.3540¡ N;71.0623¡ W
X-APPLE-STRUCTURED-LOCATION;VALUE=URI;X-ADDRESS=Citizens Opera House 539 Washington St Boston MA _02111 United States;X-APPLE-RADIUS=500;X-TITLE=539 Washington St:geo:71.0623¡ W,42.3540¡ N
END:VEVENT
BEGIN:VEVENT
DTSTART;TZID=America/Chicago:20250313T193000
DTEND;TZID=America/Chicago:20250313T220000
DTSTAMP:20260422T184251
CREATED:20250307T163853Z
LAST-MODIFIED:20250813T140659Z
UID:10001191-1741894200-1741903200@enfacemagazine.com
SUMMARY:The Sleeping Beauty
DESCRIPTION:The Sleeping Beauty marked a pivotal moment in the career of Artistic Director Emeritus Ben Stevenson O.B.E\, premiering in 1967 in London. Recognized as a supreme achievement of classical ballet\, this exquisite production of the French fairytale was first staged in 1978 and subsequently revamped in 1990 to grace the grand stage of the Wortham Theater Center. Stevenson’s rendition unfolds the timeless tale of the beautiful princess\, Aurora\, cursed by the malevolent fairy\, Carabosse. In a gripping narrative of good versus evil\, the Lilac Fairy bestows upon Aurora the gift of sleeping for a hundred years\, to awaken only with true love’s kiss. Set and costume designer Desmond Heeley adorns the stage with opulent sets and dazzling attire.
URL:https://enfacemagazine.com/event/the-sleeping-beauty-houston/2025-03-13/
LOCATION:Brown Theater\, 501 Texas Ave\, Houston\, TX\, 77002\, United States
CATEGORIES:Ballet,Story ballet
ATTACH;FMTTYPE=image/jpeg:https://enfacemagazine.com/wp-content/uploads/2025/03/Houston_TSB-e1741365517954.jpg
END:VEVENT
END:VCALENDAR