BEGIN:VCALENDAR
VERSION:2.0
PRODID:-//En Face Magazine - ECPv6.15.20//NONSGML v1.0//EN
CALSCALE:GREGORIAN
METHOD:PUBLISH
X-WR-CALNAME:En Face Magazine
X-ORIGINAL-URL:https://enfacemagazine.com
X-WR-CALDESC:Events for En Face Magazine
REFRESH-INTERVAL;VALUE=DURATION:PT1H
X-Robots-Tag:noindex
X-PUBLISHED-TTL:PT1H
BEGIN:VTIMEZONE
TZID:America/New_York
BEGIN:DAYLIGHT
TZOFFSETFROM:-0500
TZOFFSETTO:-0400
TZNAME:EDT
DTSTART:20240310T070000
END:DAYLIGHT
BEGIN:STANDARD
TZOFFSETFROM:-0400
TZOFFSETTO:-0500
TZNAME:EST
DTSTART:20241103T060000
END:STANDARD
BEGIN:DAYLIGHT
TZOFFSETFROM:-0500
TZOFFSETTO:-0400
TZNAME:EDT
DTSTART:20250309T070000
END:DAYLIGHT
BEGIN:STANDARD
TZOFFSETFROM:-0400
TZOFFSETTO:-0500
TZNAME:EST
DTSTART:20251102T060000
END:STANDARD
BEGIN:DAYLIGHT
TZOFFSETFROM:-0500
TZOFFSETTO:-0400
TZNAME:EDT
DTSTART:20260308T070000
END:DAYLIGHT
BEGIN:STANDARD
TZOFFSETFROM:-0400
TZOFFSETTO:-0500
TZNAME:EST
DTSTART:20261101T060000
END:STANDARD
END:VTIMEZONE
BEGIN:VTIMEZONE
TZID:America/Chicago
BEGIN:DAYLIGHT
TZOFFSETFROM:-0600
TZOFFSETTO:-0500
TZNAME:CDT
DTSTART:20240310T080000
END:DAYLIGHT
BEGIN:STANDARD
TZOFFSETFROM:-0500
TZOFFSETTO:-0600
TZNAME:CST
DTSTART:20241103T070000
END:STANDARD
BEGIN:DAYLIGHT
TZOFFSETFROM:-0600
TZOFFSETTO:-0500
TZNAME:CDT
DTSTART:20250309T080000
END:DAYLIGHT
BEGIN:STANDARD
TZOFFSETFROM:-0500
TZOFFSETTO:-0600
TZNAME:CST
DTSTART:20251102T070000
END:STANDARD
BEGIN:DAYLIGHT
TZOFFSETFROM:-0600
TZOFFSETTO:-0500
TZNAME:CDT
DTSTART:20260308T080000
END:DAYLIGHT
BEGIN:STANDARD
TZOFFSETFROM:-0500
TZOFFSETTO:-0600
TZNAME:CST
DTSTART:20261101T070000
END:STANDARD
END:VTIMEZONE
BEGIN:VTIMEZONE
TZID:America/Denver
BEGIN:DAYLIGHT
TZOFFSETFROM:-0700
TZOFFSETTO:-0600
TZNAME:MDT
DTSTART:20240310T090000
END:DAYLIGHT
BEGIN:STANDARD
TZOFFSETFROM:-0600
TZOFFSETTO:-0700
TZNAME:MST
DTSTART:20241103T080000
END:STANDARD
BEGIN:DAYLIGHT
TZOFFSETFROM:-0700
TZOFFSETTO:-0600
TZNAME:MDT
DTSTART:20250309T090000
END:DAYLIGHT
BEGIN:STANDARD
TZOFFSETFROM:-0600
TZOFFSETTO:-0700
TZNAME:MST
DTSTART:20251102T080000
END:STANDARD
BEGIN:DAYLIGHT
TZOFFSETFROM:-0700
TZOFFSETTO:-0600
TZNAME:MDT
DTSTART:20260308T090000
END:DAYLIGHT
BEGIN:STANDARD
TZOFFSETFROM:-0600
TZOFFSETTO:-0700
TZNAME:MST
DTSTART:20261101T080000
END:STANDARD
END:VTIMEZONE
BEGIN:VEVENT
DTSTART;TZID=America/New_York:20250316T133000
DTEND;TZID=America/New_York:20250316T160000
DTSTAMP:20260422T190110
CREATED:20240822T165937Z
LAST-MODIFIED:20250813T140726Z
UID:10000834-1742131800-1742140800@enfacemagazine.com
SUMMARY:Boston Ballet's Swan Lake
DESCRIPTION:Renowned as a masterpiece\, Swan Lake enthralls audiences with its coveted principal roles and iconic corps de ballet. The second act\, originally choreographed by Lev Ivanov\, is historically considered the finest piece of classical choreography for the corps de ballet. Revel in the technical precision and emotional tonality of dozens of dancers\, brilliantly transformed by Robert Perdziola’s incomparable scenery and costume design. \n“Swan Lake is one of the world’s most iconic and beloved classical ballets. This production showcases the depth of talent within our Company\, from the principal roles to the precision of the iconic corps de ballet scenes. The second act is one of the greatest pieces of corps de ballet choreography. It’s absolutely brilliant. One huge spectacle.”–Artistic Director Mikko Nissinen \nPreview the Magazine >>
URL:https://enfacemagazine.com/event/boston-ballets-swan-lake/2025-03-16/
LOCATION:Citizens Opera House\, 539 Washington St\, Boston\, MA\, _02111\, United States
CATEGORIES:Ballet,Story ballet
ATTACH;FMTTYPE=image/jpeg:https://enfacemagazine.com/wp-content/uploads/2024/07/BBSwanLake.jpeg
GEO:42.3540¡ N;71.0623¡ W
X-APPLE-STRUCTURED-LOCATION;VALUE=URI;X-ADDRESS=Citizens Opera House 539 Washington St Boston MA _02111 United States;X-APPLE-RADIUS=500;X-TITLE=539 Washington St:geo:71.0623¡ W,42.3540¡ N
END:VEVENT
BEGIN:VEVENT
DTSTART;TZID=America/Chicago:20250316T140000
DTEND;TZID=America/Chicago:20250316T160000
DTSTAMP:20260422T190110
CREATED:20250307T165802Z
LAST-MODIFIED:20250813T140659Z
UID:10001203-1742133600-1742140800@enfacemagazine.com
SUMMARY:15th Annual Winning Works
DESCRIPTION:The Grainger Academy of The Joffrey Ballet presents five world premieres in the culmination of a national call for ALAANA (African\, Latinx\, Asian\, Arab\, and Native American) artists to submit applications for the Winning Works Choreographic Competition. \n\n\n\n\n\n\n\n\n\n\n\nThis year’s winners—Karley Childress\, Roderick George\, Shota Miyoshi\, Alejandro Perez\, and Keelan Whitmore—each will choreograph an original work created for the Grainger Academy of The Joffrey Ballet Conservatory\, Trainees\, and Joffrey Studio Company. With an added performance due to popular demand\, Winning Works will be presented at the Museum of Contemporary Art Chicago’s Edlis Neeson Theater in nine performances.
URL:https://enfacemagazine.com/event/15th-annual-winning-works/2025-03-16/
LOCATION:Edlis Neeson Theater\, 220 E Chicago Ave\, Chicago\, IL\, 60611\, United States
CATEGORIES:Ballet
ATTACH;FMTTYPE=image/jpeg:https://enfacemagazine.com/wp-content/uploads/2025/03/JoffreyWinningWorks-e1741366665973.jpg
END:VEVENT
BEGIN:VEVENT
DTSTART;TZID=America/New_York:20250316T140000
DTEND;TZID=America/New_York:20250316T163000
DTSTAMP:20260422T190110
CREATED:20240731T221618Z
LAST-MODIFIED:20250813T140659Z
UID:10000492-1742133600-1742142600@enfacemagazine.com
SUMMARY:Philadelphia Ballet's Swan Lake
DESCRIPTION:Artistic Director Angel Corella reprises his magnum opus\, telling the tale of Prince Siegfried\, the shapeshifting Odette\, and the spellbinding sorcerer that shackles their forbidden romance. Tchaikovsky’s tranquil score glides beneath a moonlit odyssey of longing\, forgiveness\, and true love. \nTold through a captivating series of technically challenging and emotionally rich dances—from the playful Dance of the Cygnets to the haunting Dying Swan solo—this sweeping and sorrowful tale leaves no doubt as to how it has found its place among Ballet’s most celebrated stories. \nJoin us for the unfolding of this mesmerizing saga and experience for yourself the heartbreaking splendor of Ballet’s greatest love story. \nPreview the Magazine >>
URL:https://enfacemagazine.com/event/philadelphia-ballet-swan-lake/2025-03-16/
LOCATION:Academy of Music\, 240 S Broad St.\, Philadelphia\, PA\, 19102\, United States
CATEGORIES:Ballet,Story ballet
ATTACH;FMTTYPE=image/jpeg:https://enfacemagazine.com/wp-content/uploads/2024/07/1PB_24-25_season_8183_Swan-HERO-Finished_by_iziliaev-1-1-scaled-1-u9AWNs.tmp_-e1724354443880.jpg
END:VEVENT
BEGIN:VEVENT
DTSTART;TZID=America/Denver:20250316T140000
DTEND;TZID=America/Denver:20250316T163000
DTSTAMP:20260422T190110
CREATED:20250227T183617Z
LAST-MODIFIED:20250813T140659Z
UID:10001183-1742133600-1742142600@enfacemagazine.com
SUMMARY:Alice (in wonderland)
DESCRIPTION:Follow Colorado Ballet down the rabbit hole for Septime Webre’s acclaimed ballet\, ALICE (in wonderland). Infused with humor\, whimsy\, and athleticism\, ALICE (in wonderland) promises an extraordinary journey that reimagines Lewis Carroll’s classic tale in a way that is as enchanting as it is exhilarating—complete with composer Matthew Pierce’s buoyant score\, larger-than-life sets and costumes\, and a host of magical characters.
URL:https://enfacemagazine.com/event/alice-in-wonderland-colorado-ballet/2025-03-16/
LOCATION:Ellie Caulkins Opera House\, 1385 Curtis Street\, Denver\, CO\, 80204\, United States
CATEGORIES:Ballet,Story ballet
ATTACH;FMTTYPE=image/jpeg:https://enfacemagazine.com/wp-content/uploads/2025/02/CBAlice-e1740681365556.jpg
END:VEVENT
BEGIN:VEVENT
DTSTART;TZID=America/Chicago:20250316T140000
DTEND;TZID=America/Chicago:20250316T163000
DTSTAMP:20260422T190110
CREATED:20250307T163853Z
LAST-MODIFIED:20250813T140659Z
UID:10001195-1742133600-1742142600@enfacemagazine.com
SUMMARY:The Sleeping Beauty
DESCRIPTION:The Sleeping Beauty marked a pivotal moment in the career of Artistic Director Emeritus Ben Stevenson O.B.E\, premiering in 1967 in London. Recognized as a supreme achievement of classical ballet\, this exquisite production of the French fairytale was first staged in 1978 and subsequently revamped in 1990 to grace the grand stage of the Wortham Theater Center. Stevenson’s rendition unfolds the timeless tale of the beautiful princess\, Aurora\, cursed by the malevolent fairy\, Carabosse. In a gripping narrative of good versus evil\, the Lilac Fairy bestows upon Aurora the gift of sleeping for a hundred years\, to awaken only with true love’s kiss. Set and costume designer Desmond Heeley adorns the stage with opulent sets and dazzling attire.
URL:https://enfacemagazine.com/event/the-sleeping-beauty-houston/2025-03-16/
LOCATION:Brown Theater\, 501 Texas Ave\, Houston\, TX\, 77002\, United States
CATEGORIES:Ballet,Story ballet
ATTACH;FMTTYPE=image/jpeg:https://enfacemagazine.com/wp-content/uploads/2025/03/Houston_TSB-e1741365517954.jpg
END:VEVENT
END:VCALENDAR