BEGIN:VCALENDAR
VERSION:2.0
PRODID:-//En Face Magazine - ECPv6.15.20//NONSGML v1.0//EN
CALSCALE:GREGORIAN
METHOD:PUBLISH
X-ORIGINAL-URL:https://enfacemagazine.com
X-WR-CALDESC:Events for En Face Magazine
REFRESH-INTERVAL;VALUE=DURATION:PT1H
X-Robots-Tag:noindex
X-PUBLISHED-TTL:PT1H
BEGIN:VTIMEZONE
TZID:America/New_York
BEGIN:DAYLIGHT
TZOFFSETFROM:-0500
TZOFFSETTO:-0400
TZNAME:EDT
DTSTART:20240310T070000
END:DAYLIGHT
BEGIN:STANDARD
TZOFFSETFROM:-0400
TZOFFSETTO:-0500
TZNAME:EST
DTSTART:20241103T060000
END:STANDARD
BEGIN:DAYLIGHT
TZOFFSETFROM:-0500
TZOFFSETTO:-0400
TZNAME:EDT
DTSTART:20250309T070000
END:DAYLIGHT
BEGIN:STANDARD
TZOFFSETFROM:-0400
TZOFFSETTO:-0500
TZNAME:EST
DTSTART:20251102T060000
END:STANDARD
BEGIN:DAYLIGHT
TZOFFSETFROM:-0500
TZOFFSETTO:-0400
TZNAME:EDT
DTSTART:20260308T070000
END:DAYLIGHT
BEGIN:STANDARD
TZOFFSETFROM:-0400
TZOFFSETTO:-0500
TZNAME:EST
DTSTART:20261101T060000
END:STANDARD
END:VTIMEZONE
BEGIN:VTIMEZONE
TZID:America/Chicago
BEGIN:DAYLIGHT
TZOFFSETFROM:-0600
TZOFFSETTO:-0500
TZNAME:CDT
DTSTART:20240310T080000
END:DAYLIGHT
BEGIN:STANDARD
TZOFFSETFROM:-0500
TZOFFSETTO:-0600
TZNAME:CST
DTSTART:20241103T070000
END:STANDARD
BEGIN:DAYLIGHT
TZOFFSETFROM:-0600
TZOFFSETTO:-0500
TZNAME:CDT
DTSTART:20250309T080000
END:DAYLIGHT
BEGIN:STANDARD
TZOFFSETFROM:-0500
TZOFFSETTO:-0600
TZNAME:CST
DTSTART:20251102T070000
END:STANDARD
BEGIN:DAYLIGHT
TZOFFSETFROM:-0600
TZOFFSETTO:-0500
TZNAME:CDT
DTSTART:20260308T080000
END:DAYLIGHT
BEGIN:STANDARD
TZOFFSETFROM:-0500
TZOFFSETTO:-0600
TZNAME:CST
DTSTART:20261101T070000
END:STANDARD
END:VTIMEZONE
BEGIN:VTIMEZONE
TZID:America/Los_Angeles
BEGIN:DAYLIGHT
TZOFFSETFROM:-0800
TZOFFSETTO:-0700
TZNAME:PDT
DTSTART:20240310T100000
END:DAYLIGHT
BEGIN:STANDARD
TZOFFSETFROM:-0700
TZOFFSETTO:-0800
TZNAME:PST
DTSTART:20241103T090000
END:STANDARD
BEGIN:DAYLIGHT
TZOFFSETFROM:-0800
TZOFFSETTO:-0700
TZNAME:PDT
DTSTART:20250309T100000
END:DAYLIGHT
BEGIN:STANDARD
TZOFFSETFROM:-0700
TZOFFSETTO:-0800
TZNAME:PST
DTSTART:20251102T090000
END:STANDARD
BEGIN:DAYLIGHT
TZOFFSETFROM:-0800
TZOFFSETTO:-0700
TZNAME:PDT
DTSTART:20260308T100000
END:DAYLIGHT
BEGIN:STANDARD
TZOFFSETFROM:-0700
TZOFFSETTO:-0800
TZNAME:PST
DTSTART:20261101T090000
END:STANDARD
END:VTIMEZONE
BEGIN:VEVENT
DTSTART;TZID=America/New_York:20250322T133000
DTEND;TZID=America/New_York:20250322T160000
DTSTAMP:20260423T012127
CREATED:20250224T153714Z
LAST-MODIFIED:20250813T140658Z
UID:10001169-1742650200-1742659200@enfacemagazine.com
SUMMARY:Ballet Meets the Beatles
DESCRIPTION:A DAY IN THE LIFE\nTrey McIntyre brings to life the music of the Beatles. \nES MUSS SEIN!\nYury Yanowsky’s creation set to Beethoven\, played live by Aurea Ensemble. \nWORLD PREMIERE\nKen Ossola’s dynamic creation set to live music from Aurea Ensemble.
URL:https://enfacemagazine.com/event/ballet-meets-the-beatles/2025-03-22/1/
LOCATION:Woodman Center\, 250 Lloyd Ave\, Providence\, RI\, 02906\, United States
CATEGORIES:Ballet
ATTACH;FMTTYPE=image/jpeg:https://enfacemagazine.com/wp-content/uploads/2025/02/SSP_2107-Edit-e1740411414638.jpg
END:VEVENT
BEGIN:VEVENT
DTSTART;TZID=America/Chicago:20250322T133000
DTEND;TZID=America/Chicago:20250322T160000
DTSTAMP:20260423T012127
CREATED:20250307T163853Z
LAST-MODIFIED:20250813T140659Z
UID:10001197-1742650200-1742659200@enfacemagazine.com
SUMMARY:The Sleeping Beauty
DESCRIPTION:The Sleeping Beauty marked a pivotal moment in the career of Artistic Director Emeritus Ben Stevenson O.B.E\, premiering in 1967 in London. Recognized as a supreme achievement of classical ballet\, this exquisite production of the French fairytale was first staged in 1978 and subsequently revamped in 1990 to grace the grand stage of the Wortham Theater Center. Stevenson’s rendition unfolds the timeless tale of the beautiful princess\, Aurora\, cursed by the malevolent fairy\, Carabosse. In a gripping narrative of good versus evil\, the Lilac Fairy bestows upon Aurora the gift of sleeping for a hundred years\, to awaken only with true love’s kiss. Set and costume designer Desmond Heeley adorns the stage with opulent sets and dazzling attire.
URL:https://enfacemagazine.com/event/the-sleeping-beauty-houston/2025-03-22/1/
LOCATION:Brown Theater\, 501 Texas Ave\, Houston\, TX\, 77002\, United States
CATEGORIES:Ballet,Story ballet
ATTACH;FMTTYPE=image/jpeg:https://enfacemagazine.com/wp-content/uploads/2025/03/Houston_TSB-e1741365517954.jpg
END:VEVENT
BEGIN:VEVENT
DTSTART;TZID=America/Chicago:20250322T140000
DTEND;TZID=America/Chicago:20250322T160000
DTSTAMP:20260423T012127
CREATED:20250307T165802Z
LAST-MODIFIED:20250813T140659Z
UID:10001206-1742652000-1742659200@enfacemagazine.com
SUMMARY:15th Annual Winning Works
DESCRIPTION:The Grainger Academy of The Joffrey Ballet presents five world premieres in the culmination of a national call for ALAANA (African\, Latinx\, Asian\, Arab\, and Native American) artists to submit applications for the Winning Works Choreographic Competition. \n\n\n\n\n\n\n\n\n\n\n\nThis year’s winners—Karley Childress\, Roderick George\, Shota Miyoshi\, Alejandro Perez\, and Keelan Whitmore—each will choreograph an original work created for the Grainger Academy of The Joffrey Ballet Conservatory\, Trainees\, and Joffrey Studio Company. With an added performance due to popular demand\, Winning Works will be presented at the Museum of Contemporary Art Chicago’s Edlis Neeson Theater in nine performances.
URL:https://enfacemagazine.com/event/15th-annual-winning-works/2025-03-22/1/
LOCATION:Edlis Neeson Theater\, 220 E Chicago Ave\, Chicago\, IL\, 60611\, United States
CATEGORIES:Ballet
ATTACH;FMTTYPE=image/jpeg:https://enfacemagazine.com/wp-content/uploads/2025/03/JoffreyWinningWorks-e1741366665973.jpg
END:VEVENT
BEGIN:VEVENT
DTSTART;TZID=America/New_York:20250322T140000
DTEND;TZID=America/New_York:20250322T163000
DTSTAMP:20260423T012127
CREATED:20240731T221620Z
LAST-MODIFIED:20250813T140658Z
UID:10000365-1742652000-1742661000@enfacemagazine.com
SUMMARY:Boléro
DESCRIPTION:Step into the timeless allure of Dance Card\, choreographed by Russell Ducker\, which evokes the golden age of high society ballrooms. This timeless piece is joined by Stanton Welch’s world premiere ballet. Finishing out this dynamic dance triad is Boléro\, choreographed by Artistic Director Angel Corella. This ballet is a daring feat in athleticism that entrances audiences with deliberate\, percussive movements that build in gradual succession to unleash a performance-long crescendo.
URL:https://enfacemagazine.com/event/bolero/2025-03-22/1/
LOCATION:Academy of Music\, 240 S Broad St.\, Philadelphia\, PA\, 19102\, United States
CATEGORIES:Ballet
ATTACH;FMTTYPE=image/jpeg:https://enfacemagazine.com/wp-content/uploads/2024/07/PB_24-25_season_Bolero-Finished-HERO_by_Iziliaev-scaled-1-0ygaza.tmp_-e1724354419300.jpg
END:VEVENT
BEGIN:VEVENT
DTSTART;TZID=America/Los_Angeles:20250322T140000
DTEND;TZID=America/Los_Angeles:20250322T163000
DTSTAMP:20260423T012127
CREATED:20240731T221719Z
LAST-MODIFIED:20250813T140658Z
UID:10000292-1742652000-1742661000@enfacemagazine.com
SUMMARY:Visions
DESCRIPTION:Prepare to be dazzled by Visions\, an innovative mixed repertory program featuring three groundbreaking world premieres by internationally acclaimed choreographers Amy Hall Garner\, Thang Dao\, and Julia Feldman.
URL:https://enfacemagazine.com/event/visions/2025-03-22/1/
LOCATION:The Sofia\, Home of B St.\, 2700 Capitol Ave\, Sacramento\, CA\, 95816\, United States
CATEGORIES:Ballet
ATTACH;FMTTYPE=image/png:https://enfacemagazine.com/wp-content/uploads/2024/07/SacBalletMarketing2024-1073-e1724356736887.png
END:VEVENT
BEGIN:VEVENT
DTSTART;TZID=America/Los_Angeles:20250322T140000
DTEND;TZID=America/Los_Angeles:20250322T163000
DTSTAMP:20260423T012127
CREATED:20240731T221918Z
LAST-MODIFIED:20250813T140658Z
UID:10000351-1742652000-1742661000@enfacemagazine.com
SUMMARY:Frankenstein
DESCRIPTION:Based on Mary Shelley’s 19th-century novel-turned-pop culture classic\, the captivating must-see production from Liam Scarlett returns to our stage. Frankenstein features sensational choreography\, cinematic design\, costumes\, special effects\, pyrotechnics\, and a haunting original score from Lowell Liebermann. Scarlett’s production of the pioneering science fiction novel is a visceral and profoundly emotional tale of life\, death\, love\, and identity. \nDue to mature themes\, this ballet is recommended for ages 14 and up. \nPreview the Magazine >>
URL:https://enfacemagazine.com/event/frankenstein/2025-03-22/1/
LOCATION:War Memorial Opera House\, 301 Van Ness Ave\, San Francisco\, CA\, 94102\, United States
CATEGORIES:Ballet,Story ballet
ATTACH;FMTTYPE=image/jpeg:https://enfacemagazine.com/wp-content/uploads/2024/07/Frankenstein_Final_Resized-e1736280490356.jpg
END:VEVENT
BEGIN:VEVENT
DTSTART;TZID=America/New_York:20250322T140000
DTEND;TZID=America/New_York:20250322T163000
DTSTAMP:20260423T012127
CREATED:20250211T193907Z
LAST-MODIFIED:20250813T140658Z
UID:10001166-1742652000-1742661000@enfacemagazine.com
SUMMARY:Ballet Russe Reimagined I
DESCRIPTION:Enter one of ballet’s most fascinating periods\, when impresarios and daring choreographers changed the course of dance history. Ballet Russe Reimagined is a three-part series paying homage to the innovations that propelled ballet into the 20th and 21st centuries. \nParis 1909 — impresario Serge Diaghilev devised the avant-garde Ballets Russes company that became one of the most influential catalysts of performing arts to date. Artistic collaborations\, innovative choreography\, and compelling compositions created a sensation that reignited the public’s passion for the art of dance\, shaping the artistic and popular culture of the time. \nBallet Russe Reimagined I features two world premieres: David Ingram’s Les Sylphides and Mark Godden’s Rite of Spring. Originally choreographed for the Ballets Russes in 1909 and 1913\, respectively\, these ballets will be reenvisioned for Fort Wayne Ballet’s stage.
URL:https://enfacemagazine.com/event/ballet-russe-reimagined-i/2025-03-22/1/
LOCATION:Pearl Street Arts Center\, 234 Pearl St\, Fort Wayne\, IN\, 46802\, United States
CATEGORIES:Ballet
ATTACH;FMTTYPE=image/jpeg:https://enfacemagazine.com/wp-content/uploads/2025/02/FWBBalletRusseRI-e1739302735108.jpg
END:VEVENT
BEGIN:VEVENT
DTSTART;TZID=America/Chicago:20250322T193000
DTEND;TZID=America/Chicago:20250322T213000
DTSTAMP:20260423T012127
CREATED:20250307T165802Z
LAST-MODIFIED:20250813T140659Z
UID:10001207-1742671800-1742679000@enfacemagazine.com
SUMMARY:15th Annual Winning Works
DESCRIPTION:The Grainger Academy of The Joffrey Ballet presents five world premieres in the culmination of a national call for ALAANA (African\, Latinx\, Asian\, Arab\, and Native American) artists to submit applications for the Winning Works Choreographic Competition. \n\n\n\n\n\n\n\n\n\n\n\nThis year’s winners—Karley Childress\, Roderick George\, Shota Miyoshi\, Alejandro Perez\, and Keelan Whitmore—each will choreograph an original work created for the Grainger Academy of The Joffrey Ballet Conservatory\, Trainees\, and Joffrey Studio Company. With an added performance due to popular demand\, Winning Works will be presented at the Museum of Contemporary Art Chicago’s Edlis Neeson Theater in nine performances.
URL:https://enfacemagazine.com/event/15th-annual-winning-works/2025-03-22/2/
LOCATION:Edlis Neeson Theater\, 220 E Chicago Ave\, Chicago\, IL\, 60611\, United States
CATEGORIES:Ballet
ATTACH;FMTTYPE=image/jpeg:https://enfacemagazine.com/wp-content/uploads/2025/03/JoffreyWinningWorks-e1741366665973.jpg
END:VEVENT
BEGIN:VEVENT
DTSTART;TZID=America/New_York:20250322T193000
DTEND;TZID=America/New_York:20250322T220000
DTSTAMP:20260423T012127
CREATED:20240731T221021Z
LAST-MODIFIED:20250813T140658Z
UID:10000311-1742671800-1742680800@enfacemagazine.com
SUMMARY:Winter Experience
DESCRIPTION:The 2025 Winter Experience is an unforgettable program full of dancing in its purest form. Two George Balanchine masterpieces are combined with Claudia Schreier’s artful work created for Boston Ballet in 2022 and a spellbinding solo choreographed by Leonid Yakobson. \nPreview the Magazine >>
URL:https://enfacemagazine.com/event/winter-experience/2025-03-22/
LOCATION:Citizens Opera House\, 539 Washington St\, Boston\, MA\, _02111\, United States
CATEGORIES:Ballet
ATTACH;FMTTYPE=image/jpeg:https://enfacemagazine.com/wp-content/uploads/2024/07/BBWinterExp2025-ath5xw.tmp_.jpg
GEO:42.3540¡ N;71.0623¡ W
X-APPLE-STRUCTURED-LOCATION;VALUE=URI;X-ADDRESS=Citizens Opera House 539 Washington St Boston MA _02111 United States;X-APPLE-RADIUS=500;X-TITLE=539 Washington St:geo:71.0623¡ W,42.3540¡ N
END:VEVENT
BEGIN:VEVENT
DTSTART;TZID=America/Los_Angeles:20250322T193000
DTEND;TZID=America/Los_Angeles:20250322T220000
DTSTAMP:20260423T012127
CREATED:20240731T221521Z
LAST-MODIFIED:20250813T140659Z
UID:10000308-1742671800-1742680800@enfacemagazine.com
SUMMARY:Emergence
DESCRIPTION:“Like the best works of art\, it transforms its audience\, as well as its participants\,” says The Seattle Times of Emergence. This mesmerizing piece is accompanied by Jerome Robbins’ intimate Afternoon of a Faun\, Marco Goecke’s solo work Mopey\, and a World Premiere from PNB dancer and choreographer Price Suddarth. Each of these choreographers pushes the boundaries of dance with their own unique vision\, and are especially remarkable when juxtaposed with one another. \nPreview the Magazine >>
URL:https://enfacemagazine.com/event/emergence/2025-03-22/
LOCATION:McCaw Hall\, 321 Mercer St\, Seattle\, WA\, 98109\, United States
CATEGORIES:Ballet
ATTACH;FMTTYPE=image/png:https://enfacemagazine.com/wp-content/uploads/2024/07/pnb-emergence.png
END:VEVENT
BEGIN:VEVENT
DTSTART;TZID=America/New_York:20250322T193000
DTEND;TZID=America/New_York:20250322T220000
DTSTAMP:20260423T012127
CREATED:20240731T221620Z
LAST-MODIFIED:20250813T140658Z
UID:10000366-1742671800-1742680800@enfacemagazine.com
SUMMARY:Boléro
DESCRIPTION:Step into the timeless allure of Dance Card\, choreographed by Russell Ducker\, which evokes the golden age of high society ballrooms. This timeless piece is joined by Stanton Welch’s world premiere ballet. Finishing out this dynamic dance triad is Boléro\, choreographed by Artistic Director Angel Corella. This ballet is a daring feat in athleticism that entrances audiences with deliberate\, percussive movements that build in gradual succession to unleash a performance-long crescendo.
URL:https://enfacemagazine.com/event/bolero/2025-03-22/2/
LOCATION:Academy of Music\, 240 S Broad St.\, Philadelphia\, PA\, 19102\, United States
CATEGORIES:Ballet
ATTACH;FMTTYPE=image/jpeg:https://enfacemagazine.com/wp-content/uploads/2024/07/PB_24-25_season_Bolero-Finished-HERO_by_Iziliaev-scaled-1-0ygaza.tmp_-e1724354419300.jpg
END:VEVENT
BEGIN:VEVENT
DTSTART;TZID=America/Los_Angeles:20250322T193000
DTEND;TZID=America/Los_Angeles:20250322T220000
DTSTAMP:20260423T012127
CREATED:20240731T221719Z
LAST-MODIFIED:20250813T140658Z
UID:10000293-1742671800-1742680800@enfacemagazine.com
SUMMARY:Visions
DESCRIPTION:Prepare to be dazzled by Visions\, an innovative mixed repertory program featuring three groundbreaking world premieres by internationally acclaimed choreographers Amy Hall Garner\, Thang Dao\, and Julia Feldman.
URL:https://enfacemagazine.com/event/visions/2025-03-22/2/
LOCATION:The Sofia\, Home of B St.\, 2700 Capitol Ave\, Sacramento\, CA\, 95816\, United States
CATEGORIES:Ballet
ATTACH;FMTTYPE=image/png:https://enfacemagazine.com/wp-content/uploads/2024/07/SacBalletMarketing2024-1073-e1724356736887.png
END:VEVENT
BEGIN:VEVENT
DTSTART;TZID=America/Chicago:20250322T193000
DTEND;TZID=America/Chicago:20250322T220000
DTSTAMP:20260423T012127
CREATED:20250206T162338Z
LAST-MODIFIED:20250813T140658Z
UID:10001141-1742671800-1742680800@enfacemagazine.com
SUMMARY:Don Quixote
DESCRIPTION:Anna-Marie Holmes’ rendition of Don Quixote is a romantic ballet extravaganza that brings to life the beloved story of Don Quixote\, based on the iconic “Don Quixote de la Mancha” by Miguel de Cervantes. With dynamic choreography\, colorful characters\, and a captivating narrative\, this production transports audiences on a sunny romp through the Spanish countryside\, following the adventures of the chivalrous Don Quixote and his loyal squire Sancho Panza\, and the blossoming romance between Kitri and the handsome Basilio. Experience the magic of this classic tale through the artistry and grace of ballet.
URL:https://enfacemagazine.com/event/don-quixote/2025-03-22/
LOCATION:Kauffman Center for the Performing Arts\, 1601 Broadway Blvd\, Kansas City\, MO\, 64108\, United States
CATEGORIES:Ballet,Story ballet
ATTACH;FMTTYPE=image/jpeg:https://enfacemagazine.com/wp-content/uploads/2025/02/KCBDonQ-e1738859002572.jpg
END:VEVENT
BEGIN:VEVENT
DTSTART;TZID=America/New_York:20250322T193000
DTEND;TZID=America/New_York:20250322T220000
DTSTAMP:20260423T012127
CREATED:20250211T193907Z
LAST-MODIFIED:20250813T140658Z
UID:10001167-1742671800-1742680800@enfacemagazine.com
SUMMARY:Ballet Russe Reimagined I
DESCRIPTION:Enter one of ballet’s most fascinating periods\, when impresarios and daring choreographers changed the course of dance history. Ballet Russe Reimagined is a three-part series paying homage to the innovations that propelled ballet into the 20th and 21st centuries. \nParis 1909 — impresario Serge Diaghilev devised the avant-garde Ballets Russes company that became one of the most influential catalysts of performing arts to date. Artistic collaborations\, innovative choreography\, and compelling compositions created a sensation that reignited the public’s passion for the art of dance\, shaping the artistic and popular culture of the time. \nBallet Russe Reimagined I features two world premieres: David Ingram’s Les Sylphides and Mark Godden’s Rite of Spring. Originally choreographed for the Ballets Russes in 1909 and 1913\, respectively\, these ballets will be reenvisioned for Fort Wayne Ballet’s stage.
URL:https://enfacemagazine.com/event/ballet-russe-reimagined-i/2025-03-22/2/
LOCATION:Pearl Street Arts Center\, 234 Pearl St\, Fort Wayne\, IN\, 46802\, United States
CATEGORIES:Ballet
ATTACH;FMTTYPE=image/jpeg:https://enfacemagazine.com/wp-content/uploads/2025/02/FWBBalletRusseRI-e1739302735108.jpg
END:VEVENT
BEGIN:VEVENT
DTSTART;TZID=America/New_York:20250322T193000
DTEND;TZID=America/New_York:20250322T220000
DTSTAMP:20260423T012127
CREATED:20250224T153714Z
LAST-MODIFIED:20250813T140658Z
UID:10001170-1742671800-1742680800@enfacemagazine.com
SUMMARY:Ballet Meets the Beatles
DESCRIPTION:A DAY IN THE LIFE\nTrey McIntyre brings to life the music of the Beatles. \nES MUSS SEIN!\nYury Yanowsky’s creation set to Beethoven\, played live by Aurea Ensemble. \nWORLD PREMIERE\nKen Ossola’s dynamic creation set to live music from Aurea Ensemble.
URL:https://enfacemagazine.com/event/ballet-meets-the-beatles/2025-03-22/2/
LOCATION:Woodman Center\, 250 Lloyd Ave\, Providence\, RI\, 02906\, United States
CATEGORIES:Ballet
ATTACH;FMTTYPE=image/jpeg:https://enfacemagazine.com/wp-content/uploads/2025/02/SSP_2107-Edit-e1740411414638.jpg
END:VEVENT
BEGIN:VEVENT
DTSTART;TZID=America/Chicago:20250322T193000
DTEND;TZID=America/Chicago:20250322T220000
DTSTAMP:20260423T012127
CREATED:20250307T163853Z
LAST-MODIFIED:20250813T140659Z
UID:10001198-1742671800-1742680800@enfacemagazine.com
SUMMARY:The Sleeping Beauty
DESCRIPTION:The Sleeping Beauty marked a pivotal moment in the career of Artistic Director Emeritus Ben Stevenson O.B.E\, premiering in 1967 in London. Recognized as a supreme achievement of classical ballet\, this exquisite production of the French fairytale was first staged in 1978 and subsequently revamped in 1990 to grace the grand stage of the Wortham Theater Center. Stevenson’s rendition unfolds the timeless tale of the beautiful princess\, Aurora\, cursed by the malevolent fairy\, Carabosse. In a gripping narrative of good versus evil\, the Lilac Fairy bestows upon Aurora the gift of sleeping for a hundred years\, to awaken only with true love’s kiss. Set and costume designer Desmond Heeley adorns the stage with opulent sets and dazzling attire.
URL:https://enfacemagazine.com/event/the-sleeping-beauty-houston/2025-03-22/2/
LOCATION:Brown Theater\, 501 Texas Ave\, Houston\, TX\, 77002\, United States
CATEGORIES:Ballet,Story ballet
ATTACH;FMTTYPE=image/jpeg:https://enfacemagazine.com/wp-content/uploads/2025/03/Houston_TSB-e1741365517954.jpg
END:VEVENT
BEGIN:VEVENT
DTSTART;TZID=America/Los_Angeles:20250322T200000
DTEND;TZID=America/Los_Angeles:20250322T223000
DTSTAMP:20260423T012127
CREATED:20240731T221918Z
LAST-MODIFIED:20250813T140658Z
UID:10000352-1742673600-1742682600@enfacemagazine.com
SUMMARY:Frankenstein
DESCRIPTION:Based on Mary Shelley’s 19th-century novel-turned-pop culture classic\, the captivating must-see production from Liam Scarlett returns to our stage. Frankenstein features sensational choreography\, cinematic design\, costumes\, special effects\, pyrotechnics\, and a haunting original score from Lowell Liebermann. Scarlett’s production of the pioneering science fiction novel is a visceral and profoundly emotional tale of life\, death\, love\, and identity. \nDue to mature themes\, this ballet is recommended for ages 14 and up. \nPreview the Magazine >>
URL:https://enfacemagazine.com/event/frankenstein/2025-03-22/2/
LOCATION:War Memorial Opera House\, 301 Van Ness Ave\, San Francisco\, CA\, 94102\, United States
CATEGORIES:Ballet,Story ballet
ATTACH;FMTTYPE=image/jpeg:https://enfacemagazine.com/wp-content/uploads/2024/07/Frankenstein_Final_Resized-e1736280490356.jpg
END:VEVENT
END:VCALENDAR