BEGIN:VCALENDAR
VERSION:2.0
PRODID:-//En Face Magazine - ECPv6.15.20//NONSGML v1.0//EN
CALSCALE:GREGORIAN
METHOD:PUBLISH
X-ORIGINAL-URL:https://enfacemagazine.com
X-WR-CALDESC:Events for En Face Magazine
REFRESH-INTERVAL;VALUE=DURATION:PT1H
X-Robots-Tag:noindex
X-PUBLISHED-TTL:PT1H
BEGIN:VTIMEZONE
TZID:America/Los_Angeles
BEGIN:DAYLIGHT
TZOFFSETFROM:-0800
TZOFFSETTO:-0700
TZNAME:PDT
DTSTART:20240310T100000
END:DAYLIGHT
BEGIN:STANDARD
TZOFFSETFROM:-0700
TZOFFSETTO:-0800
TZNAME:PST
DTSTART:20241103T090000
END:STANDARD
BEGIN:DAYLIGHT
TZOFFSETFROM:-0800
TZOFFSETTO:-0700
TZNAME:PDT
DTSTART:20250309T100000
END:DAYLIGHT
BEGIN:STANDARD
TZOFFSETFROM:-0700
TZOFFSETTO:-0800
TZNAME:PST
DTSTART:20251102T090000
END:STANDARD
BEGIN:DAYLIGHT
TZOFFSETFROM:-0800
TZOFFSETTO:-0700
TZNAME:PDT
DTSTART:20260308T100000
END:DAYLIGHT
BEGIN:STANDARD
TZOFFSETFROM:-0700
TZOFFSETTO:-0800
TZNAME:PST
DTSTART:20261101T090000
END:STANDARD
END:VTIMEZONE
BEGIN:VTIMEZONE
TZID:America/New_York
BEGIN:DAYLIGHT
TZOFFSETFROM:-0500
TZOFFSETTO:-0400
TZNAME:EDT
DTSTART:20240310T070000
END:DAYLIGHT
BEGIN:STANDARD
TZOFFSETFROM:-0400
TZOFFSETTO:-0500
TZNAME:EST
DTSTART:20241103T060000
END:STANDARD
BEGIN:DAYLIGHT
TZOFFSETFROM:-0500
TZOFFSETTO:-0400
TZNAME:EDT
DTSTART:20250309T070000
END:DAYLIGHT
BEGIN:STANDARD
TZOFFSETFROM:-0400
TZOFFSETTO:-0500
TZNAME:EST
DTSTART:20251102T060000
END:STANDARD
BEGIN:DAYLIGHT
TZOFFSETFROM:-0500
TZOFFSETTO:-0400
TZNAME:EDT
DTSTART:20260308T070000
END:DAYLIGHT
BEGIN:STANDARD
TZOFFSETFROM:-0400
TZOFFSETTO:-0500
TZNAME:EST
DTSTART:20261101T060000
END:STANDARD
END:VTIMEZONE
BEGIN:VTIMEZONE
TZID:America/Chicago
BEGIN:DAYLIGHT
TZOFFSETFROM:-0600
TZOFFSETTO:-0500
TZNAME:CDT
DTSTART:20240310T080000
END:DAYLIGHT
BEGIN:STANDARD
TZOFFSETFROM:-0500
TZOFFSETTO:-0600
TZNAME:CST
DTSTART:20241103T070000
END:STANDARD
BEGIN:DAYLIGHT
TZOFFSETFROM:-0600
TZOFFSETTO:-0500
TZNAME:CDT
DTSTART:20250309T080000
END:DAYLIGHT
BEGIN:STANDARD
TZOFFSETFROM:-0500
TZOFFSETTO:-0600
TZNAME:CST
DTSTART:20251102T070000
END:STANDARD
BEGIN:DAYLIGHT
TZOFFSETFROM:-0600
TZOFFSETTO:-0500
TZNAME:CDT
DTSTART:20260308T080000
END:DAYLIGHT
BEGIN:STANDARD
TZOFFSETFROM:-0500
TZOFFSETTO:-0600
TZNAME:CST
DTSTART:20261101T070000
END:STANDARD
END:VTIMEZONE
BEGIN:VEVENT
DTSTART;TZID=America/Los_Angeles:20250405T140000
DTEND;TZID=America/Los_Angeles:20250405T163000
DTSTAMP:20260421T121712
CREATED:20240731T221327Z
LAST-MODIFIED:20250813T140658Z
UID:10000327-1743861600-1743870600@enfacemagazine.com
SUMMARY:Marilyn
DESCRIPTION:In Dani Rowe’s gorgeously wrought world premiere\, 36-year-old Marilyn Monroe looks back at her life and memories through the only lens that matters: her own. \nMarilyn features an original score by Shannon Rugani\, iconic costumes by Emma Kingsbury\, and an arresting set design by Emma Kingsbury and David Finn. This full-length ballet promises powerful storytelling\, fusing realism and dreams. \nWORLD PREMIERE\nCo-Production with BalletMet and Tulsa Ballet
URL:https://enfacemagazine.com/event/marilyn-2/2025-04-05/1/
LOCATION:Newmark Theatre\, 1111 SW Broadway Ave\, Portland\, OR\, 97205\, United States
CATEGORIES:Ballet
ATTACH;FMTTYPE=image/jpeg:https://enfacemagazine.com/wp-content/uploads/2024/07/3-Marilyn-scaled-e1724354811356.jpg
END:VEVENT
BEGIN:VEVENT
DTSTART;TZID=America/New_York:20250405T140000
DTEND;TZID=America/New_York:20250405T163000
DTSTAMP:20260421T121713
CREATED:20241212T154505Z
LAST-MODIFIED:20250813T140633Z
UID:10001077-1743861600-1743870600@enfacemagazine.com
SUMMARY:Cinderella
DESCRIPTION:Choreographed by Alun Jones\, this dreamy and comical story of a servant turned princess is sure to delight the whole family. When Cinderella is forced to endure the antics of two ugly stepsisters\, she finds escape through a kindhearted Fairy Godmother\, a handsome prince\, and one enchanted pair of glass slippers.
URL:https://enfacemagazine.com/event/cinderella-louisville-ballet/2025-04-05/1/
LOCATION:Whitney Hall\, 501 W Main St\, Louisville\, KY\, 40202\, United States
CATEGORIES:Ballet,Story ballet
ATTACH;FMTTYPE=image/png:https://enfacemagazine.com/wp-content/uploads/2024/12/LouisvilleBalletCinderella-e1734018258917.png
END:VEVENT
BEGIN:VEVENT
DTSTART;TZID=America/Chicago:20250405T190000
DTEND;TZID=America/Chicago:20250405T213000
DTSTAMP:20260421T121713
CREATED:20250206T162811Z
LAST-MODIFIED:20250813T140633Z
UID:10001146-1743879600-1743888600@enfacemagazine.com
SUMMARY:Collage Dance Collective
DESCRIPTION:Recently named a Southern Cultural Treasure by SouthArts and the Ford Foundation\, Collage Dance Collective is one of the fastest growing dance companies in the U.S. The dynamic program of mixed repertory includes Princess Grace Award winner Joshua Manculich’s Come Rain or Shine\, an intertwining pas de quatre demonstrating our connectedness and hopefulness in every season of life’s journey\, plus Hope Boykin’s self-reflective newest piece I Am My Work\, Durante Verzola’s refreshing neo-classical ballet Luminescent set to the music of Joseph Bologne\, Chevalier de Saint-Georges\, a pioneering Black 18th-Century composer of classical music\, and Amy Hall Garner’s jubilant Bluff City Blues\, set to the music of legendary Blues musicians and drawing inspiration from Collage Dance’s hometown of Memphis. \nOne of the largest 50 ballet companies in the U.S.\, Collage’s trademark style of balancing innovation and tradition has fueled its ascent and captured the hearts of its growing family of supporters. \n“Ballet Made utterly\, gorgeously human” (High Ground News).
URL:https://enfacemagazine.com/event/collage-dance-collective/
LOCATION:Touhill Performing Arts Center\, 1 Touhill Cir\, St. Louis\, MO\, 63121\, United States
CATEGORIES:Ballet
ATTACH;FMTTYPE=image/jpeg:https://enfacemagazine.com/wp-content/uploads/2025/02/STLBCollageDancev2-e1738859574452.jpg
END:VEVENT
BEGIN:VEVENT
DTSTART;TZID=America/Los_Angeles:20250405T193000
DTEND;TZID=America/Los_Angeles:20250405T220000
DTSTAMP:20260421T121713
CREATED:20240731T221327Z
LAST-MODIFIED:20250813T140658Z
UID:10000328-1743881400-1743890400@enfacemagazine.com
SUMMARY:Marilyn
DESCRIPTION:In Dani Rowe’s gorgeously wrought world premiere\, 36-year-old Marilyn Monroe looks back at her life and memories through the only lens that matters: her own. \nMarilyn features an original score by Shannon Rugani\, iconic costumes by Emma Kingsbury\, and an arresting set design by Emma Kingsbury and David Finn. This full-length ballet promises powerful storytelling\, fusing realism and dreams. \nWORLD PREMIERE\nCo-Production with BalletMet and Tulsa Ballet
URL:https://enfacemagazine.com/event/marilyn-2/2025-04-05/2/
LOCATION:Newmark Theatre\, 1111 SW Broadway Ave\, Portland\, OR\, 97205\, United States
CATEGORIES:Ballet
ATTACH;FMTTYPE=image/jpeg:https://enfacemagazine.com/wp-content/uploads/2024/07/3-Marilyn-scaled-e1724354811356.jpg
END:VEVENT
BEGIN:VEVENT
DTSTART;TZID=America/Los_Angeles:20250405T200000
DTEND;TZID=America/Los_Angeles:20250405T223000
DTSTAMP:20260421T121713
CREATED:20240731T221920Z
LAST-MODIFIED:20250813T140632Z
UID:10000134-1743883200-1743892200@enfacemagazine.com
SUMMARY:Van Manen/Dutch Grandmaster
DESCRIPTION:A tribute to Hans van Manen\, this program showcases the nuance and elegance of the Dutch choreographer’s extensive oeuvre. Often dubbed “the grandmaster of contemporary ballet” and globally recognized for his unparalleled body of work\, van Manen’s program—curated by Rojo—celebrates his dynamic vision as a leading choreographer of his generation. Van Manen’s profound interest in human connection takes center stage in this collection of four of his renowned ballets\, including the much-anticipated SF Ballet premiere of his critically acclaimed 5 Tango’s. With wide-ranging musical context from the maestro of nuevo tango\, Astor Piazzolla\, to Bach\, Beethoven\, Britten\, and beyond\, his hallmark inventive style is on full display\, blending classical and contemporary themes while showcasing the dynamic range of our dancers.
URL:https://enfacemagazine.com/event/van-manen-dutch-grandmaster/2025-04-05/
LOCATION:War Memorial Opera House\, 301 Van Ness Ave\, San Francisco\, CA\, 94102\, United States
CATEGORIES:Ballet
ATTACH;FMTTYPE=image/jpeg:https://enfacemagazine.com/wp-content/uploads/2024/07/VanManen_E_Final_Resized-e1736280194973.jpg
END:VEVENT
BEGIN:VEVENT
DTSTART;TZID=America/New_York:20250405T200000
DTEND;TZID=America/New_York:20250405T223000
DTSTAMP:20260421T121713
CREATED:20241212T154505Z
LAST-MODIFIED:20250813T140633Z
UID:10001078-1743883200-1743892200@enfacemagazine.com
SUMMARY:Cinderella
DESCRIPTION:Choreographed by Alun Jones\, this dreamy and comical story of a servant turned princess is sure to delight the whole family. When Cinderella is forced to endure the antics of two ugly stepsisters\, she finds escape through a kindhearted Fairy Godmother\, a handsome prince\, and one enchanted pair of glass slippers.
URL:https://enfacemagazine.com/event/cinderella-louisville-ballet/2025-04-05/2/
LOCATION:Whitney Hall\, 501 W Main St\, Louisville\, KY\, 40202\, United States
CATEGORIES:Ballet,Story ballet
ATTACH;FMTTYPE=image/png:https://enfacemagazine.com/wp-content/uploads/2024/12/LouisvilleBalletCinderella-e1734018258917.png
END:VEVENT
END:VCALENDAR