BEGIN:VCALENDAR
VERSION:2.0
PRODID:-//En Face Magazine - ECPv6.15.20//NONSGML v1.0//EN
CALSCALE:GREGORIAN
METHOD:PUBLISH
X-WR-CALNAME:En Face Magazine
X-ORIGINAL-URL:https://enfacemagazine.com
X-WR-CALDESC:Events for En Face Magazine
REFRESH-INTERVAL;VALUE=DURATION:PT1H
X-Robots-Tag:noindex
X-PUBLISHED-TTL:PT1H
BEGIN:VTIMEZONE
TZID:America/Los_Angeles
BEGIN:DAYLIGHT
TZOFFSETFROM:-0800
TZOFFSETTO:-0700
TZNAME:PDT
DTSTART:20240310T100000
END:DAYLIGHT
BEGIN:STANDARD
TZOFFSETFROM:-0700
TZOFFSETTO:-0800
TZNAME:PST
DTSTART:20241103T090000
END:STANDARD
BEGIN:DAYLIGHT
TZOFFSETFROM:-0800
TZOFFSETTO:-0700
TZNAME:PDT
DTSTART:20250309T100000
END:DAYLIGHT
BEGIN:STANDARD
TZOFFSETFROM:-0700
TZOFFSETTO:-0800
TZNAME:PST
DTSTART:20251102T090000
END:STANDARD
BEGIN:DAYLIGHT
TZOFFSETFROM:-0800
TZOFFSETTO:-0700
TZNAME:PDT
DTSTART:20260308T100000
END:DAYLIGHT
BEGIN:STANDARD
TZOFFSETFROM:-0700
TZOFFSETTO:-0800
TZNAME:PST
DTSTART:20261101T090000
END:STANDARD
END:VTIMEZONE
BEGIN:VEVENT
DTSTART;TZID=America/Los_Angeles:20250408T193000
DTEND;TZID=America/Los_Angeles:20250408T220000
DTSTAMP:20260421T011156
CREATED:20240731T222025Z
LAST-MODIFIED:20250813T140632Z
UID:10000135-1744140600-1744149600@enfacemagazine.com
SUMMARY:Broken Love
DESCRIPTION:Back by popular demand\, these two standout hits captivated audiences in our 2024 Season. Both narratives are testaments to the enduring power of love\, reminding us that forgiveness transcends the boundaries of time and circumstance. Making its comeback after a popular run of shows\, Sir Frederick Ashton’s Marguerite and Armand is a story of fervent love\, heartbreak\, sacrifice\, and forgiveness. Revel in the colorful and creative world of Frida Kahlo with Annabelle Lopez Ochoa’s critically acclaimed Broken Wings. This mini masterpiece explores the life and art of the celebrated Mexican painter. Enter the realms of the paintings themselves through the lens of Kahlo’s wildly creative spirit.
URL:https://enfacemagazine.com/event/broken-love/2025-04-08/
LOCATION:War Memorial Opera House\, 301 Van Ness Ave\, San Francisco\, CA\, 94102\, United States
CATEGORIES:Ballet
ATTACH;FMTTYPE=image/jpeg:https://enfacemagazine.com/wp-content/uploads/2024/07/Broken_Love_B_Final_Resized_Heart-e1736280074812.jpg
END:VEVENT
BEGIN:VEVENT
DTSTART;TZID=America/Los_Angeles:20250408T193000
DTEND;TZID=America/Los_Angeles:20250408T220000
DTSTAMP:20260421T011156
CREATED:20250318T185413Z
LAST-MODIFIED:20250813T140632Z
UID:10001231-1744140600-1744149600@enfacemagazine.com
SUMMARY:Alvin Ailey in Berkeley
DESCRIPTION:Strength\, precision\, and passion remain the hallmarks of the august Alvin Ailey American Dance Theater more than 65 years after its inception. The company’s legendary dancers return to Berkeley with vibrant programs of new and classic works that showcase and synthesize a dazzling range of cultural influences\, from spirituals and church hymns\, jazz\, R&B\, and hip-hop\, to African dance and classical ballet. Many of the earliest Ailey works and the newest company creations share a common focus: illuminating the rich panorama of Black American experience. Ailey’s monumental Revelations serves as a beacon through it all\, and as former company dancer and keeper of the Ailey flame Sylvia Waters observes\, “It’s a testament to Alvin’s understanding of humanity and the human spirit. That\, yes\, people experience despair\, struggle\, repression\, oppression\, but they have the resilience and strength to go forward.” \nThis year’s programs feature the Bay Area premieres of four works—Jamar Roberts’ Al-Andalus Blues\, Matthew Rushing’s Sacred Songs\, Hope Boykin’s Finding Free\, and Lar Lubovitch’s Many Angels—that recently received their world premieres at New York’s City Center\, as well as new productions of Ronald K. Brown’s Grace (1999) and Elisa Monte’s Treading (1979). \nThe company’s current season celebrates the life and legacy of Artistic Director Emerita Judith Jamison\, who passed away on November 9\, 2024\, and Cal Performances dedicates the April 2025 Ailey Week and AileyCamp to her legacy as well.
URL:https://enfacemagazine.com/event/alvin-ailey-in-berkeley/2025-04-08/
LOCATION:Zellerbach Hall\, 101 Zellerbach Hall\, Berkeley\, CA\, 94720\, United States
CATEGORIES:Ballet
ATTACH;FMTTYPE=image/jpeg:https://enfacemagazine.com/wp-content/uploads/2024/07/MAIN-IMAGE-Members-of-Alvin-Ailey-American-Dance-Theater.-Photo-by-Dario-Calmese_horiz-scaled-e1731703792200.jpg
END:VEVENT
END:VCALENDAR