BEGIN:VCALENDAR
VERSION:2.0
PRODID:-//En Face Magazine - ECPv6.15.20//NONSGML v1.0//EN
CALSCALE:GREGORIAN
METHOD:PUBLISH
X-WR-CALNAME:En Face Magazine
X-ORIGINAL-URL:https://enfacemagazine.com
X-WR-CALDESC:Events for En Face Magazine
REFRESH-INTERVAL;VALUE=DURATION:PT1H
X-Robots-Tag:noindex
X-PUBLISHED-TTL:PT1H
BEGIN:VTIMEZONE
TZID:America/Los_Angeles
BEGIN:DAYLIGHT
TZOFFSETFROM:-0800
TZOFFSETTO:-0700
TZNAME:PDT
DTSTART:20240310T100000
END:DAYLIGHT
BEGIN:STANDARD
TZOFFSETFROM:-0700
TZOFFSETTO:-0800
TZNAME:PST
DTSTART:20241103T090000
END:STANDARD
BEGIN:DAYLIGHT
TZOFFSETFROM:-0800
TZOFFSETTO:-0700
TZNAME:PDT
DTSTART:20250309T100000
END:DAYLIGHT
BEGIN:STANDARD
TZOFFSETFROM:-0700
TZOFFSETTO:-0800
TZNAME:PST
DTSTART:20251102T090000
END:STANDARD
BEGIN:DAYLIGHT
TZOFFSETFROM:-0800
TZOFFSETTO:-0700
TZNAME:PDT
DTSTART:20260308T100000
END:DAYLIGHT
BEGIN:STANDARD
TZOFFSETFROM:-0700
TZOFFSETTO:-0800
TZNAME:PST
DTSTART:20261101T090000
END:STANDARD
END:VTIMEZONE
BEGIN:VEVENT
DTSTART;TZID=America/Los_Angeles:20250417T193000
DTEND;TZID=America/Los_Angeles:20250417T220000
DTSTAMP:20260419T105400
CREATED:20240731T221920Z
LAST-MODIFIED:20250813T140632Z
UID:10000446-1744918200-1744927200@enfacemagazine.com
SUMMARY:Van Manen/Dutch Grandmaster
DESCRIPTION:A tribute to Hans van Manen\, this program showcases the nuance and elegance of the Dutch choreographer’s extensive oeuvre. Often dubbed “the grandmaster of contemporary ballet” and globally recognized for his unparalleled body of work\, van Manen’s program—curated by Rojo—celebrates his dynamic vision as a leading choreographer of his generation. Van Manen’s profound interest in human connection takes center stage in this collection of four of his renowned ballets\, including the much-anticipated SF Ballet premiere of his critically acclaimed 5 Tango’s. With wide-ranging musical context from the maestro of nuevo tango\, Astor Piazzolla\, to Bach\, Beethoven\, Britten\, and beyond\, his hallmark inventive style is on full display\, blending classical and contemporary themes while showcasing the dynamic range of our dancers.
URL:https://enfacemagazine.com/event/van-manen-dutch-grandmaster/2025-04-17/
LOCATION:War Memorial Opera House\, 301 Van Ness Ave\, San Francisco\, CA\, 94102\, United States
CATEGORIES:Ballet
ATTACH;FMTTYPE=image/jpeg:https://enfacemagazine.com/wp-content/uploads/2024/07/VanManen_E_Final_Resized-e1736280194973.jpg
END:VEVENT
BEGIN:VEVENT
DTSTART;TZID=America/Los_Angeles:20250417T193000
DTEND;TZID=America/Los_Angeles:20250417T223000
DTSTAMP:20260419T105400
CREATED:20240731T221522Z
LAST-MODIFIED:20250813T140632Z
UID:10000300-1744918200-1744929000@enfacemagazine.com
SUMMARY:Roméo et Juliette
DESCRIPTION:Jean-Christophe Maillot’s Roméo et Juliette distills the Shakespearean tragedy to its most moving\, timeless core. Watch as young love blooms\, grows\, and overwhelms in this magnetic refresh of the classic story. Featuring emotional performances by PNB Company dancers and Prokofiev’s powerful score masterfully rendered by the PNB Orchestra\, you won’t want to miss this spring offering.
URL:https://enfacemagazine.com/event/romeo-et-juliette-2/2025-04-17/
LOCATION:McCaw Hall\, 321 Mercer St\, Seattle\, WA\, 98109\, United States
CATEGORIES:Ballet,Story ballet
ATTACH;FMTTYPE=image/png:https://enfacemagazine.com/wp-content/uploads/2024/07/pnb-romeoetjuliet.png
END:VEVENT
END:VCALENDAR