BEGIN:VCALENDAR
VERSION:2.0
PRODID:-//En Face Magazine - ECPv6.15.20//NONSGML v1.0//EN
CALSCALE:GREGORIAN
METHOD:PUBLISH
X-WR-CALNAME:En Face Magazine
X-ORIGINAL-URL:https://enfacemagazine.com
X-WR-CALDESC:Events for En Face Magazine
REFRESH-INTERVAL;VALUE=DURATION:PT1H
X-Robots-Tag:noindex
X-PUBLISHED-TTL:PT1H
BEGIN:VTIMEZONE
TZID:America/New_York
BEGIN:DAYLIGHT
TZOFFSETFROM:-0500
TZOFFSETTO:-0400
TZNAME:EDT
DTSTART:20240310T070000
END:DAYLIGHT
BEGIN:STANDARD
TZOFFSETFROM:-0400
TZOFFSETTO:-0500
TZNAME:EST
DTSTART:20241103T060000
END:STANDARD
BEGIN:DAYLIGHT
TZOFFSETFROM:-0500
TZOFFSETTO:-0400
TZNAME:EDT
DTSTART:20250309T070000
END:DAYLIGHT
BEGIN:STANDARD
TZOFFSETFROM:-0400
TZOFFSETTO:-0500
TZNAME:EST
DTSTART:20251102T060000
END:STANDARD
BEGIN:DAYLIGHT
TZOFFSETFROM:-0500
TZOFFSETTO:-0400
TZNAME:EDT
DTSTART:20260308T070000
END:DAYLIGHT
BEGIN:STANDARD
TZOFFSETFROM:-0400
TZOFFSETTO:-0500
TZNAME:EST
DTSTART:20261101T060000
END:STANDARD
END:VTIMEZONE
BEGIN:VTIMEZONE
TZID:America/Los_Angeles
BEGIN:DAYLIGHT
TZOFFSETFROM:-0800
TZOFFSETTO:-0700
TZNAME:PDT
DTSTART:20240310T100000
END:DAYLIGHT
BEGIN:STANDARD
TZOFFSETFROM:-0700
TZOFFSETTO:-0800
TZNAME:PST
DTSTART:20241103T090000
END:STANDARD
BEGIN:DAYLIGHT
TZOFFSETFROM:-0800
TZOFFSETTO:-0700
TZNAME:PDT
DTSTART:20250309T100000
END:DAYLIGHT
BEGIN:STANDARD
TZOFFSETFROM:-0700
TZOFFSETTO:-0800
TZNAME:PST
DTSTART:20251102T090000
END:STANDARD
BEGIN:DAYLIGHT
TZOFFSETFROM:-0800
TZOFFSETTO:-0700
TZNAME:PDT
DTSTART:20260308T100000
END:DAYLIGHT
BEGIN:STANDARD
TZOFFSETFROM:-0700
TZOFFSETTO:-0800
TZNAME:PST
DTSTART:20261101T090000
END:STANDARD
END:VTIMEZONE
BEGIN:VTIMEZONE
TZID:America/Chicago
BEGIN:DAYLIGHT
TZOFFSETFROM:-0600
TZOFFSETTO:-0500
TZNAME:CDT
DTSTART:20240310T080000
END:DAYLIGHT
BEGIN:STANDARD
TZOFFSETFROM:-0500
TZOFFSETTO:-0600
TZNAME:CST
DTSTART:20241103T070000
END:STANDARD
BEGIN:DAYLIGHT
TZOFFSETFROM:-0600
TZOFFSETTO:-0500
TZNAME:CDT
DTSTART:20250309T080000
END:DAYLIGHT
BEGIN:STANDARD
TZOFFSETFROM:-0500
TZOFFSETTO:-0600
TZNAME:CST
DTSTART:20251102T070000
END:STANDARD
BEGIN:DAYLIGHT
TZOFFSETFROM:-0600
TZOFFSETTO:-0500
TZNAME:CDT
DTSTART:20260308T080000
END:DAYLIGHT
BEGIN:STANDARD
TZOFFSETFROM:-0500
TZOFFSETTO:-0600
TZNAME:CST
DTSTART:20261101T070000
END:STANDARD
END:VTIMEZONE
BEGIN:VTIMEZONE
TZID:America/Indiana/Indianapolis
BEGIN:DAYLIGHT
TZOFFSETFROM:-0500
TZOFFSETTO:-0400
TZNAME:EDT
DTSTART:20240310T070000
END:DAYLIGHT
BEGIN:STANDARD
TZOFFSETFROM:-0400
TZOFFSETTO:-0500
TZNAME:EST
DTSTART:20241103T060000
END:STANDARD
BEGIN:DAYLIGHT
TZOFFSETFROM:-0500
TZOFFSETTO:-0400
TZNAME:EDT
DTSTART:20250309T070000
END:DAYLIGHT
BEGIN:STANDARD
TZOFFSETFROM:-0400
TZOFFSETTO:-0500
TZNAME:EST
DTSTART:20251102T060000
END:STANDARD
BEGIN:DAYLIGHT
TZOFFSETFROM:-0500
TZOFFSETTO:-0400
TZNAME:EDT
DTSTART:20260308T070000
END:DAYLIGHT
BEGIN:STANDARD
TZOFFSETFROM:-0400
TZOFFSETTO:-0500
TZNAME:EST
DTSTART:20261101T060000
END:STANDARD
END:VTIMEZONE
BEGIN:VEVENT
DTSTART;TZID=America/New_York:20250427T140000
DTEND;TZID=America/New_York:20250427T163000
DTSTAMP:20260420T233309
CREATED:20240731T222038Z
LAST-MODIFIED:20250813T140632Z
UID:10000396-1745762400-1745771400@enfacemagazine.com
SUMMARY:Alice (in wonderland)
DESCRIPTION:Fall down the rabbit hole with Edwaard Liang’s ALICE (in wonderland). This fantastical adventure will come to life with familiar characters from Lewis Carroll’s stories. Journey alongside Alice as she tumbles into the whimsical wonderland\, encountering curious creatures\, magical transformations\, and the elusive White Rabbit. With vibrant costumes\, playful puppetry and zany choreography\, this production will entertain the whole family with an unforgettable escape into a world where imagination knows no bounds. Don’t miss your chance to be part of this extraordinary adventure! 
URL:https://enfacemagazine.com/event/alice-in-wonderland/2025-04-27/
LOCATION:Capital One Hall\, 7750 Capital One Tower Road\, Tysons\, VA\, 22102\, United States
CATEGORIES:Ballet,Story ballet
ATTACH;FMTTYPE=image/jpeg:https://enfacemagazine.com/wp-content/uploads/2024/07/TWB-ALICE-Lft7wr.tmp_.jpg
END:VEVENT
BEGIN:VEVENT
DTSTART;TZID=America/New_York:20250427T140000
DTEND;TZID=America/New_York:20250427T163000
DTSTAMP:20260420T233309
CREATED:20250319T134849Z
LAST-MODIFIED:20250813T140632Z
UID:10001241-1745762400-1745771400@enfacemagazine.com
SUMMARY:Relentless Resident Visions
DESCRIPTION:This spring PHILADANCO! showcases new and classic works from their cutting-edge choreographers\, Christopher Huggins\, Tommie-Waheed Evans\, Ray Mercer\, and Milton Myers. The performance series emphasized the unity and diversity within the PHILADANCO! family\, highlighting the choreographers’ unique backgrounds and distinct styles. \nOften described as “a brilliant mix of miracle of skill\, energy and artistry\,” PHILADANCO!  dancers are among the best in the world.  Join us as we celebrate these brilliant makers within the PHILADANCO! artistic family.
URL:https://enfacemagazine.com/event/relentless-resident-visions/2025-04-27/
LOCATION:Perelman Theater\, 300 South Broad St\, Philadelphia\, PA\, 19102\, United States
CATEGORIES:Ballet
ATTACH;FMTTYPE=image/png:https://enfacemagazine.com/wp-content/uploads/2025/03/PHILADANCOSpring-e1742392018180.png
END:VEVENT
BEGIN:VEVENT
DTSTART;TZID=America/Los_Angeles:20250427T140000
DTEND;TZID=America/Los_Angeles:20250427T163000
DTSTAMP:20260420T233309
CREATED:20250403T160002Z
LAST-MODIFIED:20250813T140632Z
UID:10001304-1745762400-1745771400@enfacemagazine.com
SUMMARY:Dance Series 2
DESCRIPTION:New premieres and old favorites define Dance Series 2. Artistic Director Amy Seiwert creates a World Premiere\, her 13th ballet for the Company. Trey McIntyre returns to Smuin with the Bay Area premiere of his Wild Sweet Love\, an ode to the ups and downs of love set to a range of music from Mendelssohn to Queen. McIntyre’s “fertility of invention and modernity of spirit” (The New York Times) is no stranger to Smuin\, and we’re delighted to add another of his ballets to our repertory. Completing the program is a pair of favorites: Michael Smuin’s Rodin-inspired The Eternal Idol\, originally choreographed for American Ballet Theatre superstars Cynthia Gregory and Ivan Nagy\, and Smuin Alum Rex Wheeler’s spritely\, springy Sinfonietta. \nYou can also catch Dance Series 2 in Walnut Creek (May 23 & 24)\, Mountain View (May 29–June 1)\, and Carmel (June 7 & 8).
URL:https://enfacemagazine.com/event/dance-series-2-sf/2025-04-27/
LOCATION:Blue Shield of California Theater at YBCA\, 700 Howard St\, San Francisco\, CA\, 94103\, United States
CATEGORIES:Ballet
ATTACH;FMTTYPE=image/png:https://enfacemagazine.com/wp-content/uploads/2025/03/SmuinDanceSeries2-e1742404667891.png
END:VEVENT
BEGIN:VEVENT
DTSTART;TZID=America/Los_Angeles:20250427T140000
DTEND;TZID=America/Los_Angeles:20250427T170000
DTSTAMP:20260420T233309
CREATED:20240731T222026Z
LAST-MODIFIED:20250813T140602Z
UID:10000370-1745762400-1745773200@enfacemagazine.com
SUMMARY:Encore Frankenstein
DESCRIPTION:Based on Mary Shelley’s 19th-century novel-turned-pop culture classic\, the captivating must-see production from Liam Scarlett returns to our stage. Frankenstein features sensational choreography\, cinematic design\, costumes\, special effects\, pyrotechnics\, and a haunting original score from Lowell Liebermann. Scarlett’s production of the pioneering science fiction novel is a visceral and profoundly emotional tale of life\, death\, love\, and identity. \nDue to mature themes\, this ballet is recommended for ages 14 and up.
URL:https://enfacemagazine.com/event/encore-frankenstein/2025-04-27/
LOCATION:War Memorial Opera House\, 301 Van Ness Ave\, San Francisco\, CA\, 94102\, United States
CATEGORIES:Ballet,Story ballet
ATTACH;FMTTYPE=image/jpeg:https://enfacemagazine.com/wp-content/uploads/2024/07/C_SFB_240703_1790_V2_Final_Resized-e1736280783644.jpg
END:VEVENT
BEGIN:VEVENT
DTSTART;TZID=America/Chicago:20250427T143000
DTEND;TZID=America/Chicago:20250427T170000
DTSTAMP:20260420T233309
CREATED:20240731T221835Z
LAST-MODIFIED:20250813T140632Z
UID:10000384-1745764200-1745773200@enfacemagazine.com
SUMMARY:Feels Like Broadway
DESCRIPTION:Many award-winning choreographers have created ballets for both the Broadway stage and for ballet companies to perform on their own. Don’t miss this opportunity to see Saint Louis Ballet celebrate the “essence” of American musical theatre with these remarkable ballets that project the style\, energy and rhythms of the Broadway stage. With accompaniment by full orchestra—the Springfield Symphony Orchestra for the third consecutive year. \nCarousel (A Dance): Renowned soloist and choreographer Christopher Wheeldon set this creation to Richard Rodgers’ Broadway score. \nInterplay: Jerome Robbins choreographed this jazzy and distinctly American ballet that some consider a precursor (and uncannily similar) to his famous West Side Story. \nWho Cares?: George Balanchine set his lively ballet to hummable Gershwin melodies\, creating what some critics called “Broadway on pointe.”
URL:https://enfacemagazine.com/event/feels-like-broadway/2025-04-27/
LOCATION:Touhill Performing Arts Center\, 1 Touhill Cir\, St. Louis\, MO\, 63121\, United States
CATEGORIES:Ballet
ATTACH;FMTTYPE=image/png:https://enfacemagazine.com/wp-content/uploads/2024/07/STLB_Broadwayv2-e1724353570194.png
END:VEVENT
BEGIN:VEVENT
DTSTART;TZID=America/Indiana/Indianapolis:20250427T150000
DTEND;TZID=America/Indiana/Indianapolis:20250427T170000
DTSTAMP:20260420T233309
CREATED:20240610T231119Z
LAST-MODIFIED:20250813T140632Z
UID:10000662-1745766000-1745773200@enfacemagazine.com
SUMMARY:Family Series: Sleeping Beauty Suite
DESCRIPTION:The production of a Family Series: Sleeping Beauty Suite is a timeless fairytale that the entire family will enjoy as this is an abbreviated version of the full-length ballet\, The Sleeping Beauty. Perfect for the young arts lovers of your family\, we hope you join Indianapolis Ballet for this closing season performance\, April 25–27\, 2025\, at the Tobias Theater at Newfields.
URL:https://enfacemagazine.com/event/family-series-sleeping-beauty-suite/2025-04-27/
LOCATION:The Tobias Theater at Newfields\, 4000 Michigan Rd\, Indianapolis\, IN\, 46208\, United States
CATEGORIES:Ballet,Family Fun
ATTACH;FMTTYPE=image/png:https://enfacemagazine.com/wp-content/uploads/2024/06/IBSleepingBeauty_Horizontal-e1724357620490.png
GEO:39.8260¡ N;86.1857¡ W
X-APPLE-STRUCTURED-LOCATION;VALUE=URI;X-ADDRESS=The Tobias Theater at Newfields 4000 Michigan Rd Indianapolis IN 46208 United States;X-APPLE-RADIUS=500;X-TITLE=4000 Michigan Rd:geo:86.1857¡ W,39.8260¡ N
END:VEVENT
BEGIN:VEVENT
DTSTART;TZID=America/New_York:20250427T150000
DTEND;TZID=America/New_York:20250427T173000
DTSTAMP:20260420T233309
CREATED:20240731T222439Z
LAST-MODIFIED:20250813T140632Z
UID:10000885-1745766000-1745775000@enfacemagazine.com
SUMMARY:Innovators & Icons I
DESCRIPTION:Inspired by a Company engagement at the Edinburgh Festival and set to an evocative Mendelssohn score\, Balanchine’s Scotch Symphony\, for a lead couple and a corps de ballet\, is a nod to the romantic tradition of ballet. Jerome Robbins’ enthralling Glass Pieces\, a perennial favorite in the repertory\, moves through moods to rise to a galvanizingly energetic finale. And while Justin Peck is celebrated for his high-energy ensemble works\, Belles-Lettres reveals another aspect of his voice\, with its series of gently lyrical pas de deux and solos steeped in an air of reflective romanticism.
URL:https://enfacemagazine.com/event/innovators-icons-i/2025-04-27/
LOCATION:David H. Koch Theater\, 20 Lincoln Center Plaza\, New York\, NY\, 10023\, United States
CATEGORIES:Ballet
ATTACH;FMTTYPE=image/png:https://enfacemagazine.com/wp-content/uploads/2024/07/NYCB_belles-lettres-key-e1724438460196.png
END:VEVENT
END:VCALENDAR