BEGIN:VCALENDAR
VERSION:2.0
PRODID:-//En Face Magazine - ECPv6.15.20//NONSGML v1.0//EN
CALSCALE:GREGORIAN
METHOD:PUBLISH
X-WR-CALNAME:En Face Magazine
X-ORIGINAL-URL:https://enfacemagazine.com
X-WR-CALDESC:Events for En Face Magazine
REFRESH-INTERVAL;VALUE=DURATION:PT1H
X-Robots-Tag:noindex
X-PUBLISHED-TTL:PT1H
BEGIN:VTIMEZONE
TZID:America/New_York
BEGIN:DAYLIGHT
TZOFFSETFROM:-0500
TZOFFSETTO:-0400
TZNAME:EDT
DTSTART:20240310T070000
END:DAYLIGHT
BEGIN:STANDARD
TZOFFSETFROM:-0400
TZOFFSETTO:-0500
TZNAME:EST
DTSTART:20241103T060000
END:STANDARD
BEGIN:DAYLIGHT
TZOFFSETFROM:-0500
TZOFFSETTO:-0400
TZNAME:EDT
DTSTART:20250309T070000
END:DAYLIGHT
BEGIN:STANDARD
TZOFFSETFROM:-0400
TZOFFSETTO:-0500
TZNAME:EST
DTSTART:20251102T060000
END:STANDARD
BEGIN:DAYLIGHT
TZOFFSETFROM:-0500
TZOFFSETTO:-0400
TZNAME:EDT
DTSTART:20260308T070000
END:DAYLIGHT
BEGIN:STANDARD
TZOFFSETFROM:-0400
TZOFFSETTO:-0500
TZNAME:EST
DTSTART:20261101T060000
END:STANDARD
END:VTIMEZONE
BEGIN:VTIMEZONE
TZID:America/Los_Angeles
BEGIN:DAYLIGHT
TZOFFSETFROM:-0800
TZOFFSETTO:-0700
TZNAME:PDT
DTSTART:20240310T100000
END:DAYLIGHT
BEGIN:STANDARD
TZOFFSETFROM:-0700
TZOFFSETTO:-0800
TZNAME:PST
DTSTART:20241103T090000
END:STANDARD
BEGIN:DAYLIGHT
TZOFFSETFROM:-0800
TZOFFSETTO:-0700
TZNAME:PDT
DTSTART:20250309T100000
END:DAYLIGHT
BEGIN:STANDARD
TZOFFSETFROM:-0700
TZOFFSETTO:-0800
TZNAME:PST
DTSTART:20251102T090000
END:STANDARD
BEGIN:DAYLIGHT
TZOFFSETFROM:-0800
TZOFFSETTO:-0700
TZNAME:PDT
DTSTART:20260308T100000
END:DAYLIGHT
BEGIN:STANDARD
TZOFFSETFROM:-0700
TZOFFSETTO:-0800
TZNAME:PST
DTSTART:20261101T090000
END:STANDARD
END:VTIMEZONE
BEGIN:VEVENT
DTSTART;TZID=America/New_York:20250430T193000
DTEND;TZID=America/New_York:20250430T220000
DTSTAMP:20260421T011103
CREATED:20240731T222439Z
LAST-MODIFIED:20250813T140632Z
UID:10000886-1746041400-1746050400@enfacemagazine.com
SUMMARY:Innovators & Icons I
DESCRIPTION:Inspired by a Company engagement at the Edinburgh Festival and set to an evocative Mendelssohn score\, Balanchine’s Scotch Symphony\, for a lead couple and a corps de ballet\, is a nod to the romantic tradition of ballet. Jerome Robbins’ enthralling Glass Pieces\, a perennial favorite in the repertory\, moves through moods to rise to a galvanizingly energetic finale. And while Justin Peck is celebrated for his high-energy ensemble works\, Belles-Lettres reveals another aspect of his voice\, with its series of gently lyrical pas de deux and solos steeped in an air of reflective romanticism.
URL:https://enfacemagazine.com/event/innovators-icons-i/2025-04-30/
LOCATION:David H. Koch Theater\, 20 Lincoln Center Plaza\, New York\, NY\, 10023\, United States
CATEGORIES:Ballet
ATTACH;FMTTYPE=image/png:https://enfacemagazine.com/wp-content/uploads/2024/07/NYCB_belles-lettres-key-e1724438460196.png
END:VEVENT
BEGIN:VEVENT
DTSTART;TZID=America/Los_Angeles:20250430T193000
DTEND;TZID=America/Los_Angeles:20250430T223000
DTSTAMP:20260421T011103
CREATED:20240731T222026Z
LAST-MODIFIED:20250813T140602Z
UID:10000372-1746041400-1746052200@enfacemagazine.com
SUMMARY:Encore Frankenstein
DESCRIPTION:Based on Mary Shelley’s 19th-century novel-turned-pop culture classic\, the captivating must-see production from Liam Scarlett returns to our stage. Frankenstein features sensational choreography\, cinematic design\, costumes\, special effects\, pyrotechnics\, and a haunting original score from Lowell Liebermann. Scarlett’s production of the pioneering science fiction novel is a visceral and profoundly emotional tale of life\, death\, love\, and identity. \nDue to mature themes\, this ballet is recommended for ages 14 and up.
URL:https://enfacemagazine.com/event/encore-frankenstein/2025-04-30/
LOCATION:War Memorial Opera House\, 301 Van Ness Ave\, San Francisco\, CA\, 94102\, United States
CATEGORIES:Ballet,Story ballet
ATTACH;FMTTYPE=image/jpeg:https://enfacemagazine.com/wp-content/uploads/2024/07/C_SFB_240703_1790_V2_Final_Resized-e1736280783644.jpg
END:VEVENT
END:VCALENDAR