BEGIN:VCALENDAR
VERSION:2.0
PRODID:-//En Face Magazine - ECPv6.15.20//NONSGML v1.0//EN
CALSCALE:GREGORIAN
METHOD:PUBLISH
X-WR-CALNAME:En Face Magazine
X-ORIGINAL-URL:https://enfacemagazine.com
X-WR-CALDESC:Events for En Face Magazine
REFRESH-INTERVAL;VALUE=DURATION:PT1H
X-Robots-Tag:noindex
X-PUBLISHED-TTL:PT1H
BEGIN:VTIMEZONE
TZID:America/New_York
BEGIN:DAYLIGHT
TZOFFSETFROM:-0500
TZOFFSETTO:-0400
TZNAME:EDT
DTSTART:20240310T070000
END:DAYLIGHT
BEGIN:STANDARD
TZOFFSETFROM:-0400
TZOFFSETTO:-0500
TZNAME:EST
DTSTART:20241103T060000
END:STANDARD
BEGIN:DAYLIGHT
TZOFFSETFROM:-0500
TZOFFSETTO:-0400
TZNAME:EDT
DTSTART:20250309T070000
END:DAYLIGHT
BEGIN:STANDARD
TZOFFSETFROM:-0400
TZOFFSETTO:-0500
TZNAME:EST
DTSTART:20251102T060000
END:STANDARD
BEGIN:DAYLIGHT
TZOFFSETFROM:-0500
TZOFFSETTO:-0400
TZNAME:EDT
DTSTART:20260308T070000
END:DAYLIGHT
BEGIN:STANDARD
TZOFFSETFROM:-0400
TZOFFSETTO:-0500
TZNAME:EST
DTSTART:20261101T060000
END:STANDARD
END:VTIMEZONE
BEGIN:VEVENT
DTSTART;TZID=America/New_York:20250514T193000
DTEND;TZID=America/New_York:20250514T220000
DTSTAMP:20260421T083847
CREATED:20240731T222517Z
LAST-MODIFIED:20250813T140602Z
UID:10000165-1747251000-1747260000@enfacemagazine.com
SUMMARY:All Ravel
DESCRIPTION:In 1975 the Company presented a festival dedicated to the music of the French composer Maurice Ravel. To honor the 50th anniversary of the event\, the Company offers this program featuring four works that had their premieres during the festival: Jerome Robbins’ playful In G Major\, with sets and costumes by the Art Deco master Erté; Pavane\, a solo work from Balanchine for a female dancer; Errante\, returning from its lauded Spring 2024 revival; and Sonatine\, a pas de deux marked by a lighthearted spirit of dancers at play. The program closes with Balanchine’s entrancingly mysterious La Valse\, an enduring classic first performed in 1951.
URL:https://enfacemagazine.com/event/all-ravel/2025-05-14/
LOCATION:David H. Koch Theater\, 20 Lincoln Center Plaza\, New York\, NY\, 10023\, United States
CATEGORIES:Ballet
ATTACH;FMTTYPE=image/png:https://enfacemagazine.com/wp-content/uploads/2024/07/NYCB_AllRavel_Spring.png
END:VEVENT
END:VCALENDAR