BEGIN:VCALENDAR
VERSION:2.0
PRODID:-//En Face Magazine - ECPv6.15.20//NONSGML v1.0//EN
CALSCALE:GREGORIAN
METHOD:PUBLISH
X-WR-CALNAME:En Face Magazine
X-ORIGINAL-URL:https://enfacemagazine.com
X-WR-CALDESC:Events for En Face Magazine
REFRESH-INTERVAL;VALUE=DURATION:PT1H
X-Robots-Tag:noindex
X-PUBLISHED-TTL:PT1H
BEGIN:VTIMEZONE
TZID:America/New_York
BEGIN:DAYLIGHT
TZOFFSETFROM:-0500
TZOFFSETTO:-0400
TZNAME:EDT
DTSTART:20240310T070000
END:DAYLIGHT
BEGIN:STANDARD
TZOFFSETFROM:-0400
TZOFFSETTO:-0500
TZNAME:EST
DTSTART:20241103T060000
END:STANDARD
BEGIN:DAYLIGHT
TZOFFSETFROM:-0500
TZOFFSETTO:-0400
TZNAME:EDT
DTSTART:20250309T070000
END:DAYLIGHT
BEGIN:STANDARD
TZOFFSETFROM:-0400
TZOFFSETTO:-0500
TZNAME:EST
DTSTART:20251102T060000
END:STANDARD
BEGIN:DAYLIGHT
TZOFFSETFROM:-0500
TZOFFSETTO:-0400
TZNAME:EDT
DTSTART:20260308T070000
END:DAYLIGHT
BEGIN:STANDARD
TZOFFSETFROM:-0400
TZOFFSETTO:-0500
TZNAME:EST
DTSTART:20261101T060000
END:STANDARD
END:VTIMEZONE
BEGIN:VTIMEZONE
TZID:America/Los_Angeles
BEGIN:DAYLIGHT
TZOFFSETFROM:-0800
TZOFFSETTO:-0700
TZNAME:PDT
DTSTART:20240310T100000
END:DAYLIGHT
BEGIN:STANDARD
TZOFFSETFROM:-0700
TZOFFSETTO:-0800
TZNAME:PST
DTSTART:20241103T090000
END:STANDARD
BEGIN:DAYLIGHT
TZOFFSETFROM:-0800
TZOFFSETTO:-0700
TZNAME:PDT
DTSTART:20250309T100000
END:DAYLIGHT
BEGIN:STANDARD
TZOFFSETFROM:-0700
TZOFFSETTO:-0800
TZNAME:PST
DTSTART:20251102T090000
END:STANDARD
BEGIN:DAYLIGHT
TZOFFSETFROM:-0800
TZOFFSETTO:-0700
TZNAME:PDT
DTSTART:20260308T100000
END:DAYLIGHT
BEGIN:STANDARD
TZOFFSETFROM:-0700
TZOFFSETTO:-0800
TZNAME:PST
DTSTART:20261101T090000
END:STANDARD
END:VTIMEZONE
BEGIN:VEVENT
DTSTART;TZID=America/New_York:20250515T193000
DTEND;TZID=America/New_York:20250515T220000
DTSTAMP:20260421T204656
CREATED:20240731T221023Z
LAST-MODIFIED:20250813T140602Z
UID:10000094-1747337400-1747346400@enfacemagazine.com
SUMMARY:Spring Experience
DESCRIPTION:The 2025 Spring Experience program combines three sublime ballets that showcase the breadth and beauty of ballet today. Alongside Mikko Nissinen’s brilliantly reimagined Raymonda\, the program includes two beloved works of Jiři Kylián\, who is the among the most revered choreographers of our time.
URL:https://enfacemagazine.com/event/spring-experience/2025-05-15/
LOCATION:Citizens Opera House\, 539 Washington St\, Boston\, MA\, _02111\, United States
CATEGORIES:Ballet
ATTACH;FMTTYPE=image/png:https://enfacemagazine.com/wp-content/uploads/2024/07/BBSpringExp2025-e1711721930190-whEnyW.tmp_-e1724359514600.png
GEO:42.3540¡ N;71.0623¡ W
X-APPLE-STRUCTURED-LOCATION;VALUE=URI;X-ADDRESS=Citizens Opera House 539 Washington St Boston MA _02111 United States;X-APPLE-RADIUS=500;X-TITLE=539 Washington St:geo:71.0623¡ W,42.3540¡ N
END:VEVENT
BEGIN:VEVENT
DTSTART;TZID=America/New_York:20250515T193000
DTEND;TZID=America/New_York:20250515T220000
DTSTAMP:20260421T204656
CREATED:20240731T222517Z
LAST-MODIFIED:20250813T140602Z
UID:10000856-1747337400-1747346400@enfacemagazine.com
SUMMARY:All Ravel
DESCRIPTION:In 1975 the Company presented a festival dedicated to the music of the French composer Maurice Ravel. To honor the 50th anniversary of the event\, the Company offers this program featuring four works that had their premieres during the festival: Jerome Robbins’ playful In G Major\, with sets and costumes by the Art Deco master Erté; Pavane\, a solo work from Balanchine for a female dancer; Errante\, returning from its lauded Spring 2024 revival; and Sonatine\, a pas de deux marked by a lighthearted spirit of dancers at play. The program closes with Balanchine’s entrancingly mysterious La Valse\, an enduring classic first performed in 1951.
URL:https://enfacemagazine.com/event/all-ravel/2025-05-15/
LOCATION:David H. Koch Theater\, 20 Lincoln Center Plaza\, New York\, NY\, 10023\, United States
CATEGORIES:Ballet
ATTACH;FMTTYPE=image/png:https://enfacemagazine.com/wp-content/uploads/2024/07/NYCB_AllRavel_Spring.png
END:VEVENT
BEGIN:VEVENT
DTSTART;TZID=America/Los_Angeles:20250515T193000
DTEND;TZID=America/Los_Angeles:20250515T220000
DTSTAMP:20260421T204656
CREATED:20250421T202909Z
LAST-MODIFIED:20250813T140602Z
UID:10001477-1747337400-1747346400@enfacemagazine.com
SUMMARY:Spring Season 2025
DESCRIPTION:Experience the world premiere of Alonzo King’s first-ever collaboration with legendary jazz trumpeter and composer Ambrose Akinmusire\, performing live with LINES Ballet. The program also includes the return King’s enormously popular Scheherazade\, with a score by the late four-time Grammy Award–winning tabla master Zakir Hussain. Join us as we pay tribute to Zakir\, our longtime collaborator and friend\, hailed by The New York Times as “a master of North Indian classical music and a linchpin of far-reaching world-music fusions.”
URL:https://enfacemagazine.com/event/spring-season-2025/2025-05-15/
LOCATION:Blue Shield of California Theater at YBCA\, 700 Howard St\, San Francisco\, CA\, 94103\, United States
CATEGORIES:Ballet
ATTACH;FMTTYPE=image/jpeg:https://enfacemagazine.com/wp-content/uploads/2025/04/AKLB-_Dancers-Paulo-Arrais-and-Keelan-Whitmore.jpg
END:VEVENT
END:VCALENDAR