BEGIN:VCALENDAR
VERSION:2.0
PRODID:-//En Face Magazine - ECPv6.15.20//NONSGML v1.0//EN
CALSCALE:GREGORIAN
METHOD:PUBLISH
X-ORIGINAL-URL:https://enfacemagazine.com
X-WR-CALDESC:Events for En Face Magazine
REFRESH-INTERVAL;VALUE=DURATION:PT1H
X-Robots-Tag:noindex
X-PUBLISHED-TTL:PT1H
BEGIN:VTIMEZONE
TZID:America/Chicago
BEGIN:DAYLIGHT
TZOFFSETFROM:-0600
TZOFFSETTO:-0500
TZNAME:CDT
DTSTART:20240310T080000
END:DAYLIGHT
BEGIN:STANDARD
TZOFFSETFROM:-0500
TZOFFSETTO:-0600
TZNAME:CST
DTSTART:20241103T070000
END:STANDARD
BEGIN:DAYLIGHT
TZOFFSETFROM:-0600
TZOFFSETTO:-0500
TZNAME:CDT
DTSTART:20250309T080000
END:DAYLIGHT
BEGIN:STANDARD
TZOFFSETFROM:-0500
TZOFFSETTO:-0600
TZNAME:CST
DTSTART:20251102T070000
END:STANDARD
BEGIN:DAYLIGHT
TZOFFSETFROM:-0600
TZOFFSETTO:-0500
TZNAME:CDT
DTSTART:20260308T080000
END:DAYLIGHT
BEGIN:STANDARD
TZOFFSETFROM:-0500
TZOFFSETTO:-0600
TZNAME:CST
DTSTART:20261101T070000
END:STANDARD
END:VTIMEZONE
BEGIN:VTIMEZONE
TZID:America/New_York
BEGIN:DAYLIGHT
TZOFFSETFROM:-0500
TZOFFSETTO:-0400
TZNAME:EDT
DTSTART:20240310T070000
END:DAYLIGHT
BEGIN:STANDARD
TZOFFSETFROM:-0400
TZOFFSETTO:-0500
TZNAME:EST
DTSTART:20241103T060000
END:STANDARD
BEGIN:DAYLIGHT
TZOFFSETFROM:-0500
TZOFFSETTO:-0400
TZNAME:EDT
DTSTART:20250309T070000
END:DAYLIGHT
BEGIN:STANDARD
TZOFFSETFROM:-0400
TZOFFSETTO:-0500
TZNAME:EST
DTSTART:20251102T060000
END:STANDARD
BEGIN:DAYLIGHT
TZOFFSETFROM:-0500
TZOFFSETTO:-0400
TZNAME:EDT
DTSTART:20260308T070000
END:DAYLIGHT
BEGIN:STANDARD
TZOFFSETFROM:-0400
TZOFFSETTO:-0500
TZNAME:EST
DTSTART:20261101T060000
END:STANDARD
END:VTIMEZONE
BEGIN:VTIMEZONE
TZID:America/Los_Angeles
BEGIN:DAYLIGHT
TZOFFSETFROM:-0800
TZOFFSETTO:-0700
TZNAME:PDT
DTSTART:20240310T100000
END:DAYLIGHT
BEGIN:STANDARD
TZOFFSETFROM:-0700
TZOFFSETTO:-0800
TZNAME:PST
DTSTART:20241103T090000
END:STANDARD
BEGIN:DAYLIGHT
TZOFFSETFROM:-0800
TZOFFSETTO:-0700
TZNAME:PDT
DTSTART:20250309T100000
END:DAYLIGHT
BEGIN:STANDARD
TZOFFSETFROM:-0700
TZOFFSETTO:-0800
TZNAME:PST
DTSTART:20251102T090000
END:STANDARD
BEGIN:DAYLIGHT
TZOFFSETFROM:-0800
TZOFFSETTO:-0700
TZNAME:PDT
DTSTART:20260308T100000
END:DAYLIGHT
BEGIN:STANDARD
TZOFFSETFROM:-0700
TZOFFSETTO:-0800
TZNAME:PST
DTSTART:20261101T090000
END:STANDARD
END:VTIMEZONE
BEGIN:VEVENT
DTSTART;TZID=America/Chicago:20250517T140000
DTEND;TZID=America/Chicago:20250517T163000
DTSTAMP:20260421T180404
CREATED:20240731T222033Z
LAST-MODIFIED:20250813T140602Z
UID:10000401-1747490400-1747499400@enfacemagazine.com
SUMMARY:Giselle
DESCRIPTION:Seduced and forsaken\, the beautiful but bereft Giselle succumbs to madness and a broken heart. Yet even in death her love for her faithless suitor saves him from the ravages of avenging ghostly maidens. Join us as TBT’s Artistic Director presents his brilliant interpretation of this iconic masterpiece.
URL:https://enfacemagazine.com/event/tbt-giselle/2025-05-17/1/
LOCATION:Bass Performance Hall\, 525 Commerce St\, Fort Worth\, TX\, 76102\, United States
CATEGORIES:Ballet,Story ballet
ATTACH;FMTTYPE=image/jpeg:https://enfacemagazine.com/wp-content/uploads/2024/07/TBTGiselle-e1724355489487.jpg
END:VEVENT
BEGIN:VEVENT
DTSTART;TZID=America/New_York:20250517T140000
DTEND;TZID=America/New_York:20250517T163000
DTSTAMP:20260421T180404
CREATED:20240731T222518Z
LAST-MODIFIED:20250813T140602Z
UID:10000906-1747490400-1747499400@enfacemagazine.com
SUMMARY:Eclectic NYCB (Spring)
DESCRIPTION:A program distinguished by its variety opens with Balanchine’s Divertimento from ‘Le Baiser de la Fée\,’ choreographed to a Stravinsky symphonic suite. Kyle Abraham’s When We Fell was originally filmed and streamed during the pandemic\, and here makes its live debut. Lynne Taylor-Corbett’s Chiaroscuro\, a ballet for six dancers from 1994\, evokes the artistic term of its title through the interaction of light and shadow as well as diverging tempos\, while Alexei Ratmansky’s Odesa features three couples\, their interplay infused with hints of drama\, and a corps de ballet\, and is set to incidental music from the Russian film Sketches to Sunset that alternates between the ruminative and the rambunctious.
URL:https://enfacemagazine.com/event/eclectic-nycb-spring/2025-05-17/
LOCATION:David H. Koch Theater\, 20 Lincoln Center Plaza\, New York\, NY\, 10023\, United States
CATEGORIES:Ballet
ATTACH;FMTTYPE=image/webp:https://enfacemagazine.com/wp-content/uploads/2024/07/NYCB_EclecticNYCB-e1730128371199.webp
END:VEVENT
BEGIN:VEVENT
DTSTART;TZID=America/Los_Angeles:20250517T140000
DTEND;TZID=America/Los_Angeles:20250517T163000
DTSTAMP:20260421T180404
CREATED:20250319T171314Z
LAST-MODIFIED:20250813T140529Z
UID:10001242-1747490400-1747499400@enfacemagazine.com
SUMMARY:The Sleeping Beauty
DESCRIPTION:The grandest of them all! A pageant in the gorgeous tradition of story ballets. See all the greatest fairytale characters attend Princess Aurora’s wedding: Cinderella\, Puss in Boots and the White Cat\, Tom Thumb and Little Red Riding Hood! Truly a feast for the eyes\, from the glittering Fairies to the famous entrance of Maleficent and on through the enchanted forest\, The Sleeping Beauty will dazzle everyone in May 2025!
URL:https://enfacemagazine.com/event/the-sleeping-beauty-central-west-ballet/2025-05-17/1/
LOCATION:Gallo Center for the Arts\, 1000 I Street\, Modesto\, CA\, 95354\, United States
CATEGORIES:Ballet,Story ballet
ATTACH;FMTTYPE=image/png:https://enfacemagazine.com/wp-content/uploads/2025/03/CWB_TSB-e1742404439520.png
END:VEVENT
BEGIN:VEVENT
DTSTART;TZID=America/Los_Angeles:20250517T173000
DTEND;TZID=America/Los_Angeles:20250517T200000
DTSTAMP:20260421T180404
CREATED:20250421T202909Z
LAST-MODIFIED:20250813T140602Z
UID:10001479-1747503000-1747512000@enfacemagazine.com
SUMMARY:Spring Season 2025
DESCRIPTION:Experience the world premiere of Alonzo King’s first-ever collaboration with legendary jazz trumpeter and composer Ambrose Akinmusire\, performing live with LINES Ballet. The program also includes the return King’s enormously popular Scheherazade\, with a score by the late four-time Grammy Award–winning tabla master Zakir Hussain. Join us as we pay tribute to Zakir\, our longtime collaborator and friend\, hailed by The New York Times as “a master of North Indian classical music and a linchpin of far-reaching world-music fusions.”
URL:https://enfacemagazine.com/event/spring-season-2025/2025-05-17/
LOCATION:Blue Shield of California Theater at YBCA\, 700 Howard St\, San Francisco\, CA\, 94103\, United States
CATEGORIES:Ballet
ATTACH;FMTTYPE=image/jpeg:https://enfacemagazine.com/wp-content/uploads/2025/04/AKLB-_Dancers-Paulo-Arrais-and-Keelan-Whitmore.jpg
END:VEVENT
BEGIN:VEVENT
DTSTART;TZID=America/Los_Angeles:20250517T190000
DTEND;TZID=America/Los_Angeles:20250517T213000
DTSTAMP:20260421T180404
CREATED:20250319T171314Z
LAST-MODIFIED:20250813T140529Z
UID:10001243-1747508400-1747517400@enfacemagazine.com
SUMMARY:The Sleeping Beauty
DESCRIPTION:The grandest of them all! A pageant in the gorgeous tradition of story ballets. See all the greatest fairytale characters attend Princess Aurora’s wedding: Cinderella\, Puss in Boots and the White Cat\, Tom Thumb and Little Red Riding Hood! Truly a feast for the eyes\, from the glittering Fairies to the famous entrance of Maleficent and on through the enchanted forest\, The Sleeping Beauty will dazzle everyone in May 2025!
URL:https://enfacemagazine.com/event/the-sleeping-beauty-central-west-ballet/2025-05-17/2/
LOCATION:Gallo Center for the Arts\, 1000 I Street\, Modesto\, CA\, 95354\, United States
CATEGORIES:Ballet,Story ballet
ATTACH;FMTTYPE=image/png:https://enfacemagazine.com/wp-content/uploads/2025/03/CWB_TSB-e1742404439520.png
END:VEVENT
BEGIN:VEVENT
DTSTART;TZID=America/Chicago:20250517T190000
DTEND;TZID=America/Chicago:20250517T213000
DTSTAMP:20260421T180404
CREATED:20250407T190358Z
LAST-MODIFIED:20250813T140529Z
UID:10001315-1747508400-1747517400@enfacemagazine.com
SUMMARY:Saint Louis Ballet at the Grandel
DESCRIPTION:Experience the magic of innovation and artistry with Saint Louis Ballet up close and personal at The Grandel on May 17–18! This intimate performance brings audiences closer than ever to the power of dance\, featuring brand-new ballets. Highlighting the evening is a premiere by renowned NYC choreographer Danielle Diniz\, whose work has captivated audiences from Jacob’s Pillow to Off-Broadway. The program also showcases original works by Saint Louis Ballet’s own Gen Horiuchi\, CiCi Houston\, and Christine Settembrino\, ensuring a night of fresh\, dynamic\, and unforgettable performances.
URL:https://enfacemagazine.com/event/saint-louis-ballet-at-the-grandel/2025-05-17/
LOCATION:The Grandel\, 3610 Grandel Square\, Saint Louis\, MO\, 63108\, United States
CATEGORIES:Ballet
ATTACH;FMTTYPE=image/png:https://enfacemagazine.com/wp-content/uploads/2025/04/STLBGrandel2025-e1744052615334.png
END:VEVENT
BEGIN:VEVENT
DTSTART;TZID=America/New_York:20250517T193000
DTEND;TZID=America/New_York:20250517T220000
DTSTAMP:20260421T180404
CREATED:20240731T221023Z
LAST-MODIFIED:20250813T140602Z
UID:10000409-1747510200-1747519200@enfacemagazine.com
SUMMARY:Spring Experience
DESCRIPTION:The 2025 Spring Experience program combines three sublime ballets that showcase the breadth and beauty of ballet today. Alongside Mikko Nissinen’s brilliantly reimagined Raymonda\, the program includes two beloved works of Jiři Kylián\, who is the among the most revered choreographers of our time.
URL:https://enfacemagazine.com/event/spring-experience/2025-05-17/
LOCATION:Citizens Opera House\, 539 Washington St\, Boston\, MA\, _02111\, United States
CATEGORIES:Ballet
ATTACH;FMTTYPE=image/png:https://enfacemagazine.com/wp-content/uploads/2024/07/BBSpringExp2025-e1711721930190-whEnyW.tmp_-e1724359514600.png
GEO:42.3540¡ N;71.0623¡ W
X-APPLE-STRUCTURED-LOCATION;VALUE=URI;X-ADDRESS=Citizens Opera House 539 Washington St Boston MA _02111 United States;X-APPLE-RADIUS=500;X-TITLE=539 Washington St:geo:71.0623¡ W,42.3540¡ N
END:VEVENT
BEGIN:VEVENT
DTSTART;TZID=America/New_York:20250517T193000
DTEND;TZID=America/New_York:20250517T220000
DTSTAMP:20260421T180404
CREATED:20240731T222515Z
LAST-MODIFIED:20250813T140602Z
UID:10000918-1747510200-1747519200@enfacemagazine.com
SUMMARY:Contemporary Choreography (Spring)
DESCRIPTION:The ever-growing breadth of the repertory is illustrated in this program highlighting the work of three current dancemakers. Alexei Ratmansky’s Solitude debuted in the winter of 2024 to broad acclaim. Somber in its beauty\, this elegiac ensemble work\, with a moving lead role depicting a grieving father\, is a rare dance set to the music of Gustav Mahler. Ratmansky\, Russian-born but raised in Kyiv\, dedicated this singular ballet “to the children of Ukraine\, victims of the war.” The program also includes ballets from Caili Quan and Justin Peck\, which debuted in the fall and winter\, respectively.
URL:https://enfacemagazine.com/event/contemporary-choreography-spring/2025-05-17/
LOCATION:David H. Koch Theater\, 20 Lincoln Center Plaza\, New York\, NY\, 10023\, United States
CATEGORIES:Ballet
ATTACH;FMTTYPE=image/png:https://enfacemagazine.com/wp-content/uploads/2024/07/NYCB_Spring_ContemporaryChoreography-pQ92sf.tmp_-e1724357743856.png
END:VEVENT
BEGIN:VEVENT
DTSTART;TZID=America/Chicago:20250517T193000
DTEND;TZID=America/Chicago:20250517T220000
DTSTAMP:20260421T180404
CREATED:20250421T200125Z
LAST-MODIFIED:20250813T140602Z
UID:10001471-1747510200-1747519200@enfacemagazine.com
SUMMARY:Fusion
DESCRIPTION:A COLLECTION OF SHORT DANCE WORKS \nTulips and lobster is a mesmerizing ballet choreographed by Annabelle Lopez Ochoa\, which made its debut with the Kansas City Ballet in 2018. Inspired by the rich and evocative paintings of the Old Dutch masters from the 17th century\, the ballet brings these timeless scenes of the bourgeoisie to life through captivating dance. \nIn the Middle\, Somewhat Elevated is a groundbreaking contemporary ballet choreographed by William Forsythe in 1987. Set to an intense electronic score\, this iconic work defies traditional ballet norms\, featuring angular\, highly technical movements that create a sense of suspended tension. The minimalist design and innovative lighting place the focus on the dancers and their dynamic interaction with the space. \nCelts is a mesmerizing ballet that celebrates the rich heritage of Ireland. Motivated by a deep connection to her roots\, York’s choreography brilliantly weaves together a profound and thrilling narrative that spans a thousand years of Irish history. Celts is a powerful and innovative artistic expression\, avoiding clichés and sentimentality\, offering a captivating rush of emotions and storytelling that uplifts the soul. \nhold on tight\, a world premiere by Caroline Dahm\, a Los Angeles native who has made her mark on Kansas City as a beloved dancer and choreographer.
URL:https://enfacemagazine.com/event/fusion/2025-05-17/
LOCATION:Kauffman Center for the Performing Arts\, 1601 Broadway Blvd\, Kansas City\, MO\, 64108\, United States
CATEGORIES:Ballet
ATTACH;FMTTYPE=image/jpeg:https://enfacemagazine.com/wp-content/uploads/2025/04/KCBFusion-e1745265671502.jpg
END:VEVENT
BEGIN:VEVENT
DTSTART;TZID=America/Chicago:20250517T200000
DTEND;TZID=America/Chicago:20250517T223000
DTSTAMP:20260421T180404
CREATED:20240731T222033Z
LAST-MODIFIED:20250813T140602Z
UID:10000402-1747512000-1747521000@enfacemagazine.com
SUMMARY:Giselle
DESCRIPTION:Seduced and forsaken\, the beautiful but bereft Giselle succumbs to madness and a broken heart. Yet even in death her love for her faithless suitor saves him from the ravages of avenging ghostly maidens. Join us as TBT’s Artistic Director presents his brilliant interpretation of this iconic masterpiece.
URL:https://enfacemagazine.com/event/tbt-giselle/2025-05-17/2/
LOCATION:Bass Performance Hall\, 525 Commerce St\, Fort Worth\, TX\, 76102\, United States
CATEGORIES:Ballet,Story ballet
ATTACH;FMTTYPE=image/jpeg:https://enfacemagazine.com/wp-content/uploads/2024/07/TBTGiselle-e1724355489487.jpg
END:VEVENT
END:VCALENDAR