BEGIN:VCALENDAR
VERSION:2.0
PRODID:-//En Face Magazine - ECPv6.15.20//NONSGML v1.0//EN
CALSCALE:GREGORIAN
METHOD:PUBLISH
X-ORIGINAL-URL:https://enfacemagazine.com
X-WR-CALDESC:Events for En Face Magazine
REFRESH-INTERVAL;VALUE=DURATION:PT1H
X-Robots-Tag:noindex
X-PUBLISHED-TTL:PT1H
BEGIN:VTIMEZONE
TZID:America/Los_Angeles
BEGIN:DAYLIGHT
TZOFFSETFROM:-0800
TZOFFSETTO:-0700
TZNAME:PDT
DTSTART:20240310T100000
END:DAYLIGHT
BEGIN:STANDARD
TZOFFSETFROM:-0700
TZOFFSETTO:-0800
TZNAME:PST
DTSTART:20241103T090000
END:STANDARD
BEGIN:DAYLIGHT
TZOFFSETFROM:-0800
TZOFFSETTO:-0700
TZNAME:PDT
DTSTART:20250309T100000
END:DAYLIGHT
BEGIN:STANDARD
TZOFFSETFROM:-0700
TZOFFSETTO:-0800
TZNAME:PST
DTSTART:20251102T090000
END:STANDARD
BEGIN:DAYLIGHT
TZOFFSETFROM:-0800
TZOFFSETTO:-0700
TZNAME:PDT
DTSTART:20260308T100000
END:DAYLIGHT
BEGIN:STANDARD
TZOFFSETFROM:-0700
TZOFFSETTO:-0800
TZNAME:PST
DTSTART:20261101T090000
END:STANDARD
END:VTIMEZONE
BEGIN:VTIMEZONE
TZID:America/New_York
BEGIN:DAYLIGHT
TZOFFSETFROM:-0500
TZOFFSETTO:-0400
TZNAME:EDT
DTSTART:20240310T070000
END:DAYLIGHT
BEGIN:STANDARD
TZOFFSETFROM:-0400
TZOFFSETTO:-0500
TZNAME:EST
DTSTART:20241103T060000
END:STANDARD
BEGIN:DAYLIGHT
TZOFFSETFROM:-0500
TZOFFSETTO:-0400
TZNAME:EDT
DTSTART:20250309T070000
END:DAYLIGHT
BEGIN:STANDARD
TZOFFSETFROM:-0400
TZOFFSETTO:-0500
TZNAME:EST
DTSTART:20251102T060000
END:STANDARD
BEGIN:DAYLIGHT
TZOFFSETFROM:-0500
TZOFFSETTO:-0400
TZNAME:EDT
DTSTART:20260308T070000
END:DAYLIGHT
BEGIN:STANDARD
TZOFFSETFROM:-0400
TZOFFSETTO:-0500
TZNAME:EST
DTSTART:20261101T060000
END:STANDARD
END:VTIMEZONE
BEGIN:VEVENT
DTSTART;TZID=America/Los_Angeles:20250521T190000
DTEND;TZID=America/Los_Angeles:20250521T210000
DTSTAMP:20260422T001537
CREATED:20250409T150113Z
LAST-MODIFIED:20250813T140529Z
UID:10001434-1747854000-1747861200@enfacemagazine.com
SUMMARY:Swan Lake
DESCRIPTION:Swan Lake is a ballet masterpiece that tells the story of a prince who falls in love with a beautiful swan princess under a spell. The ballet is renowned for its stunning choreography\, intricate set design\, and Tchaikovsky’s captivating music. Its themes of love\, sacrifice\, and redemption continue to resonate with audiences of all ages and backgrounds\, making it a timeless classic that has endured for more than a century. \nThis timeless tale of love and magic will be brought to life by the finest dancers of the Ukrainian National Opera and Ballet Theater. The graceful movements of the dancers will transport audiences to a world of enchantment and wonder.
URL:https://enfacemagazine.com/event/grand-kyiv-swan-lake-seattle/
LOCATION:McCaw Hall\, 321 Mercer St\, Seattle\, WA\, 98109\, United States
CATEGORIES:Ballet,Story ballet
ATTACH;FMTTYPE=image/jpeg:https://enfacemagazine.com/wp-content/uploads/2025/04/ORL_7027-e1744652993425.jpeg
END:VEVENT
BEGIN:VEVENT
DTSTART;TZID=America/New_York:20250521T193000
DTEND;TZID=America/New_York:20250521T220000
DTSTAMP:20260422T001537
CREATED:20240731T222518Z
LAST-MODIFIED:20250813T140602Z
UID:10000907-1747855800-1747864800@enfacemagazine.com
SUMMARY:Eclectic NYCB (Spring)
DESCRIPTION:A program distinguished by its variety opens with Balanchine’s Divertimento from ‘Le Baiser de la Fée\,’ choreographed to a Stravinsky symphonic suite. Kyle Abraham’s When We Fell was originally filmed and streamed during the pandemic\, and here makes its live debut. Lynne Taylor-Corbett’s Chiaroscuro\, a ballet for six dancers from 1994\, evokes the artistic term of its title through the interaction of light and shadow as well as diverging tempos\, while Alexei Ratmansky’s Odesa features three couples\, their interplay infused with hints of drama\, and a corps de ballet\, and is set to incidental music from the Russian film Sketches to Sunset that alternates between the ruminative and the rambunctious.
URL:https://enfacemagazine.com/event/eclectic-nycb-spring/2025-05-21/
LOCATION:David H. Koch Theater\, 20 Lincoln Center Plaza\, New York\, NY\, 10023\, United States
CATEGORIES:Ballet
ATTACH;FMTTYPE=image/webp:https://enfacemagazine.com/wp-content/uploads/2024/07/NYCB_EclecticNYCB-e1730128371199.webp
END:VEVENT
END:VCALENDAR