BEGIN:VCALENDAR
VERSION:2.0
PRODID:-//En Face Magazine - ECPv6.15.20//NONSGML v1.0//EN
CALSCALE:GREGORIAN
METHOD:PUBLISH
X-ORIGINAL-URL:https://enfacemagazine.com
X-WR-CALDESC:Events for En Face Magazine
REFRESH-INTERVAL;VALUE=DURATION:PT1H
X-Robots-Tag:noindex
X-PUBLISHED-TTL:PT1H
BEGIN:VTIMEZONE
TZID:America/New_York
BEGIN:DAYLIGHT
TZOFFSETFROM:-0500
TZOFFSETTO:-0400
TZNAME:EDT
DTSTART:20240310T070000
END:DAYLIGHT
BEGIN:STANDARD
TZOFFSETFROM:-0400
TZOFFSETTO:-0500
TZNAME:EST
DTSTART:20241103T060000
END:STANDARD
BEGIN:DAYLIGHT
TZOFFSETFROM:-0500
TZOFFSETTO:-0400
TZNAME:EDT
DTSTART:20250309T070000
END:DAYLIGHT
BEGIN:STANDARD
TZOFFSETFROM:-0400
TZOFFSETTO:-0500
TZNAME:EST
DTSTART:20251102T060000
END:STANDARD
BEGIN:DAYLIGHT
TZOFFSETFROM:-0500
TZOFFSETTO:-0400
TZNAME:EDT
DTSTART:20260308T070000
END:DAYLIGHT
BEGIN:STANDARD
TZOFFSETFROM:-0400
TZOFFSETTO:-0500
TZNAME:EST
DTSTART:20261101T060000
END:STANDARD
END:VTIMEZONE
BEGIN:VEVENT
DTSTART;TZID=America/New_York:20250528T193000
DTEND;TZID=America/New_York:20250528T220000
DTSTAMP:20260421T205904
CREATED:20240731T222633Z
LAST-MODIFIED:20250813T140528Z
UID:10000909-1748460600-1748469600@enfacemagazine.com
SUMMARY:A Midsummer Night's Dream
DESCRIPTION:Balanchine’s affection for Shakespeare’s scintillating comedy dated to his childhood\, when he appeared as an elf in a St. Petersburg production. His abiding love of the play culminated in this 1962 ballet—the first original full-length work he created for the Company—which displayed his often-unheralded gift for characterization. The imperious royals Titania and Oberon\, the young lovers caught up in a tangled pursuit of the objects of their affection\, and the hilariously bumbling Rude Mechanicals all provided Balanchine with an opportunity to translate Shakespeare’s comic ode to the complexities of love into a joy-filled dance that never fails to delight.
URL:https://enfacemagazine.com/event/a-midsummer-nights-dream/2025-05-28/
LOCATION:David H. Koch Theater\, 20 Lincoln Center Plaza\, New York\, NY\, 10023\, United States
CATEGORIES:Ballet,Story ballet
ATTACH;FMTTYPE=image/png:https://enfacemagazine.com/wp-content/uploads/2024/07/NYCB_Midsummer-G9ab96.tmp_-e1724357684877.png
END:VEVENT
END:VCALENDAR