BEGIN:VCALENDAR
VERSION:2.0
PRODID:-//En Face Magazine - ECPv6.15.20//NONSGML v1.0//EN
CALSCALE:GREGORIAN
METHOD:PUBLISH
X-ORIGINAL-URL:https://enfacemagazine.com
X-WR-CALDESC:Events for En Face Magazine
REFRESH-INTERVAL;VALUE=DURATION:PT1H
X-Robots-Tag:noindex
X-PUBLISHED-TTL:PT1H
BEGIN:VTIMEZONE
TZID:America/New_York
BEGIN:DAYLIGHT
TZOFFSETFROM:-0500
TZOFFSETTO:-0400
TZNAME:EDT
DTSTART:20240310T070000
END:DAYLIGHT
BEGIN:STANDARD
TZOFFSETFROM:-0400
TZOFFSETTO:-0500
TZNAME:EST
DTSTART:20241103T060000
END:STANDARD
BEGIN:DAYLIGHT
TZOFFSETFROM:-0500
TZOFFSETTO:-0400
TZNAME:EDT
DTSTART:20250309T070000
END:DAYLIGHT
BEGIN:STANDARD
TZOFFSETFROM:-0400
TZOFFSETTO:-0500
TZNAME:EST
DTSTART:20251102T060000
END:STANDARD
BEGIN:DAYLIGHT
TZOFFSETFROM:-0500
TZOFFSETTO:-0400
TZNAME:EDT
DTSTART:20260308T070000
END:DAYLIGHT
BEGIN:STANDARD
TZOFFSETFROM:-0400
TZOFFSETTO:-0500
TZNAME:EST
DTSTART:20261101T060000
END:STANDARD
END:VTIMEZONE
BEGIN:VEVENT
DTSTART;TZID=America/New_York:20250617T193000
DTEND;TZID=America/New_York:20250617T220000
DTSTAMP:20260421T174234
CREATED:20241224T140340Z
LAST-MODIFIED:20250813T140526Z
UID:10001099-1750188600-1750197600@enfacemagazine.com
SUMMARY:Woolf Works
DESCRIPTION:Wayne McGregor’s award-winning ballet triptych Woolf Works re-creates the emotions\, themes\, and fluid style of three of Virginia Woolf’s novels: Mrs. Dalloway\, Orlando\, and The Waves. With inspiration also enmeshed with elements from her letters\, essays\, and diaries\, Woolf Works expresses the heart of an artistic life driven to discover a freer\, uniquely modern realism. It brings to life Woolf’s world of “granite and rainbow”\, where human beings are at once both physical body and uncontained essence. Created for The Royal Ballet in 2015\, Woolf Works is an ambitious\, brave\, and thoughtful ballet set to challenge our expectations and take us to exhilarating new places. \nWoolf Works has received notable recognition and outstanding critical acclaim. The full-length contemporary ballet won the Laurence Olivier Award for Best New Dance Production\, and McGregor was awarded the Critics Circle National Dance Award for Best Classical Choreography for the work. \nAdvisory:\nThis production contains references to suicide. Lasers will be projected into the auditorium.
URL:https://enfacemagazine.com/event/woolf-works/2025-06-17/
LOCATION:Metropolitan Opera House\, 30 Lincoln Center Plaza\, New York\, NY\, 10023\, United States
CATEGORIES:Ballet
ATTACH;FMTTYPE=image/jpeg:https://enfacemagazine.com/wp-content/uploads/2024/12/ABTWoolfWorks-e1735049005501.jpg
END:VEVENT
BEGIN:VEVENT
DTSTART;TZID=America/New_York:20250617T193000
DTEND;TZID=America/New_York:20250617T220000
DTSTAMP:20260421T174234
CREATED:20250417T141546Z
LAST-MODIFIED:20250813T140526Z
UID:10001444-1750188600-1750197600@enfacemagazine.com
SUMMARY:Paul Taylor at The Joyce
DESCRIPTION:“One of the most exciting\, innovative\, and delightful dance companies in the entire world.” (The New York Times) Paul Taylor Dance Companyreturns to The Joyce to take audiences deeper into Paul Taylor’s choreographic genius. \nFrom Artistic Director Michael Novak come two unique programs featuring three reconstructions of Taylor dances not seen since the early 1970s: the avant-garde Tablet from 1960\, featuring designs by Ellsworth Kelly; the hilarious\, yet multi-layered\, Noah’s Minstrels from 1973; and the disturbing Churchyard from 1969. Anchoring each program are celebrated Taylor masterworks: Esplanade\, in honor of its 50th Anniversary\, and Cloven Kingdom – two dances that established Taylor as one of the most transformative dancemakers of the 20th and 21st centuries.
URL:https://enfacemagazine.com/event/paul-taylor-at-the-joyce/2025-06-17/
LOCATION:The Joyce Theater\, 175 8th Ave\, New York\, NY\, 10011\, United States
CATEGORIES:Ballet
ATTACH;FMTTYPE=image/jpeg:https://enfacemagazine.com/wp-content/uploads/2025/04/PTDC_TPAC.jpg
END:VEVENT
END:VCALENDAR