BEGIN:VCALENDAR
VERSION:2.0
PRODID:-//En Face Magazine - ECPv6.15.20//NONSGML v1.0//EN
CALSCALE:GREGORIAN
METHOD:PUBLISH
X-WR-CALNAME:En Face Magazine
X-ORIGINAL-URL:https://enfacemagazine.com
X-WR-CALDESC:Events for En Face Magazine
REFRESH-INTERVAL;VALUE=DURATION:PT1H
X-Robots-Tag:noindex
X-PUBLISHED-TTL:PT1H
BEGIN:VTIMEZONE
TZID:America/New_York
BEGIN:DAYLIGHT
TZOFFSETFROM:-0500
TZOFFSETTO:-0400
TZNAME:EDT
DTSTART:20240310T070000
END:DAYLIGHT
BEGIN:STANDARD
TZOFFSETFROM:-0400
TZOFFSETTO:-0500
TZNAME:EST
DTSTART:20241103T060000
END:STANDARD
BEGIN:DAYLIGHT
TZOFFSETFROM:-0500
TZOFFSETTO:-0400
TZNAME:EDT
DTSTART:20250309T070000
END:DAYLIGHT
BEGIN:STANDARD
TZOFFSETFROM:-0400
TZOFFSETTO:-0500
TZNAME:EST
DTSTART:20251102T060000
END:STANDARD
BEGIN:DAYLIGHT
TZOFFSETFROM:-0500
TZOFFSETTO:-0400
TZNAME:EDT
DTSTART:20260308T070000
END:DAYLIGHT
BEGIN:STANDARD
TZOFFSETFROM:-0400
TZOFFSETTO:-0500
TZNAME:EST
DTSTART:20261101T060000
END:STANDARD
END:VTIMEZONE
BEGIN:VEVENT
DTSTART;TZID=America/New_York:20250623T193000
DTEND;TZID=America/New_York:20250623T220000
DTSTAMP:20260421T183945
CREATED:20241224T141541Z
LAST-MODIFIED:20250813T140503Z
UID:10001106-1750707000-1750716000@enfacemagazine.com
SUMMARY:Giselle
DESCRIPTION:A timeless favorite\, Giselle masterfully conveys the heartbreaking story of unrequited love\, devasting loss\, and triumphant forgiveness. A heart-wrenching saga of love and mercy\, Giselle tells the story of the titular village maiden in love with a handsome villager named Albrecht. What Giselle does not know is that her new paramour is a young nobleman in disguise and is already betrothed to another. When the truth is revealed\, she dies of a broken heart\, but ultimately returns from the grave to forgive her lover and save him from a vengeful death by the forest-dwelling Wilis.
URL:https://enfacemagazine.com/event/giselle-abt/2025-06-23/
LOCATION:Metropolitan Opera House\, 30 Lincoln Center Plaza\, New York\, NY\, 10023\, United States
CATEGORIES:Ballet,Story ballet
ATTACH;FMTTYPE=image/jpeg:https://enfacemagazine.com/wp-content/uploads/2024/12/ABTGiselle-e1735049720484.jpg
END:VEVENT
END:VCALENDAR