BEGIN:VCALENDAR
VERSION:2.0
PRODID:-//En Face Magazine - ECPv6.15.20//NONSGML v1.0//EN
CALSCALE:GREGORIAN
METHOD:PUBLISH
X-ORIGINAL-URL:https://enfacemagazine.com
X-WR-CALDESC:Events for En Face Magazine
REFRESH-INTERVAL;VALUE=DURATION:PT1H
X-Robots-Tag:noindex
X-PUBLISHED-TTL:PT1H
BEGIN:VTIMEZONE
TZID:America/Los_Angeles
BEGIN:DAYLIGHT
TZOFFSETFROM:-0800
TZOFFSETTO:-0700
TZNAME:PDT
DTSTART:20240310T100000
END:DAYLIGHT
BEGIN:STANDARD
TZOFFSETFROM:-0700
TZOFFSETTO:-0800
TZNAME:PST
DTSTART:20241103T090000
END:STANDARD
BEGIN:DAYLIGHT
TZOFFSETFROM:-0800
TZOFFSETTO:-0700
TZNAME:PDT
DTSTART:20250309T100000
END:DAYLIGHT
BEGIN:STANDARD
TZOFFSETFROM:-0700
TZOFFSETTO:-0800
TZNAME:PST
DTSTART:20251102T090000
END:STANDARD
BEGIN:DAYLIGHT
TZOFFSETFROM:-0800
TZOFFSETTO:-0700
TZNAME:PDT
DTSTART:20260308T100000
END:DAYLIGHT
BEGIN:STANDARD
TZOFFSETFROM:-0700
TZOFFSETTO:-0800
TZNAME:PST
DTSTART:20261101T090000
END:STANDARD
END:VTIMEZONE
BEGIN:VTIMEZONE
TZID:America/Denver
BEGIN:DAYLIGHT
TZOFFSETFROM:-0700
TZOFFSETTO:-0600
TZNAME:MDT
DTSTART:20240310T090000
END:DAYLIGHT
BEGIN:STANDARD
TZOFFSETFROM:-0600
TZOFFSETTO:-0700
TZNAME:MST
DTSTART:20241103T080000
END:STANDARD
BEGIN:DAYLIGHT
TZOFFSETFROM:-0700
TZOFFSETTO:-0600
TZNAME:MDT
DTSTART:20250309T090000
END:DAYLIGHT
BEGIN:STANDARD
TZOFFSETFROM:-0600
TZOFFSETTO:-0700
TZNAME:MST
DTSTART:20251102T080000
END:STANDARD
BEGIN:DAYLIGHT
TZOFFSETFROM:-0700
TZOFFSETTO:-0600
TZNAME:MDT
DTSTART:20260308T090000
END:DAYLIGHT
BEGIN:STANDARD
TZOFFSETFROM:-0600
TZOFFSETTO:-0700
TZNAME:MST
DTSTART:20261101T080000
END:STANDARD
END:VTIMEZONE
BEGIN:VEVENT
DTSTART;TZID=America/Los_Angeles:20250629T140000
DTEND;TZID=America/Los_Angeles:20250629T163000
DTSTAMP:20260421T153032
CREATED:20250206T185417Z
LAST-MODIFIED:20250813T140503Z
UID:10001152-1751205600-1751214600@enfacemagazine.com
SUMMARY:Boston Ballet on Tour: Swan Lake
DESCRIPTION:Step into the enchanting world of Swan Lake\, a masterpiece of classical ballet that has mesmerized audiences for generations with exquisite dancing\, enchanting music and a timeless tale of love and loss. Boston Ballet Artistic Director Mikko Nissinen’s exquisite production follows the Swan Queen Odette and Prince Siegfried in a tale of romance\, sorcery and deceit. The second act\, originally choreographed by Lev Ivanov\, is historically considered the finest piece of classical choreography for the corps de ballet. The production showcases the technical precision and emotional tonality of dozens of dancers\, brilliantly transformed by Robert Perdziola’s impeccable costume design and set to the timeless score by Tchaikovsky. Since 1963\, Boston Ballet’s internationally acclaimed performances of classical\, neo-classical and contemporary ballets\, combined with a dedication to world-class dance education and community initiatives\, have made the institution a leader in its field\, with a 61-year history of promoting excellence and access to dance.
URL:https://enfacemagazine.com/event/boston-ballet-swan-lake-la/2025-06-29/
LOCATION:Dorothy Chandler Pavilion\, 135 N Grand Ave\, Los Angeles\, CA\, 90012\, United States
CATEGORIES:Ballet,Story ballet
ATTACH;FMTTYPE=image/jpeg:https://enfacemagazine.com/wp-content/uploads/2024/07/BBSwanLake.jpeg
END:VEVENT
BEGIN:VEVENT
DTSTART;TZID=America/Denver:20250629T190000
DTEND;TZID=America/Denver:20250629T203000
DTSTAMP:20260421T153032
CREATED:20250320T151303Z
LAST-MODIFIED:20250813T140503Z
UID:10001248-1751223600-1751229000@enfacemagazine.com
SUMMARY:Ballet Sun Valley Presents National Ballet of Canada
DESCRIPTION:Ballet Sun Valley Presents two unique evenings of ballet with The National Ballet of Canada in their first tour to Sun Valley! \nProgram A – June 28\nAn unforgettable evening featuring The National Ballet of Canada in their Sun Valley debut. The performance will feature works including: The Leaves are Fading\, Islands\, a U.S. World Premiere and more! \nProgram B – June 29\nA splendid evening of dance including: Bolero\, The Four Seasons\, Rhapsody and more!
URL:https://enfacemagazine.com/event/ballet-sun-valley-presents-national-ballet-of-canada/2025-06-29/
LOCATION:Sun Valley Pavilion\, 300 Dollar Road\, Sun Valley\, ID\, 83353\, United States
CATEGORIES:Ballet
ATTACH;FMTTYPE=image/png:https://enfacemagazine.com/wp-content/uploads/2025/03/NtlBalletCanadaBSV-e1742310347272.png
END:VEVENT
END:VCALENDAR