BEGIN:VCALENDAR
VERSION:2.0
PRODID:-//En Face Magazine - ECPv6.15.20//NONSGML v1.0//EN
CALSCALE:GREGORIAN
METHOD:PUBLISH
X-ORIGINAL-URL:https://enfacemagazine.com
X-WR-CALDESC:Events for En Face Magazine
REFRESH-INTERVAL;VALUE=DURATION:PT1H
X-Robots-Tag:noindex
X-PUBLISHED-TTL:PT1H
BEGIN:VTIMEZONE
TZID:America/New_York
BEGIN:DAYLIGHT
TZOFFSETFROM:-0500
TZOFFSETTO:-0400
TZNAME:EDT
DTSTART:20240310T070000
END:DAYLIGHT
BEGIN:STANDARD
TZOFFSETFROM:-0400
TZOFFSETTO:-0500
TZNAME:EST
DTSTART:20241103T060000
END:STANDARD
BEGIN:DAYLIGHT
TZOFFSETFROM:-0500
TZOFFSETTO:-0400
TZNAME:EDT
DTSTART:20250309T070000
END:DAYLIGHT
BEGIN:STANDARD
TZOFFSETFROM:-0400
TZOFFSETTO:-0500
TZNAME:EST
DTSTART:20251102T060000
END:STANDARD
BEGIN:DAYLIGHT
TZOFFSETFROM:-0500
TZOFFSETTO:-0400
TZNAME:EDT
DTSTART:20260308T070000
END:DAYLIGHT
BEGIN:STANDARD
TZOFFSETFROM:-0400
TZOFFSETTO:-0500
TZNAME:EST
DTSTART:20261101T060000
END:STANDARD
END:VTIMEZONE
BEGIN:VEVENT
DTSTART;TZID=America/New_York:20250708T193000
DTEND;TZID=America/New_York:20250708T220000
DTSTAMP:20260421T205923
CREATED:20241224T155631Z
LAST-MODIFIED:20250813T140503Z
UID:10001121-1752003000-1752012000@enfacemagazine.com
SUMMARY:Sylvia
DESCRIPTION:In this Arcadian love story\, set in mythical Greece amid a realm of otherworldly creatures and verdant forests\, the deity Eros intervenes to unite the nymph Sylvia with the lovelorn shepherd Aminta. The splendid score by Léo Delibes was so admired by Tchaikovsky that he purportedly declared: had he known the music existed at the time\, he would never have composed Swan Lake!
URL:https://enfacemagazine.com/event/sylvia/2025-07-08/
LOCATION:Metropolitan Opera House\, 30 Lincoln Center Plaza\, New York\, NY\, 10023\, United States
CATEGORIES:Ballet,Story ballet
ATTACH;FMTTYPE=image/jpeg:https://enfacemagazine.com/wp-content/uploads/2024/12/ABTSylvia-e1735055779570.jpg
END:VEVENT
END:VCALENDAR