BEGIN:VCALENDAR
VERSION:2.0
PRODID:-//En Face Magazine - ECPv6.15.20//NONSGML v1.0//EN
CALSCALE:GREGORIAN
METHOD:PUBLISH
X-ORIGINAL-URL:https://enfacemagazine.com
X-WR-CALDESC:Events for En Face Magazine
REFRESH-INTERVAL;VALUE=DURATION:PT1H
X-Robots-Tag:noindex
X-PUBLISHED-TTL:PT1H
BEGIN:VTIMEZONE
TZID:America/New_York
BEGIN:DAYLIGHT
TZOFFSETFROM:-0500
TZOFFSETTO:-0400
TZNAME:EDT
DTSTART:20240310T070000
END:DAYLIGHT
BEGIN:STANDARD
TZOFFSETFROM:-0400
TZOFFSETTO:-0500
TZNAME:EST
DTSTART:20241103T060000
END:STANDARD
BEGIN:DAYLIGHT
TZOFFSETFROM:-0500
TZOFFSETTO:-0400
TZNAME:EDT
DTSTART:20250309T070000
END:DAYLIGHT
BEGIN:STANDARD
TZOFFSETFROM:-0400
TZOFFSETTO:-0500
TZNAME:EST
DTSTART:20251102T060000
END:STANDARD
BEGIN:DAYLIGHT
TZOFFSETFROM:-0500
TZOFFSETTO:-0400
TZNAME:EDT
DTSTART:20260308T070000
END:DAYLIGHT
BEGIN:STANDARD
TZOFFSETFROM:-0400
TZOFFSETTO:-0500
TZNAME:EST
DTSTART:20261101T060000
END:STANDARD
END:VTIMEZONE
BEGIN:VTIMEZONE
TZID:America/Denver
BEGIN:DAYLIGHT
TZOFFSETFROM:-0700
TZOFFSETTO:-0600
TZNAME:MDT
DTSTART:20240310T090000
END:DAYLIGHT
BEGIN:STANDARD
TZOFFSETFROM:-0600
TZOFFSETTO:-0700
TZNAME:MST
DTSTART:20241103T080000
END:STANDARD
BEGIN:DAYLIGHT
TZOFFSETFROM:-0700
TZOFFSETTO:-0600
TZNAME:MDT
DTSTART:20250309T090000
END:DAYLIGHT
BEGIN:STANDARD
TZOFFSETFROM:-0600
TZOFFSETTO:-0700
TZNAME:MST
DTSTART:20251102T080000
END:STANDARD
BEGIN:DAYLIGHT
TZOFFSETFROM:-0700
TZOFFSETTO:-0600
TZNAME:MDT
DTSTART:20260308T090000
END:DAYLIGHT
BEGIN:STANDARD
TZOFFSETFROM:-0600
TZOFFSETTO:-0700
TZNAME:MST
DTSTART:20261101T080000
END:STANDARD
END:VTIMEZONE
BEGIN:VEVENT
DTSTART;TZID=America/New_York:20250710T193000
DTEND;TZID=America/New_York:20250710T220000
DTSTAMP:20260422T190759
CREATED:20241224T155631Z
LAST-MODIFIED:20250813T140503Z
UID:10001124-1752175800-1752184800@enfacemagazine.com
SUMMARY:Sylvia
DESCRIPTION:In this Arcadian love story\, set in mythical Greece amid a realm of otherworldly creatures and verdant forests\, the deity Eros intervenes to unite the nymph Sylvia with the lovelorn shepherd Aminta. The splendid score by Léo Delibes was so admired by Tchaikovsky that he purportedly declared: had he known the music existed at the time\, he would never have composed Swan Lake!
URL:https://enfacemagazine.com/event/sylvia/2025-07-10/
LOCATION:Metropolitan Opera House\, 30 Lincoln Center Plaza\, New York\, NY\, 10023\, United States
CATEGORIES:Ballet,Story ballet
ATTACH;FMTTYPE=image/jpeg:https://enfacemagazine.com/wp-content/uploads/2024/12/ABTSylvia-e1735055779570.jpg
END:VEVENT
BEGIN:VEVENT
DTSTART;TZID=America/Denver:20250710T200000
DTEND;TZID=America/Denver:20250710T223000
DTSTAMP:20260422T190759
CREATED:20250326T153234Z
LAST-MODIFIED:20250813T140502Z
UID:10001281-1752177600-1752186600@enfacemagazine.com
SUMMARY:Complexions Contemporary Ballet in Aspen
DESCRIPTION:Back by popular demand\, Complexions Contemporary Ballet awakens audiences to a new\, exciting genre with its full-throttle style and groundbreaking approach to contemporary ballet. The program features Dwight Rhoden’s newest ballet\, Bolero\, a work commissioned by Aspen Santa Fe Ballet that premiered in New York City last fall\, and For Crying Out Loud\, a high-energy work featuring the music of U2. These dazzling performers\, dancing with blazing ferocity and grace\, will keep you on the edge of your seat. \nTickets go on sale April 7.
URL:https://enfacemagazine.com/event/complexions-contemporary-ballet-in-aspen/
LOCATION:Aspen District Theater\, 199 High School Rd\, Aspen\, CO\, 81611\, United States
CATEGORIES:Ballet
ATTACH;FMTTYPE=image/jpeg:https://enfacemagazine.com/wp-content/uploads/2025/03/ASE_ComplexContBallet-e1743003142285.jpg
END:VEVENT
END:VCALENDAR