BEGIN:VCALENDAR
VERSION:2.0
PRODID:-//En Face Magazine - ECPv6.15.20//NONSGML v1.0//EN
CALSCALE:GREGORIAN
METHOD:PUBLISH
X-ORIGINAL-URL:https://enfacemagazine.com
X-WR-CALDESC:Events for En Face Magazine
REFRESH-INTERVAL;VALUE=DURATION:PT1H
X-Robots-Tag:noindex
X-PUBLISHED-TTL:PT1H
BEGIN:VTIMEZONE
TZID:America/New_York
BEGIN:DAYLIGHT
TZOFFSETFROM:-0500
TZOFFSETTO:-0400
TZNAME:EDT
DTSTART:20240310T070000
END:DAYLIGHT
BEGIN:STANDARD
TZOFFSETFROM:-0400
TZOFFSETTO:-0500
TZNAME:EST
DTSTART:20241103T060000
END:STANDARD
BEGIN:DAYLIGHT
TZOFFSETFROM:-0500
TZOFFSETTO:-0400
TZNAME:EDT
DTSTART:20250309T070000
END:DAYLIGHT
BEGIN:STANDARD
TZOFFSETFROM:-0400
TZOFFSETTO:-0500
TZNAME:EST
DTSTART:20251102T060000
END:STANDARD
BEGIN:DAYLIGHT
TZOFFSETFROM:-0500
TZOFFSETTO:-0400
TZNAME:EDT
DTSTART:20260308T070000
END:DAYLIGHT
BEGIN:STANDARD
TZOFFSETFROM:-0400
TZOFFSETTO:-0500
TZNAME:EST
DTSTART:20261101T060000
END:STANDARD
END:VTIMEZONE
BEGIN:VEVENT
DTSTART;TZID=America/New_York:20250715T193000
DTEND;TZID=America/New_York:20250715T220000
DTSTAMP:20260421T175500
CREATED:20241224T135407Z
LAST-MODIFIED:20250813T140527Z
UID:10001092-1752607800-1752616800@enfacemagazine.com
SUMMARY:Swan Lake
DESCRIPTION:Of all the great classics performed by ABT today\, Swan Lake remains the quintessential ballet. Featuring the unforgettable corps de ballet moving in magical unison as the majestic\, glimmering swans\, this romantic fable of dreamlike transformation\, set to Tchaikovsky’s glorious score\, inspires awe and wonder. \nChoreography by Kevin McKenzie\nafter Marius Petipa and Lev Ivanov\nMusic by Peter Ilyitch Tchaikovsky\nSets and Costumes by Zack Brown\nLighting by Duane Schuler
URL:https://enfacemagazine.com/event/swan-lake/2025-07-15/
LOCATION:Metropolitan Opera House\, 30 Lincoln Center Plaza\, New York\, NY\, 10023\, United States
CATEGORIES:Ballet,Story ballet
ATTACH;FMTTYPE=image/jpeg:https://enfacemagazine.com/wp-content/uploads/2024/12/ABTSwanLake-e1735048395383.jpg
END:VEVENT
END:VCALENDAR