BEGIN:VCALENDAR
VERSION:2.0
PRODID:-//En Face Magazine - ECPv6.15.20//NONSGML v1.0//EN
CALSCALE:GREGORIAN
METHOD:PUBLISH
X-ORIGINAL-URL:https://enfacemagazine.com
X-WR-CALDESC:Events for En Face Magazine
REFRESH-INTERVAL;VALUE=DURATION:PT1H
X-Robots-Tag:noindex
X-PUBLISHED-TTL:PT1H
BEGIN:VTIMEZONE
TZID:America/New_York
BEGIN:DAYLIGHT
TZOFFSETFROM:-0500
TZOFFSETTO:-0400
TZNAME:EDT
DTSTART:20240310T070000
END:DAYLIGHT
BEGIN:STANDARD
TZOFFSETFROM:-0400
TZOFFSETTO:-0500
TZNAME:EST
DTSTART:20241103T060000
END:STANDARD
BEGIN:DAYLIGHT
TZOFFSETFROM:-0500
TZOFFSETTO:-0400
TZNAME:EDT
DTSTART:20250309T070000
END:DAYLIGHT
BEGIN:STANDARD
TZOFFSETFROM:-0400
TZOFFSETTO:-0500
TZNAME:EST
DTSTART:20251102T060000
END:STANDARD
BEGIN:DAYLIGHT
TZOFFSETFROM:-0500
TZOFFSETTO:-0400
TZNAME:EDT
DTSTART:20260308T070000
END:DAYLIGHT
BEGIN:STANDARD
TZOFFSETFROM:-0400
TZOFFSETTO:-0500
TZNAME:EST
DTSTART:20261101T060000
END:STANDARD
END:VTIMEZONE
BEGIN:VTIMEZONE
TZID:America/Los_Angeles
BEGIN:DAYLIGHT
TZOFFSETFROM:-0800
TZOFFSETTO:-0700
TZNAME:PDT
DTSTART:20240310T100000
END:DAYLIGHT
BEGIN:STANDARD
TZOFFSETFROM:-0700
TZOFFSETTO:-0800
TZNAME:PST
DTSTART:20241103T090000
END:STANDARD
BEGIN:DAYLIGHT
TZOFFSETFROM:-0800
TZOFFSETTO:-0700
TZNAME:PDT
DTSTART:20250309T100000
END:DAYLIGHT
BEGIN:STANDARD
TZOFFSETFROM:-0700
TZOFFSETTO:-0800
TZNAME:PST
DTSTART:20251102T090000
END:STANDARD
BEGIN:DAYLIGHT
TZOFFSETFROM:-0800
TZOFFSETTO:-0700
TZNAME:PDT
DTSTART:20260308T100000
END:DAYLIGHT
BEGIN:STANDARD
TZOFFSETFROM:-0700
TZOFFSETTO:-0800
TZNAME:PST
DTSTART:20261101T090000
END:STANDARD
END:VTIMEZONE
BEGIN:VEVENT
DTSTART;TZID=America/New_York:20250719T140000
DTEND;TZID=America/New_York:20250719T163000
DTSTAMP:20260423T064343
CREATED:20241224T135407Z
LAST-MODIFIED:20250813T140527Z
UID:10001097-1752933600-1752942600@enfacemagazine.com
SUMMARY:Swan Lake
DESCRIPTION:Of all the great classics performed by ABT today\, Swan Lake remains the quintessential ballet. Featuring the unforgettable corps de ballet moving in magical unison as the majestic\, glimmering swans\, this romantic fable of dreamlike transformation\, set to Tchaikovsky’s glorious score\, inspires awe and wonder. \nChoreography by Kevin McKenzie\nafter Marius Petipa and Lev Ivanov\nMusic by Peter Ilyitch Tchaikovsky\nSets and Costumes by Zack Brown\nLighting by Duane Schuler
URL:https://enfacemagazine.com/event/swan-lake/2025-07-19/1/
LOCATION:Metropolitan Opera House\, 30 Lincoln Center Plaza\, New York\, NY\, 10023\, United States
CATEGORIES:Ballet,Story ballet
ATTACH;FMTTYPE=image/jpeg:https://enfacemagazine.com/wp-content/uploads/2024/12/ABTSwanLake-e1735048395383.jpg
END:VEVENT
BEGIN:VEVENT
DTSTART;TZID=America/New_York:20250719T140000
DTEND;TZID=America/New_York:20250719T163000
DTSTAMP:20260423T064343
CREATED:20250321T200453Z
LAST-MODIFIED:20250813T140502Z
UID:10001270-1752933600-1752942600@enfacemagazine.com
SUMMARY:The Sarasota Ballet at Jacob’s Pillow
DESCRIPTION:Beloved among ballet fans the world over\, The Sarasota Ballet returns to Jacob’s Pillow for the first time in ten years. Pushed to new heights under the leadership of director Iain Webb\, assistant director Margaret Barbieri (both formerly of The Royal Ballet)\, and Joseph Volpe executive director (formerly of the Metropolitan Opera)\, the company has garnered a reputation for its truly diverse repertoire of works. \nThis summer\, the company returns to the Ted Shawn Theatre with a mixed program including a piece by Sir Frederick Ashton and a world premiere work by American choreographer Jessica Lang\, the Virginia B. Toulmin & Muriel O’Neil Artist in Residence at Sarasota Ballet\, who has presented three previous world premieres at Jacob’s Pillow with her own company.
URL:https://enfacemagazine.com/event/the-sarasota-ballet-at-jacobs-pillow/2025-07-19/1/
LOCATION:Ted Shawn Theatre\, 358 George Carter Rd\, Becket\, MA\, 01223\, United States
CATEGORIES:Ballet
ATTACH;FMTTYPE=image/png:https://enfacemagazine.com/wp-content/uploads/2025/03/JP_SarasotaBallet.png
END:VEVENT
BEGIN:VEVENT
DTSTART;TZID=America/New_York:20250719T170000
DTEND;TZID=America/New_York:20250719T183000
DTSTAMP:20260423T064343
CREATED:20250404T200729Z
LAST-MODIFIED:20250813T140502Z
UID:10001308-1752944400-1752949800@enfacemagazine.com
SUMMARY:Opening Performance
DESCRIPTION:Join us for the opening performance of this summer’s Fire Island Dance Festival. This not-to-be-missed event will feature world-class performers and renowned international companies\, performing on an idyllic waterfront stage in Fire Island Pines.
URL:https://enfacemagazine.com/event/fire-island-2025-opening-performance/
LOCATION:Fire Island Pines\, 236 Beach Hill Walk\, Sayville\, NY\, 11782\, United States
CATEGORIES:Ballet
ATTACH;FMTTYPE=image/jpeg:https://enfacemagazine.com/wp-content/uploads/2025/03/FIDF-2025-Homepage-Hero-e1743001940337.jpg
END:VEVENT
BEGIN:VEVENT
DTSTART;TZID=America/New_York:20250719T190000
DTEND;TZID=America/New_York:20250719T203000
DTSTAMP:20260423T064343
CREATED:20250404T200946Z
LAST-MODIFIED:20250813T140502Z
UID:10001309-1752951600-1752957000@enfacemagazine.com
SUMMARY:Sunset Performance
DESCRIPTION:Join us for the sunset performance of this summer’s Fire Island Dance Festival. This not-to-be-missed event will feature world-class performers and renowned international companies\, performing on an idyllic waterfront stage in Fire Island Pines.
URL:https://enfacemagazine.com/event/fire-island-2025-sunset-performance/
LOCATION:Fire Island Pines\, 236 Beach Hill Walk\, Sayville\, NY\, 11782\, United States
CATEGORIES:Ballet
ATTACH;FMTTYPE=image/jpeg:https://enfacemagazine.com/wp-content/uploads/2025/03/FIDF-2025-Homepage-Hero-e1743001940337.jpg
END:VEVENT
BEGIN:VEVENT
DTSTART;TZID=America/New_York:20250719T193000
DTEND;TZID=America/New_York:20250719T220000
DTSTAMP:20260423T064343
CREATED:20241224T135407Z
LAST-MODIFIED:20250813T140527Z
UID:10001098-1752953400-1752962400@enfacemagazine.com
SUMMARY:Swan Lake
DESCRIPTION:Of all the great classics performed by ABT today\, Swan Lake remains the quintessential ballet. Featuring the unforgettable corps de ballet moving in magical unison as the majestic\, glimmering swans\, this romantic fable of dreamlike transformation\, set to Tchaikovsky’s glorious score\, inspires awe and wonder. \nChoreography by Kevin McKenzie\nafter Marius Petipa and Lev Ivanov\nMusic by Peter Ilyitch Tchaikovsky\nSets and Costumes by Zack Brown\nLighting by Duane Schuler
URL:https://enfacemagazine.com/event/swan-lake/2025-07-19/2/
LOCATION:Metropolitan Opera House\, 30 Lincoln Center Plaza\, New York\, NY\, 10023\, United States
CATEGORIES:Ballet,Story ballet
ATTACH;FMTTYPE=image/jpeg:https://enfacemagazine.com/wp-content/uploads/2024/12/ABTSwanLake-e1735048395383.jpg
END:VEVENT
BEGIN:VEVENT
DTSTART;TZID=America/New_York:20250719T193000
DTEND;TZID=America/New_York:20250719T220000
DTSTAMP:20260423T064343
CREATED:20250321T200453Z
LAST-MODIFIED:20250813T140502Z
UID:10001271-1752953400-1752962400@enfacemagazine.com
SUMMARY:The Sarasota Ballet at Jacob’s Pillow
DESCRIPTION:Beloved among ballet fans the world over\, The Sarasota Ballet returns to Jacob’s Pillow for the first time in ten years. Pushed to new heights under the leadership of director Iain Webb\, assistant director Margaret Barbieri (both formerly of The Royal Ballet)\, and Joseph Volpe executive director (formerly of the Metropolitan Opera)\, the company has garnered a reputation for its truly diverse repertoire of works. \nThis summer\, the company returns to the Ted Shawn Theatre with a mixed program including a piece by Sir Frederick Ashton and a world premiere work by American choreographer Jessica Lang\, the Virginia B. Toulmin & Muriel O’Neil Artist in Residence at Sarasota Ballet\, who has presented three previous world premieres at Jacob’s Pillow with her own company.
URL:https://enfacemagazine.com/event/the-sarasota-ballet-at-jacobs-pillow/2025-07-19/2/
LOCATION:Ted Shawn Theatre\, 358 George Carter Rd\, Becket\, MA\, 01223\, United States
CATEGORIES:Ballet
ATTACH;FMTTYPE=image/png:https://enfacemagazine.com/wp-content/uploads/2025/03/JP_SarasotaBallet.png
END:VEVENT
BEGIN:VEVENT
DTSTART;TZID=America/Los_Angeles:20250719T200000
DTEND;TZID=America/Los_Angeles:20250719T223000
DTSTAMP:20260423T064343
CREATED:20250321T164711Z
LAST-MODIFIED:20250813T140502Z
UID:10001250-1752955200-1752964200@enfacemagazine.com
SUMMARY:Tchaikovsky Spectacular with Fireworks
DESCRIPTION:The charismatic Carlos Miguel Prieto leads the Hollywood Bowl’s annual Tchaikovsky Spectacular with Fireworks made extra spectacular this year by the presence of the stunning dancers of San Francisco Ballet. The evening features music from Swan Lake\, Symphony No.3\, Capriccio Italien\, and\, as always\, the 1812 Overture featuring the USC Marching Band and the Bowl’s signature fireworks.
URL:https://enfacemagazine.com/event/tchaikovsky-spectacular-with-fireworks/2025-07-19/
LOCATION:Hollywood Bowl\, 2301 N Highland Ave\, Los Angeles\, CA\, 90068\, United States
CATEGORIES:Ballet
ATTACH;FMTTYPE=image/jpeg:https://enfacemagazine.com/wp-content/uploads/2025/03/SFB_SLHollywoodBowl-e1742575719562.jpg
END:VEVENT
END:VCALENDAR