BEGIN:VCALENDAR
VERSION:2.0
PRODID:-//En Face Magazine - ECPv6.15.20//NONSGML v1.0//EN
CALSCALE:GREGORIAN
METHOD:PUBLISH
X-WR-CALNAME:En Face Magazine
X-ORIGINAL-URL:https://enfacemagazine.com
X-WR-CALDESC:Events for En Face Magazine
REFRESH-INTERVAL;VALUE=DURATION:PT1H
X-Robots-Tag:noindex
X-PUBLISHED-TTL:PT1H
BEGIN:VTIMEZONE
TZID:America/Los_Angeles
BEGIN:DAYLIGHT
TZOFFSETFROM:-0800
TZOFFSETTO:-0700
TZNAME:PDT
DTSTART:20240310T100000
END:DAYLIGHT
BEGIN:STANDARD
TZOFFSETFROM:-0700
TZOFFSETTO:-0800
TZNAME:PST
DTSTART:20241103T090000
END:STANDARD
BEGIN:DAYLIGHT
TZOFFSETFROM:-0800
TZOFFSETTO:-0700
TZNAME:PDT
DTSTART:20250309T100000
END:DAYLIGHT
BEGIN:STANDARD
TZOFFSETFROM:-0700
TZOFFSETTO:-0800
TZNAME:PST
DTSTART:20251102T090000
END:STANDARD
BEGIN:DAYLIGHT
TZOFFSETFROM:-0800
TZOFFSETTO:-0700
TZNAME:PDT
DTSTART:20260308T100000
END:DAYLIGHT
BEGIN:STANDARD
TZOFFSETFROM:-0700
TZOFFSETTO:-0800
TZNAME:PST
DTSTART:20261101T090000
END:STANDARD
END:VTIMEZONE
BEGIN:VEVENT
DTSTART;TZID=America/Los_Angeles:20250722T200000
DTEND;TZID=America/Los_Angeles:20250722T223000
DTSTAMP:20260422T121435
CREATED:20250404T201551Z
LAST-MODIFIED:20250813T140502Z
UID:10001311-1753214400-1753223400@enfacemagazine.com
SUMMARY:Opening Night Gala
DESCRIPTION:The Lake Tahoe Dance Festival’s Opening Night Gala celebrates bringing the finest in Dance to the shore of Lake Tahoe! \nArtists from New York City Ballet\, Broadway\, Boston Ballet and more grace the stage following the pre-performance reception with food\, wine\, and silent auction.
URL:https://enfacemagazine.com/event/lake-tahoe-opening-night-gala/
LOCATION:William B Layton Park\, 130 W Lake Blvd\, Tahoe City\, CA\, 96145\, United States
CATEGORIES:Ballet
ATTACH;FMTTYPE=image/png:https://enfacemagazine.com/wp-content/uploads/2025/04/LTDF_OpeningNight.png
END:VEVENT
END:VCALENDAR