BEGIN:VCALENDAR
VERSION:2.0
PRODID:-//En Face Magazine - ECPv6.15.20//NONSGML v1.0//EN
CALSCALE:GREGORIAN
METHOD:PUBLISH
X-ORIGINAL-URL:https://enfacemagazine.com
X-WR-CALDESC:Events for En Face Magazine
REFRESH-INTERVAL;VALUE=DURATION:PT1H
X-Robots-Tag:noindex
X-PUBLISHED-TTL:PT1H
BEGIN:VTIMEZONE
TZID:America/Denver
BEGIN:DAYLIGHT
TZOFFSETFROM:-0700
TZOFFSETTO:-0600
TZNAME:MDT
DTSTART:20240310T090000
END:DAYLIGHT
BEGIN:STANDARD
TZOFFSETFROM:-0600
TZOFFSETTO:-0700
TZNAME:MST
DTSTART:20241103T080000
END:STANDARD
BEGIN:DAYLIGHT
TZOFFSETFROM:-0700
TZOFFSETTO:-0600
TZNAME:MDT
DTSTART:20250309T090000
END:DAYLIGHT
BEGIN:STANDARD
TZOFFSETFROM:-0600
TZOFFSETTO:-0700
TZNAME:MST
DTSTART:20251102T080000
END:STANDARD
BEGIN:DAYLIGHT
TZOFFSETFROM:-0700
TZOFFSETTO:-0600
TZNAME:MDT
DTSTART:20260308T090000
END:DAYLIGHT
BEGIN:STANDARD
TZOFFSETFROM:-0600
TZOFFSETTO:-0700
TZNAME:MST
DTSTART:20261101T080000
END:STANDARD
END:VTIMEZONE
BEGIN:VEVENT
DTSTART;TZID=America/Denver:20250726T193000
DTEND;TZID=America/Denver:20250726T220000
DTSTAMP:20260422T215452
CREATED:20250317T205356Z
LAST-MODIFIED:20250813T140434Z
UID:10001219-1753558200-1753567200@enfacemagazine.com
SUMMARY:Vail Dance Festival: Alonzo King LINES Ballet
DESCRIPTION:Alonzo King’s LINES Ballet has been a major creative force in dance since its founding in 1982 by acclaimed choreographer Alonzo King. The beloved company returns to Vail this season with an evening featuring two recent works by King: Ode to Alice Coltrane\, honoring the legendary spiritual and jazz icon\, and Mother Goose\, King’s recent collaboration with the San Francisco Symphony that delves into the enchanting world of Ravel’s 1912 suite Ma mère l’Oye.
URL:https://enfacemagazine.com/event/vail-dance-festival-alonzo-king-lines-ballet/
LOCATION:Gerald R. Ford Amphitheater\, 530 S Frontage Rd E\, Vail\, CO\, 81657\, United States
CATEGORIES:Ballet
ATTACH;FMTTYPE=image/png:https://enfacemagazine.com/wp-content/uploads/2025/03/VDF_AlonzoKing-e1742244819183.png
END:VEVENT
BEGIN:VEVENT
DTSTART;TZID=America/Denver:20250726T200000
DTEND;TZID=America/Denver:20250726T223000
DTSTAMP:20260422T215452
CREATED:20250326T154603Z
LAST-MODIFIED:20250813T140434Z
UID:10001285-1753560000-1753569000@enfacemagazine.com
SUMMARY:Pilobolus in Santa Fe
DESCRIPTION:Step into a realm where imagination knows no limits. Since 1971\, this celebrated troupe has tested the limits of human physicality with heart-stopping grace\, acrobatic prowess\, and breathtaking artistry. This summer\, Pilobolus returns with Other Worlds Collection\, a curated selection of dances that traverse the spaces we inhabit with wit\, wisdom\, and whimsy. The program features Bloodlines\, a powerful piece that delves into the essence of family\, honoring the evolving bonds that shape us across generations. \n\n\n\n\nTickets go on sale April 7.
URL:https://enfacemagazine.com/event/pilobolus-in-santa-fe/
LOCATION:Lensic Performing Arts Center\, 211 W San Francisco St\, Santa Fe\, NM\, 87501\, United States
CATEGORIES:Ballet
ATTACH;FMTTYPE=image/jpeg:https://enfacemagazine.com/wp-content/uploads/2025/03/AE_Pilobolus-e1743003317488.jpg
END:VEVENT
END:VCALENDAR