BEGIN:VCALENDAR
VERSION:2.0
PRODID:-//En Face Magazine - ECPv6.15.20//NONSGML v1.0//EN
CALSCALE:GREGORIAN
METHOD:PUBLISH
X-ORIGINAL-URL:https://enfacemagazine.com
X-WR-CALDESC:Events for En Face Magazine
REFRESH-INTERVAL;VALUE=DURATION:PT1H
X-Robots-Tag:noindex
X-PUBLISHED-TTL:PT1H
BEGIN:VTIMEZONE
TZID:America/New_York
BEGIN:DAYLIGHT
TZOFFSETFROM:-0500
TZOFFSETTO:-0400
TZNAME:EDT
DTSTART:20240310T070000
END:DAYLIGHT
BEGIN:STANDARD
TZOFFSETFROM:-0400
TZOFFSETTO:-0500
TZNAME:EST
DTSTART:20241103T060000
END:STANDARD
BEGIN:DAYLIGHT
TZOFFSETFROM:-0500
TZOFFSETTO:-0400
TZNAME:EDT
DTSTART:20250309T070000
END:DAYLIGHT
BEGIN:STANDARD
TZOFFSETFROM:-0400
TZOFFSETTO:-0500
TZNAME:EST
DTSTART:20251102T060000
END:STANDARD
BEGIN:DAYLIGHT
TZOFFSETFROM:-0500
TZOFFSETTO:-0400
TZNAME:EDT
DTSTART:20260308T070000
END:DAYLIGHT
BEGIN:STANDARD
TZOFFSETFROM:-0400
TZOFFSETTO:-0500
TZNAME:EST
DTSTART:20261101T060000
END:STANDARD
END:VTIMEZONE
BEGIN:VEVENT
DTSTART;TZID=America/New_York:20250731T193000
DTEND;TZID=America/New_York:20250731T220000
DTSTAMP:20260421T232803
CREATED:20250415T175214Z
LAST-MODIFIED:20250813T140434Z
UID:10001438-1753990200-1753999200@enfacemagazine.com
SUMMARY:BAAND Together Dance Festival 2025
DESCRIPTION:Celebrate the fifth anniversary of the BAAND Together Dance Festival\, as five of NYC’s most iconic dance companies—Ballet Hispánico\, Alvin Ailey American Dance Theater\, American Ballet Theatre\, New York City Ballet\, and Dance Theatre of Harlem—reunite on one stage from July 29–August 2. This is the rare chance to experience beloved programming curated collaboratively by the artistic directors of each company\, including repertory favorites. In the afternoon\, the companies bring their unique teaching approach to participants of all ages with FREE dance workshops in the David Geffen Hall lobby. \nThe festival is made possible by Chanel.
URL:https://enfacemagazine.com/event/baand-together-dance-festival-2025/2025-07-31/
LOCATION:David H. Koch Theater\, 20 Lincoln Center Plaza\, New York\, NY\, 10023\, United States
CATEGORIES:Ballet
ATTACH;FMTTYPE=image/jpeg:https://enfacemagazine.com/wp-content/uploads/2025/04/BAAND2025-e1744739520254.jpg
END:VEVENT
END:VCALENDAR