BEGIN:VCALENDAR
VERSION:2.0
PRODID:-//En Face Magazine - ECPv6.15.20//NONSGML v1.0//EN
CALSCALE:GREGORIAN
METHOD:PUBLISH
X-WR-CALNAME:En Face Magazine
X-ORIGINAL-URL:https://enfacemagazine.com
X-WR-CALDESC:Events for En Face Magazine
REFRESH-INTERVAL;VALUE=DURATION:PT1H
X-Robots-Tag:noindex
X-PUBLISHED-TTL:PT1H
BEGIN:VTIMEZONE
TZID:America/Denver
BEGIN:DAYLIGHT
TZOFFSETFROM:-0700
TZOFFSETTO:-0600
TZNAME:MDT
DTSTART:20240310T090000
END:DAYLIGHT
BEGIN:STANDARD
TZOFFSETFROM:-0600
TZOFFSETTO:-0700
TZNAME:MST
DTSTART:20241103T080000
END:STANDARD
BEGIN:DAYLIGHT
TZOFFSETFROM:-0700
TZOFFSETTO:-0600
TZNAME:MDT
DTSTART:20250309T090000
END:DAYLIGHT
BEGIN:STANDARD
TZOFFSETFROM:-0600
TZOFFSETTO:-0700
TZNAME:MST
DTSTART:20251102T080000
END:STANDARD
BEGIN:DAYLIGHT
TZOFFSETFROM:-0700
TZOFFSETTO:-0600
TZNAME:MDT
DTSTART:20260308T090000
END:DAYLIGHT
BEGIN:STANDARD
TZOFFSETFROM:-0600
TZOFFSETTO:-0700
TZNAME:MST
DTSTART:20261101T080000
END:STANDARD
END:VTIMEZONE
BEGIN:VEVENT
DTSTART;TZID=America/Denver:20250803T180000
DTEND;TZID=America/Denver:20250803T203000
DTSTAMP:20260421T205536
CREATED:20250318T134815Z
LAST-MODIFIED:20250813T140434Z
UID:10001225-1754244000-1754253000@enfacemagazine.com
SUMMARY:Vail Dance Festival: A.I.M by Kyle Abraham
DESCRIPTION:The critically acclaimed contemporary dance company A.I.M by Kyle Abraham makes its Vail Dance Festival debut! Led by Princess Grace and MacArthur Award winner Kyle Abraham\, the company is celebrated around the world for its engaging and dynamic performances that are galvanized by Black culture and history. The program will feature Abraham’s homage to Nina Simone entitled If We Were a Love Song and Abraham’s celebrated solo Show Pony\, along with other recent works.
URL:https://enfacemagazine.com/event/vail-dance-festival-a-i-m-by-kyle-abraham/
LOCATION:Vilar Performing Arts Center\, 68 Avondale Lane\, Beaver Creek\, CO\, 81620\, United States
CATEGORIES:Ballet
ATTACH;FMTTYPE=image/png:https://enfacemagazine.com/wp-content/uploads/2025/03/VDF_AIM-e1742305675647.png
END:VEVENT
END:VCALENDAR