BEGIN:VCALENDAR
VERSION:2.0
PRODID:-//En Face Magazine - ECPv6.15.20//NONSGML v1.0//EN
CALSCALE:GREGORIAN
METHOD:PUBLISH
X-ORIGINAL-URL:https://enfacemagazine.com
X-WR-CALDESC:Events for En Face Magazine
REFRESH-INTERVAL;VALUE=DURATION:PT1H
X-Robots-Tag:noindex
X-PUBLISHED-TTL:PT1H
BEGIN:VTIMEZONE
TZID:America/New_York
BEGIN:DAYLIGHT
TZOFFSETFROM:-0500
TZOFFSETTO:-0400
TZNAME:EDT
DTSTART:20250309T070000
END:DAYLIGHT
BEGIN:STANDARD
TZOFFSETFROM:-0400
TZOFFSETTO:-0500
TZNAME:EST
DTSTART:20251102T060000
END:STANDARD
BEGIN:DAYLIGHT
TZOFFSETFROM:-0500
TZOFFSETTO:-0400
TZNAME:EDT
DTSTART:20260308T070000
END:DAYLIGHT
BEGIN:STANDARD
TZOFFSETFROM:-0400
TZOFFSETTO:-0500
TZNAME:EST
DTSTART:20261101T060000
END:STANDARD
BEGIN:DAYLIGHT
TZOFFSETFROM:-0500
TZOFFSETTO:-0400
TZNAME:EDT
DTSTART:20270314T070000
END:DAYLIGHT
BEGIN:STANDARD
TZOFFSETFROM:-0400
TZOFFSETTO:-0500
TZNAME:EST
DTSTART:20271107T060000
END:STANDARD
END:VTIMEZONE
BEGIN:VEVENT
DTSTART;TZID=America/New_York:20260310T193000
DTEND;TZID=America/New_York:20260310T220000
DTSTAMP:20260420T182403
CREATED:20250808T195636Z
LAST-MODIFIED:20250813T140043Z
UID:10002016-1773171000-1773180000@enfacemagazine.com
SUMMARY:Othello
DESCRIPTION:Immerse yourself in the gripping drama of Lar Lubovitch’s Othello\, a ballet that plunges into the dark heart of Shakespeare’s tragic tale. This powerful full-length work\, set to Elliot Goldenthal’s evocative score\, explores themes of love\, jealousy\, and betrayal with profound emotional depth. Lubovitch’s innovative choreography seamlessly blends classical ballet with a contemporary sensibility\, creating a visceral and compelling narrative that will keep you on the edge of your seat. Witness the devastating consequences of Iago’s manipulation as Othello’s world unravels\, brought to life by ABT’s exceptional artists in a truly unforgettable theatrical experience. \nDesmond Richardson in Othello. Photo: Roy Round
URL:https://enfacemagazine.com/event/othello/2026-03-10/
LOCATION:David H. Koch Theater\, 20 Lincoln Center Plaza\, New York\, NY\, 10023\, United States
CATEGORIES:Ballet,Story ballet
ATTACH;FMTTYPE=image/png:https://enfacemagazine.com/wp-content/uploads/2025/08/ABTOthello-e1754682984448.png
END:VEVENT
END:VCALENDAR