BEGIN:VCALENDAR
VERSION:2.0
PRODID:-//En Face Magazine - ECPv6.15.20//NONSGML v1.0//EN
CALSCALE:GREGORIAN
METHOD:PUBLISH
X-WR-CALNAME:En Face Magazine
X-ORIGINAL-URL:https://enfacemagazine.com
X-WR-CALDESC:Events for En Face Magazine
REFRESH-INTERVAL;VALUE=DURATION:PT1H
X-Robots-Tag:noindex
X-PUBLISHED-TTL:PT1H
BEGIN:VTIMEZONE
TZID:America/Denver
BEGIN:DAYLIGHT
TZOFFSETFROM:-0700
TZOFFSETTO:-0600
TZNAME:MDT
DTSTART:20250309T090000
END:DAYLIGHT
BEGIN:STANDARD
TZOFFSETFROM:-0600
TZOFFSETTO:-0700
TZNAME:MST
DTSTART:20251102T080000
END:STANDARD
BEGIN:DAYLIGHT
TZOFFSETFROM:-0700
TZOFFSETTO:-0600
TZNAME:MDT
DTSTART:20260308T090000
END:DAYLIGHT
BEGIN:STANDARD
TZOFFSETFROM:-0600
TZOFFSETTO:-0700
TZNAME:MST
DTSTART:20261101T080000
END:STANDARD
BEGIN:DAYLIGHT
TZOFFSETFROM:-0700
TZOFFSETTO:-0600
TZNAME:MDT
DTSTART:20270314T090000
END:DAYLIGHT
BEGIN:STANDARD
TZOFFSETFROM:-0600
TZOFFSETTO:-0700
TZNAME:MST
DTSTART:20271107T080000
END:STANDARD
END:VTIMEZONE
BEGIN:VTIMEZONE
TZID:America/Los_Angeles
BEGIN:DAYLIGHT
TZOFFSETFROM:-0800
TZOFFSETTO:-0700
TZNAME:PDT
DTSTART:20250309T100000
END:DAYLIGHT
BEGIN:STANDARD
TZOFFSETFROM:-0700
TZOFFSETTO:-0800
TZNAME:PST
DTSTART:20251102T090000
END:STANDARD
BEGIN:DAYLIGHT
TZOFFSETFROM:-0800
TZOFFSETTO:-0700
TZNAME:PDT
DTSTART:20260308T100000
END:DAYLIGHT
BEGIN:STANDARD
TZOFFSETFROM:-0700
TZOFFSETTO:-0800
TZNAME:PST
DTSTART:20261101T090000
END:STANDARD
BEGIN:DAYLIGHT
TZOFFSETFROM:-0800
TZOFFSETTO:-0700
TZNAME:PDT
DTSTART:20270314T100000
END:DAYLIGHT
BEGIN:STANDARD
TZOFFSETFROM:-0700
TZOFFSETTO:-0800
TZNAME:PST
DTSTART:20271107T090000
END:STANDARD
END:VTIMEZONE
BEGIN:VEVENT
DTSTART;TZID=America/Denver:20260403T190000
DTEND;TZID=America/Denver:20260403T203000
DTSTAMP:20260420T113632
CREATED:20250807T160622Z
LAST-MODIFIED:20250807T193054Z
UID:10001724-1775242800-1775248200@enfacemagazine.com
SUMMARY:Peter and the Wolf
DESCRIPTION:Join Ballet Idaho for a new Family Series featuring a hilarious and clever retelling of Peter and the Wolf with choreography by Ballet Idaho’s Associate Artistic Director Anne Mueller.
URL:https://enfacemagazine.com/event/peter-and-the-wolf/2026-04-03/
LOCATION:Capital High School\, 8055 W Goddard Rd\, Boise\, ID\, 83704\, United States
CATEGORIES:Ballet,Family Fun,Kid-Friendly
ATTACH;FMTTYPE=image/png:https://enfacemagazine.com/wp-content/uploads/2025/08/BIPeterWolf-e1754582762740.png
END:VEVENT
BEGIN:VEVENT
DTSTART;TZID=America/Los_Angeles:20260403T193000
DTEND;TZID=America/Los_Angeles:20260403T220000
DTSTAMP:20260420T113632
CREATED:20250808T172724Z
LAST-MODIFIED:20250808T173321Z
UID:10001850-1775244600-1775253600@enfacemagazine.com
SUMMARY:Princess and the Pea
DESCRIPTION:Headlining this vibrant mixed bill is a co-production with The Joffrey Ballet: Dani Rowe’s Princess and the Pea\, a playful and rebellious twist on a classic tale. In the rigid world of Pea Town\, where only peas are allowed\, one brave girl dares to challenge the iron rule of a spoiled Princess. With wit\, determination\, and an unexpected ally\, she embarks on a battle of wills that just might change everything. \nDazzling and dynamic as ever\, George Balanchine’s Rubies sparkles with jazz-infused energy and Broadway flair. Set to Stravinsky’s fiery Capriccio for Piano and Orchestra\, it fuses classical technique with modern exuberance in a playful yet sophisticated display of sharp angles and syncopated rhythms. \nIn the compelling UnSaid\, Rowe uses the duet to embody Jonathan Safran Foer’s words: “We had everything to say to each other\, and no ways to say it.” The piece gives voice to the unspoken\, capturing the longing\, conflict\, and vulnerability that exists in the space between two people in motion.
URL:https://enfacemagazine.com/event/princess-and-the-pea/2026-04-03/
LOCATION:Newmark Theatre\, 1111 SW Broadway Ave\, Portland\, OR\, 97205\, United States
CATEGORIES:Ballet,Story ballet
ATTACH;FMTTYPE=image/jpeg:https://enfacemagazine.com/wp-content/uploads/2025/08/4_Princess-and-the-Pea_1600x500-e1754674025868.jpg
END:VEVENT
END:VCALENDAR