BEGIN:VCALENDAR
VERSION:2.0
PRODID:-//En Face Magazine - ECPv6.15.20//NONSGML v1.0//EN
CALSCALE:GREGORIAN
METHOD:PUBLISH
X-ORIGINAL-URL:https://enfacemagazine.com
X-WR-CALDESC:Events for En Face Magazine
REFRESH-INTERVAL;VALUE=DURATION:PT1H
X-Robots-Tag:noindex
X-PUBLISHED-TTL:PT1H
BEGIN:VTIMEZONE
TZID:America/Los_Angeles
BEGIN:DAYLIGHT
TZOFFSETFROM:-0800
TZOFFSETTO:-0700
TZNAME:PDT
DTSTART:20250309T100000
END:DAYLIGHT
BEGIN:STANDARD
TZOFFSETFROM:-0700
TZOFFSETTO:-0800
TZNAME:PST
DTSTART:20251102T090000
END:STANDARD
BEGIN:DAYLIGHT
TZOFFSETFROM:-0800
TZOFFSETTO:-0700
TZNAME:PDT
DTSTART:20260308T100000
END:DAYLIGHT
BEGIN:STANDARD
TZOFFSETFROM:-0700
TZOFFSETTO:-0800
TZNAME:PST
DTSTART:20261101T090000
END:STANDARD
BEGIN:DAYLIGHT
TZOFFSETFROM:-0800
TZOFFSETTO:-0700
TZNAME:PDT
DTSTART:20270314T100000
END:DAYLIGHT
BEGIN:STANDARD
TZOFFSETFROM:-0700
TZOFFSETTO:-0800
TZNAME:PST
DTSTART:20271107T090000
END:STANDARD
END:VTIMEZONE
BEGIN:VEVENT
DTSTART;TZID=America/Los_Angeles:20260405T140000
DTEND;TZID=America/Los_Angeles:20260405T163000
DTSTAMP:20260420T113911
CREATED:20250808T172724Z
LAST-MODIFIED:20250808T173321Z
UID:10001853-1775397600-1775406600@enfacemagazine.com
SUMMARY:Princess and the Pea
DESCRIPTION:Headlining this vibrant mixed bill is a co-production with The Joffrey Ballet: Dani Rowe’s Princess and the Pea\, a playful and rebellious twist on a classic tale. In the rigid world of Pea Town\, where only peas are allowed\, one brave girl dares to challenge the iron rule of a spoiled Princess. With wit\, determination\, and an unexpected ally\, she embarks on a battle of wills that just might change everything. \nDazzling and dynamic as ever\, George Balanchine’s Rubies sparkles with jazz-infused energy and Broadway flair. Set to Stravinsky’s fiery Capriccio for Piano and Orchestra\, it fuses classical technique with modern exuberance in a playful yet sophisticated display of sharp angles and syncopated rhythms. \nIn the compelling UnSaid\, Rowe uses the duet to embody Jonathan Safran Foer’s words: “We had everything to say to each other\, and no ways to say it.” The piece gives voice to the unspoken\, capturing the longing\, conflict\, and vulnerability that exists in the space between two people in motion.
URL:https://enfacemagazine.com/event/princess-and-the-pea/2026-04-05/
LOCATION:Newmark Theatre\, 1111 SW Broadway Ave\, Portland\, OR\, 97205\, United States
CATEGORIES:Ballet,Story ballet
ATTACH;FMTTYPE=image/jpeg:https://enfacemagazine.com/wp-content/uploads/2025/08/4_Princess-and-the-Pea_1600x500-e1754674025868.jpg
END:VEVENT
END:VCALENDAR