BEGIN:VCALENDAR
VERSION:2.0
PRODID:-//En Face Magazine - ECPv6.15.20//NONSGML v1.0//EN
CALSCALE:GREGORIAN
METHOD:PUBLISH
X-WR-CALNAME:En Face Magazine
X-ORIGINAL-URL:https://enfacemagazine.com
X-WR-CALDESC:Events for En Face Magazine
REFRESH-INTERVAL;VALUE=DURATION:PT1H
X-Robots-Tag:noindex
X-PUBLISHED-TTL:PT1H
BEGIN:VTIMEZONE
TZID:America/New_York
BEGIN:DAYLIGHT
TZOFFSETFROM:-0500
TZOFFSETTO:-0400
TZNAME:EDT
DTSTART:20250309T070000
END:DAYLIGHT
BEGIN:STANDARD
TZOFFSETFROM:-0400
TZOFFSETTO:-0500
TZNAME:EST
DTSTART:20251102T060000
END:STANDARD
BEGIN:DAYLIGHT
TZOFFSETFROM:-0500
TZOFFSETTO:-0400
TZNAME:EDT
DTSTART:20260308T070000
END:DAYLIGHT
BEGIN:STANDARD
TZOFFSETFROM:-0400
TZOFFSETTO:-0500
TZNAME:EST
DTSTART:20261101T060000
END:STANDARD
BEGIN:DAYLIGHT
TZOFFSETFROM:-0500
TZOFFSETTO:-0400
TZNAME:EDT
DTSTART:20270314T070000
END:DAYLIGHT
BEGIN:STANDARD
TZOFFSETFROM:-0400
TZOFFSETTO:-0500
TZNAME:EST
DTSTART:20271107T060000
END:STANDARD
END:VTIMEZONE
BEGIN:VTIMEZONE
TZID:America/Los_Angeles
BEGIN:DAYLIGHT
TZOFFSETFROM:-0800
TZOFFSETTO:-0700
TZNAME:PDT
DTSTART:20250309T100000
END:DAYLIGHT
BEGIN:STANDARD
TZOFFSETFROM:-0700
TZOFFSETTO:-0800
TZNAME:PST
DTSTART:20251102T090000
END:STANDARD
BEGIN:DAYLIGHT
TZOFFSETFROM:-0800
TZOFFSETTO:-0700
TZNAME:PDT
DTSTART:20260308T100000
END:DAYLIGHT
BEGIN:STANDARD
TZOFFSETFROM:-0700
TZOFFSETTO:-0800
TZNAME:PST
DTSTART:20261101T090000
END:STANDARD
BEGIN:DAYLIGHT
TZOFFSETFROM:-0800
TZOFFSETTO:-0700
TZNAME:PDT
DTSTART:20270314T100000
END:DAYLIGHT
BEGIN:STANDARD
TZOFFSETFROM:-0700
TZOFFSETTO:-0800
TZNAME:PST
DTSTART:20271107T090000
END:STANDARD
END:VTIMEZONE
BEGIN:VEVENT
DTSTART;TZID=America/New_York:20260410T193000
DTEND;TZID=America/New_York:20260410T220000
DTSTAMP:20260420T153411
CREATED:20250805T205356Z
LAST-MODIFIED:20250807T193048Z
UID:10001651-1775849400-1775858400@enfacemagazine.com
SUMMARY:Director's Vision: Liberty in Motion
DESCRIPTION:Liberty In Motion\, a patriotic triple bill concludes Cincinnati Ballet’s 2025–2026 Season at the Aronoff Center\, featuring works from choreographers George Balanchine\, Justin Peck\, and Claudia Schreier. Peck’s eclectic style in Times are Racing matches Dan Deacon’s electronic score with youthful vigor. Schreier’s First Impulse showcases neoclassical style rooted in contemporary ballet concepts. Balanchine’s Serenade is a milestone in the history of dance\, as the first original ballet George Balanchine created in America. \nKirsten Hunsberger | Photography: Aaron M. Conway
URL:https://enfacemagazine.com/event/directors-vision-liberty-in-motion/2026-04-10/
LOCATION:Aronoff Center for the Arts\, 650 Walnut St\, Cincinnati\, OH\, 45202\, United States
CATEGORIES:Ballet
ATTACH;FMTTYPE=image/png:https://enfacemagazine.com/wp-content/uploads/2025/08/CBL2526_DIRECTORSVISION_0983-F-2-e1754427224917.png
END:VEVENT
BEGIN:VEVENT
DTSTART;TZID=America/Los_Angeles:20260410T193000
DTEND;TZID=America/Los_Angeles:20260410T220000
DTSTAMP:20260420T153411
CREATED:20250808T183938Z
LAST-MODIFIED:20250813T135926Z
UID:10001931-1775849400-1775858400@enfacemagazine.com
SUMMARY:Giselle
DESCRIPTION:“Even with its vengeful ghosts\, Giselle is the ultimate love story. A triumph of classical ballet\, the production flourishes under the PNB touch\, reminding audiences of the joy and magic of live theater while underscoring the lasting power of true love.” –The Seattle Times \nThis romantic ballet gem has been updated and staged by Peter Boal for PNB with sumptuous costumes and sets by Jérôme Kaplan. A mountain village in a lush forest becomes the backdrop to love\, betrayal\, and otherworldly specters in this compelling masterpiece.
URL:https://enfacemagazine.com/event/pnb-giselle/2026-04-10/
LOCATION:McCaw Hall\, 321 Mercer St\, Seattle\, WA\, 98109\, United States
CATEGORIES:Ballet,Story ballet
ATTACH;FMTTYPE=image/jpeg:https://enfacemagazine.com/wp-content/uploads/2025/08/PNB_Giselle-e1754678351233.jpg
END:VEVENT
BEGIN:VEVENT
DTSTART;TZID=America/Los_Angeles:20260410T200000
DTEND;TZID=America/Los_Angeles:20260410T223000
DTSTAMP:20260420T153411
CREATED:20250808T155648Z
LAST-MODIFIED:20251008T192940Z
UID:10001755-1775851200-1775860200@enfacemagazine.com
SUMMARY:La Sylphide
DESCRIPTION:Lose yourself in La Sylphide’s world of romance\, mystery\, and ethereal beauty. This Scottish tale of love and illusion continues to captivate with timeless themes of human nature still relatable today. With its signature Romantic era enchantment complete with misty woodland scenes and a tutu-clad corps de ballet\, La Sylphide is a hauntingly beautiful classic that continues to captivate audiences nearly 200 years after its debut. \nJasmine Jimison as the Sylph and Cavan Conley as James in Bournonville’s La Sylphide // © Studio Schuller for San Francisco Ballet
URL:https://enfacemagazine.com/event/la-sylphide/2026-04-10/
LOCATION:War Memorial Opera House\, 301 Van Ness Ave\, San Francisco\, CA\, 94102\, United States
CATEGORIES:Ballet,Story ballet
ATTACH;FMTTYPE=image/jpeg:https://enfacemagazine.com/wp-content/uploads/2025/08/SFB2025SPH_KS02_0144_SYLPHIDE_01_RGB.jpg
GEO:37.7785¡ N;122.4203¡ W
X-APPLE-STRUCTURED-LOCATION;VALUE=URI;X-ADDRESS=War Memorial Opera House 301 Van Ness Ave San Francisco CA 94102 United States;X-APPLE-RADIUS=500;X-TITLE=301 Van Ness Ave:geo:122.4203¡ W,37.7785¡ N
END:VEVENT
END:VCALENDAR