BEGIN:VCALENDAR
VERSION:2.0
PRODID:-//En Face Magazine - ECPv6.15.20//NONSGML v1.0//EN
CALSCALE:GREGORIAN
METHOD:PUBLISH
X-ORIGINAL-URL:https://enfacemagazine.com
X-WR-CALDESC:Events for En Face Magazine
REFRESH-INTERVAL;VALUE=DURATION:PT1H
X-Robots-Tag:noindex
X-PUBLISHED-TTL:PT1H
BEGIN:VTIMEZONE
TZID:America/Los_Angeles
BEGIN:DAYLIGHT
TZOFFSETFROM:-0800
TZOFFSETTO:-0700
TZNAME:PDT
DTSTART:20250309T100000
END:DAYLIGHT
BEGIN:STANDARD
TZOFFSETFROM:-0700
TZOFFSETTO:-0800
TZNAME:PST
DTSTART:20251102T090000
END:STANDARD
BEGIN:DAYLIGHT
TZOFFSETFROM:-0800
TZOFFSETTO:-0700
TZNAME:PDT
DTSTART:20260308T100000
END:DAYLIGHT
BEGIN:STANDARD
TZOFFSETFROM:-0700
TZOFFSETTO:-0800
TZNAME:PST
DTSTART:20261101T090000
END:STANDARD
BEGIN:DAYLIGHT
TZOFFSETFROM:-0800
TZOFFSETTO:-0700
TZNAME:PDT
DTSTART:20270314T100000
END:DAYLIGHT
BEGIN:STANDARD
TZOFFSETFROM:-0700
TZOFFSETTO:-0800
TZNAME:PST
DTSTART:20271107T090000
END:STANDARD
END:VTIMEZONE
BEGIN:VEVENT
DTSTART;TZID=America/Los_Angeles:20260429T193000
DTEND;TZID=America/Los_Angeles:20260429T220000
DTSTAMP:20260420T165720
CREATED:20250808T160219Z
LAST-MODIFIED:20251008T192628Z
UID:10001767-1777491000-1777500000@enfacemagazine.com
SUMMARY:Mere Mortals
DESCRIPTION:Inspired by the Greek myth of Pandora’s Jar\, Mere Mortals explores our relationship with artificial intelligence\, its boundless potential\, as well as the unforeseen consequences. Originally commissioned for Tamara Rojo’s inaugural season\, the program returns as a fusion of electronic music\, festival culture\, and contemporary ballet. Merging the choreography of Aszure Barton with the visionary music of composer Floating Points\, this is a critical reimagining of an ancient tale in the context of our modern\, tech-driven age. \nNikisha Fogo as Pandora and Wei Wang as Hope from Aszure Barton and Sam Shepherd’s Mere Mortals // © Studio Schuller for San Francisco Ballet
URL:https://enfacemagazine.com/event/mere-mortals/2026-04-29/
LOCATION:War Memorial Opera House\, 301 Van Ness Ave\, San Francisco\, CA\, 94102\, United States
CATEGORIES:Ballet
ATTACH;FMTTYPE=image/png:https://enfacemagazine.com/wp-content/uploads/2025/08/SFBMereMortals_v2.png
GEO:37.7785¡ N;122.4203¡ W
X-APPLE-STRUCTURED-LOCATION;VALUE=URI;X-ADDRESS=War Memorial Opera House 301 Van Ness Ave San Francisco CA 94102 United States;X-APPLE-RADIUS=500;X-TITLE=301 Van Ness Ave:geo:122.4203¡ W,37.7785¡ N
END:VEVENT
END:VCALENDAR