BEGIN:VCALENDAR
VERSION:2.0
PRODID:-//En Face Magazine - ECPv6.15.20//NONSGML v1.0//EN
CALSCALE:GREGORIAN
METHOD:PUBLISH
X-ORIGINAL-URL:https://enfacemagazine.com
X-WR-CALDESC:Events for En Face Magazine
REFRESH-INTERVAL;VALUE=DURATION:PT1H
X-Robots-Tag:noindex
X-PUBLISHED-TTL:PT1H
BEGIN:VTIMEZONE
TZID:America/Denver
BEGIN:DAYLIGHT
TZOFFSETFROM:-0700
TZOFFSETTO:-0600
TZNAME:MDT
DTSTART:20230312T090000
END:DAYLIGHT
BEGIN:STANDARD
TZOFFSETFROM:-0600
TZOFFSETTO:-0700
TZNAME:MST
DTSTART:20231105T080000
END:STANDARD
BEGIN:DAYLIGHT
TZOFFSETFROM:-0700
TZOFFSETTO:-0600
TZNAME:MDT
DTSTART:20240310T090000
END:DAYLIGHT
BEGIN:STANDARD
TZOFFSETFROM:-0600
TZOFFSETTO:-0700
TZNAME:MST
DTSTART:20241103T080000
END:STANDARD
BEGIN:DAYLIGHT
TZOFFSETFROM:-0700
TZOFFSETTO:-0600
TZNAME:MDT
DTSTART:20250309T090000
END:DAYLIGHT
BEGIN:STANDARD
TZOFFSETFROM:-0600
TZOFFSETTO:-0700
TZNAME:MST
DTSTART:20251102T080000
END:STANDARD
END:VTIMEZONE
BEGIN:VEVENT
DTSTART;TZID=America/Denver:20241102T193000
DTEND;TZID=America/Denver:20241102T220000
DTSTAMP:20260425T091454
CREATED:20241016T133658Z
LAST-MODIFIED:20250813T140844Z
UID:10001034-1730575800-1730584800@enfacemagazine.com
SUMMARY:Jekyll & Hyde
DESCRIPTION:Based on the 19th-century story by Robert Louis Stevenson comes a new\, full-length ballet of Jekyll & Hyde. Following the smash success of last year’s Dracula comes the next gripping production exploring the dark side of the human psyche. Come witness the dynamic portrayal of Dr. Jekyll and his evil split personality in this horror classic.\nParental Advisory: Strong Adult Content
URL:https://enfacemagazine.com/event/jekyll-and-hyde/2024-11-02/2/
LOCATION:Janet Quinney Lawson Capitol Theatre\, 50 W 200 S\, Salt Lake City\, UT\, 84101\, United States
CATEGORIES:Ballet,Story ballet
ATTACH;FMTTYPE=image/png:https://enfacemagazine.com/wp-content/uploads/2024/10/Jekyll-and-Hyde-Event-Title-afd5b29dbc-e1729083985957.png
END:VEVENT
BEGIN:VEVENT
DTSTART;TZID=America/Denver:20241102T140000
DTEND;TZID=America/Denver:20241102T163000
DTSTAMP:20260425T091454
CREATED:20241016T133658Z
LAST-MODIFIED:20250813T140844Z
UID:10001033-1730556000-1730565000@enfacemagazine.com
SUMMARY:Jekyll & Hyde
DESCRIPTION:Based on the 19th-century story by Robert Louis Stevenson comes a new\, full-length ballet of Jekyll & Hyde. Following the smash success of last year’s Dracula comes the next gripping production exploring the dark side of the human psyche. Come witness the dynamic portrayal of Dr. Jekyll and his evil split personality in this horror classic.\nParental Advisory: Strong Adult Content
URL:https://enfacemagazine.com/event/jekyll-and-hyde/2024-11-02/1/
LOCATION:Janet Quinney Lawson Capitol Theatre\, 50 W 200 S\, Salt Lake City\, UT\, 84101\, United States
CATEGORIES:Ballet,Story ballet
ATTACH;FMTTYPE=image/png:https://enfacemagazine.com/wp-content/uploads/2024/10/Jekyll-and-Hyde-Event-Title-afd5b29dbc-e1729083985957.png
END:VEVENT
BEGIN:VEVENT
DTSTART;TZID=America/Denver:20241101T193000
DTEND;TZID=America/Denver:20241101T220000
DTSTAMP:20260425T091454
CREATED:20241016T133658Z
LAST-MODIFIED:20250813T140844Z
UID:10001032-1730489400-1730498400@enfacemagazine.com
SUMMARY:Jekyll & Hyde
DESCRIPTION:Based on the 19th-century story by Robert Louis Stevenson comes a new\, full-length ballet of Jekyll & Hyde. Following the smash success of last year’s Dracula comes the next gripping production exploring the dark side of the human psyche. Come witness the dynamic portrayal of Dr. Jekyll and his evil split personality in this horror classic.\nParental Advisory: Strong Adult Content
URL:https://enfacemagazine.com/event/jekyll-and-hyde/2024-11-01/
LOCATION:Janet Quinney Lawson Capitol Theatre\, 50 W 200 S\, Salt Lake City\, UT\, 84101\, United States
CATEGORIES:Ballet,Story ballet
ATTACH;FMTTYPE=image/png:https://enfacemagazine.com/wp-content/uploads/2024/10/Jekyll-and-Hyde-Event-Title-afd5b29dbc-e1729083985957.png
END:VEVENT
BEGIN:VEVENT
DTSTART;TZID=America/Denver:20241031T193000
DTEND;TZID=America/Denver:20241031T220000
DTSTAMP:20260425T091454
CREATED:20241016T133658Z
LAST-MODIFIED:20250813T140844Z
UID:10001031-1730403000-1730412000@enfacemagazine.com
SUMMARY:Jekyll & Hyde
DESCRIPTION:Based on the 19th-century story by Robert Louis Stevenson comes a new\, full-length ballet of Jekyll & Hyde. Following the smash success of last year’s Dracula comes the next gripping production exploring the dark side of the human psyche. Come witness the dynamic portrayal of Dr. Jekyll and his evil split personality in this horror classic.\nParental Advisory: Strong Adult Content
URL:https://enfacemagazine.com/event/jekyll-and-hyde/2024-10-31/
LOCATION:Janet Quinney Lawson Capitol Theatre\, 50 W 200 S\, Salt Lake City\, UT\, 84101\, United States
CATEGORIES:Ballet,Story ballet
ATTACH;FMTTYPE=image/png:https://enfacemagazine.com/wp-content/uploads/2024/10/Jekyll-and-Hyde-Event-Title-afd5b29dbc-e1729083985957.png
END:VEVENT
BEGIN:VEVENT
DTSTART;TZID=America/Denver:20241030T193000
DTEND;TZID=America/Denver:20241030T220000
DTSTAMP:20260425T091454
CREATED:20241016T133658Z
LAST-MODIFIED:20250813T140844Z
UID:10001030-1730316600-1730325600@enfacemagazine.com
SUMMARY:Jekyll & Hyde
DESCRIPTION:Based on the 19th-century story by Robert Louis Stevenson comes a new\, full-length ballet of Jekyll & Hyde. Following the smash success of last year’s Dracula comes the next gripping production exploring the dark side of the human psyche. Come witness the dynamic portrayal of Dr. Jekyll and his evil split personality in this horror classic.\nParental Advisory: Strong Adult Content
URL:https://enfacemagazine.com/event/jekyll-and-hyde/2024-10-30/
LOCATION:Janet Quinney Lawson Capitol Theatre\, 50 W 200 S\, Salt Lake City\, UT\, 84101\, United States
CATEGORIES:Ballet,Story ballet
ATTACH;FMTTYPE=image/png:https://enfacemagazine.com/wp-content/uploads/2024/10/Jekyll-and-Hyde-Event-Title-afd5b29dbc-e1729083985957.png
END:VEVENT
BEGIN:VEVENT
DTSTART;TZID=America/Denver:20241026T193000
DTEND;TZID=America/Denver:20241026T220000
DTSTAMP:20260425T091454
CREATED:20241016T133658Z
LAST-MODIFIED:20250813T140844Z
UID:10001029-1729971000-1729980000@enfacemagazine.com
SUMMARY:Jekyll & Hyde
DESCRIPTION:Based on the 19th-century story by Robert Louis Stevenson comes a new\, full-length ballet of Jekyll & Hyde. Following the smash success of last year’s Dracula comes the next gripping production exploring the dark side of the human psyche. Come witness the dynamic portrayal of Dr. Jekyll and his evil split personality in this horror classic.\nParental Advisory: Strong Adult Content
URL:https://enfacemagazine.com/event/jekyll-and-hyde/2024-10-26/2/
LOCATION:Janet Quinney Lawson Capitol Theatre\, 50 W 200 S\, Salt Lake City\, UT\, 84101\, United States
CATEGORIES:Ballet,Story ballet
ATTACH;FMTTYPE=image/png:https://enfacemagazine.com/wp-content/uploads/2024/10/Jekyll-and-Hyde-Event-Title-afd5b29dbc-e1729083985957.png
END:VEVENT
BEGIN:VEVENT
DTSTART;TZID=America/Denver:20241026T140000
DTEND;TZID=America/Denver:20241026T163000
DTSTAMP:20260425T091454
CREATED:20241016T133658Z
LAST-MODIFIED:20250813T140844Z
UID:10001028-1729951200-1729960200@enfacemagazine.com
SUMMARY:Jekyll & Hyde
DESCRIPTION:Based on the 19th-century story by Robert Louis Stevenson comes a new\, full-length ballet of Jekyll & Hyde. Following the smash success of last year’s Dracula comes the next gripping production exploring the dark side of the human psyche. Come witness the dynamic portrayal of Dr. Jekyll and his evil split personality in this horror classic.\nParental Advisory: Strong Adult Content
URL:https://enfacemagazine.com/event/jekyll-and-hyde/2024-10-26/1/
LOCATION:Janet Quinney Lawson Capitol Theatre\, 50 W 200 S\, Salt Lake City\, UT\, 84101\, United States
CATEGORIES:Ballet,Story ballet
ATTACH;FMTTYPE=image/png:https://enfacemagazine.com/wp-content/uploads/2024/10/Jekyll-and-Hyde-Event-Title-afd5b29dbc-e1729083985957.png
END:VEVENT
BEGIN:VEVENT
DTSTART;TZID=America/Denver:20241025T193000
DTEND;TZID=America/Denver:20241025T220000
DTSTAMP:20260425T091454
CREATED:20241016T133658Z
LAST-MODIFIED:20250813T140844Z
UID:10001027-1729884600-1729893600@enfacemagazine.com
SUMMARY:Jekyll & Hyde
DESCRIPTION:Based on the 19th-century story by Robert Louis Stevenson comes a new\, full-length ballet of Jekyll & Hyde. Following the smash success of last year’s Dracula comes the next gripping production exploring the dark side of the human psyche. Come witness the dynamic portrayal of Dr. Jekyll and his evil split personality in this horror classic.\nParental Advisory: Strong Adult Content
URL:https://enfacemagazine.com/event/jekyll-and-hyde/2024-10-25/
LOCATION:Janet Quinney Lawson Capitol Theatre\, 50 W 200 S\, Salt Lake City\, UT\, 84101\, United States
CATEGORIES:Ballet,Story ballet
ATTACH;FMTTYPE=image/png:https://enfacemagazine.com/wp-content/uploads/2024/10/Jekyll-and-Hyde-Event-Title-afd5b29dbc-e1729083985957.png
END:VEVENT
END:VCALENDAR