BEGIN:VCALENDAR
VERSION:2.0
PRODID:-//En Face Magazine - ECPv6.15.20//NONSGML v1.0//EN
CALSCALE:GREGORIAN
METHOD:PUBLISH
X-WR-CALNAME:En Face Magazine
X-ORIGINAL-URL:https://enfacemagazine.com
X-WR-CALDESC:Events for En Face Magazine
REFRESH-INTERVAL;VALUE=DURATION:PT1H
X-Robots-Tag:noindex
X-PUBLISHED-TTL:PT1H
BEGIN:VTIMEZONE
TZID:America/New_York
BEGIN:DAYLIGHT
TZOFFSETFROM:-0500
TZOFFSETTO:-0400
TZNAME:EDT
DTSTART:20240310T070000
END:DAYLIGHT
BEGIN:STANDARD
TZOFFSETFROM:-0400
TZOFFSETTO:-0500
TZNAME:EST
DTSTART:20241103T060000
END:STANDARD
BEGIN:DAYLIGHT
TZOFFSETFROM:-0500
TZOFFSETTO:-0400
TZNAME:EDT
DTSTART:20250309T070000
END:DAYLIGHT
BEGIN:STANDARD
TZOFFSETFROM:-0400
TZOFFSETTO:-0500
TZNAME:EST
DTSTART:20251102T060000
END:STANDARD
BEGIN:DAYLIGHT
TZOFFSETFROM:-0500
TZOFFSETTO:-0400
TZNAME:EDT
DTSTART:20260308T070000
END:DAYLIGHT
BEGIN:STANDARD
TZOFFSETFROM:-0400
TZOFFSETTO:-0500
TZNAME:EST
DTSTART:20261101T060000
END:STANDARD
END:VTIMEZONE
BEGIN:VEVENT
DTSTART;TZID=America/New_York:20250427T140000
DTEND;TZID=America/New_York:20250427T163000
DTSTAMP:20260423T032146
CREATED:20250319T134849Z
LAST-MODIFIED:20250813T140632Z
UID:10001241-1745762400-1745771400@enfacemagazine.com
SUMMARY:Relentless Resident Visions
DESCRIPTION:This spring PHILADANCO! showcases new and classic works from their cutting-edge choreographers\, Christopher Huggins\, Tommie-Waheed Evans\, Ray Mercer\, and Milton Myers. The performance series emphasized the unity and diversity within the PHILADANCO! family\, highlighting the choreographers’ unique backgrounds and distinct styles. \nOften described as “a brilliant mix of miracle of skill\, energy and artistry\,” PHILADANCO!  dancers are among the best in the world.  Join us as we celebrate these brilliant makers within the PHILADANCO! artistic family.
URL:https://enfacemagazine.com/event/relentless-resident-visions/2025-04-27/
LOCATION:Perelman Theater\, 300 South Broad St\, Philadelphia\, PA\, 19102\, United States
CATEGORIES:Ballet
ATTACH;FMTTYPE=image/png:https://enfacemagazine.com/wp-content/uploads/2025/03/PHILADANCOSpring-e1742392018180.png
END:VEVENT
BEGIN:VEVENT
DTSTART;TZID=America/New_York:20250426T193000
DTEND;TZID=America/New_York:20250426T220000
DTSTAMP:20260423T032146
CREATED:20250319T134849Z
LAST-MODIFIED:20250813T140632Z
UID:10001240-1745695800-1745704800@enfacemagazine.com
SUMMARY:Relentless Resident Visions
DESCRIPTION:This spring PHILADANCO! showcases new and classic works from their cutting-edge choreographers\, Christopher Huggins\, Tommie-Waheed Evans\, Ray Mercer\, and Milton Myers. The performance series emphasized the unity and diversity within the PHILADANCO! family\, highlighting the choreographers’ unique backgrounds and distinct styles. \nOften described as “a brilliant mix of miracle of skill\, energy and artistry\,” PHILADANCO!  dancers are among the best in the world.  Join us as we celebrate these brilliant makers within the PHILADANCO! artistic family.
URL:https://enfacemagazine.com/event/relentless-resident-visions/2025-04-26/2/
LOCATION:Perelman Theater\, 300 South Broad St\, Philadelphia\, PA\, 19102\, United States
CATEGORIES:Ballet
ATTACH;FMTTYPE=image/png:https://enfacemagazine.com/wp-content/uploads/2025/03/PHILADANCOSpring-e1742392018180.png
END:VEVENT
BEGIN:VEVENT
DTSTART;TZID=America/New_York:20250426T140000
DTEND;TZID=America/New_York:20250426T163000
DTSTAMP:20260423T032146
CREATED:20250319T134849Z
LAST-MODIFIED:20250813T140632Z
UID:10001239-1745676000-1745685000@enfacemagazine.com
SUMMARY:Relentless Resident Visions
DESCRIPTION:This spring PHILADANCO! showcases new and classic works from their cutting-edge choreographers\, Christopher Huggins\, Tommie-Waheed Evans\, Ray Mercer\, and Milton Myers. The performance series emphasized the unity and diversity within the PHILADANCO! family\, highlighting the choreographers’ unique backgrounds and distinct styles. \nOften described as “a brilliant mix of miracle of skill\, energy and artistry\,” PHILADANCO!  dancers are among the best in the world.  Join us as we celebrate these brilliant makers within the PHILADANCO! artistic family.
URL:https://enfacemagazine.com/event/relentless-resident-visions/2025-04-26/1/
LOCATION:Perelman Theater\, 300 South Broad St\, Philadelphia\, PA\, 19102\, United States
CATEGORIES:Ballet
ATTACH;FMTTYPE=image/png:https://enfacemagazine.com/wp-content/uploads/2025/03/PHILADANCOSpring-e1742392018180.png
END:VEVENT
BEGIN:VEVENT
DTSTART;TZID=America/New_York:20250425T193000
DTEND;TZID=America/New_York:20250425T220000
DTSTAMP:20260423T032146
CREATED:20250319T134849Z
LAST-MODIFIED:20250813T140632Z
UID:10001238-1745609400-1745618400@enfacemagazine.com
SUMMARY:Relentless Resident Visions
DESCRIPTION:This spring PHILADANCO! showcases new and classic works from their cutting-edge choreographers\, Christopher Huggins\, Tommie-Waheed Evans\, Ray Mercer\, and Milton Myers. The performance series emphasized the unity and diversity within the PHILADANCO! family\, highlighting the choreographers’ unique backgrounds and distinct styles. \nOften described as “a brilliant mix of miracle of skill\, energy and artistry\,” PHILADANCO!  dancers are among the best in the world.  Join us as we celebrate these brilliant makers within the PHILADANCO! artistic family.
URL:https://enfacemagazine.com/event/relentless-resident-visions/2025-04-25/
LOCATION:Perelman Theater\, 300 South Broad St\, Philadelphia\, PA\, 19102\, United States
CATEGORIES:Ballet
ATTACH;FMTTYPE=image/png:https://enfacemagazine.com/wp-content/uploads/2025/03/PHILADANCOSpring-e1742392018180.png
END:VEVENT
BEGIN:VEVENT
DTSTART;TZID=America/New_York:20250302T140000
DTEND;TZID=America/New_York:20250302T163000
DTSTAMP:20260423T032146
CREATED:20241203T202630Z
LAST-MODIFIED:20250813T140725Z
UID:10001063-1740924000-1740933000@enfacemagazine.com
SUMMARY:Alvin Ailey American Dance Theater
DESCRIPTION:Beloved by generations of audiences and revered by critics around the world\, this legendary dance company lifts audiences to their feet with performances of classics by their founder\, Presidential Medal of Freedom recipient Alvin Ailey\, along with some of the most exciting contemporary choreographers of the 20th and 21st centuries. \n“The dancing is wonderful – assured\, skillful\, incredibly fast. The evening concludes\, as does every performance\, with Ailey’s Revelations\, set to spirituals and gospel\, a triumphant hymn to the human spirit” (The Guardian\, UK). \nRepertory to be announced at a later date. 
URL:https://enfacemagazine.com/event/alvin-ailey-in-philadelphia/2025-03-02/
LOCATION:Academy of Music\, 240 S Broad St.\, Philadelphia\, PA\, 19102\, United States
CATEGORIES:Ballet
ATTACH;FMTTYPE=image/jpeg:https://enfacemagazine.com/wp-content/uploads/2024/07/MAIN-IMAGE-Members-of-Alvin-Ailey-American-Dance-Theater.-Photo-by-Dario-Calmese_horiz-scaled-e1731703792200.jpg
END:VEVENT
BEGIN:VEVENT
DTSTART;TZID=America/New_York:20250301T193000
DTEND;TZID=America/New_York:20250301T220000
DTSTAMP:20260423T032146
CREATED:20241203T202630Z
LAST-MODIFIED:20250813T140725Z
UID:10001062-1740857400-1740866400@enfacemagazine.com
SUMMARY:Alvin Ailey American Dance Theater
DESCRIPTION:Beloved by generations of audiences and revered by critics around the world\, this legendary dance company lifts audiences to their feet with performances of classics by their founder\, Presidential Medal of Freedom recipient Alvin Ailey\, along with some of the most exciting contemporary choreographers of the 20th and 21st centuries. \n“The dancing is wonderful – assured\, skillful\, incredibly fast. The evening concludes\, as does every performance\, with Ailey’s Revelations\, set to spirituals and gospel\, a triumphant hymn to the human spirit” (The Guardian\, UK). \nRepertory to be announced at a later date. 
URL:https://enfacemagazine.com/event/alvin-ailey-in-philadelphia/2025-03-01/2/
LOCATION:Academy of Music\, 240 S Broad St.\, Philadelphia\, PA\, 19102\, United States
CATEGORIES:Ballet
ATTACH;FMTTYPE=image/jpeg:https://enfacemagazine.com/wp-content/uploads/2024/07/MAIN-IMAGE-Members-of-Alvin-Ailey-American-Dance-Theater.-Photo-by-Dario-Calmese_horiz-scaled-e1731703792200.jpg
END:VEVENT
BEGIN:VEVENT
DTSTART;TZID=America/New_York:20250301T140000
DTEND;TZID=America/New_York:20250301T163000
DTSTAMP:20260423T032146
CREATED:20241203T202630Z
LAST-MODIFIED:20250813T140725Z
UID:10001061-1740837600-1740846600@enfacemagazine.com
SUMMARY:Alvin Ailey American Dance Theater
DESCRIPTION:Beloved by generations of audiences and revered by critics around the world\, this legendary dance company lifts audiences to their feet with performances of classics by their founder\, Presidential Medal of Freedom recipient Alvin Ailey\, along with some of the most exciting contemporary choreographers of the 20th and 21st centuries. \n“The dancing is wonderful – assured\, skillful\, incredibly fast. The evening concludes\, as does every performance\, with Ailey’s Revelations\, set to spirituals and gospel\, a triumphant hymn to the human spirit” (The Guardian\, UK). \nRepertory to be announced at a later date. 
URL:https://enfacemagazine.com/event/alvin-ailey-in-philadelphia/2025-03-01/1/
LOCATION:Academy of Music\, 240 S Broad St.\, Philadelphia\, PA\, 19102\, United States
CATEGORIES:Ballet
ATTACH;FMTTYPE=image/jpeg:https://enfacemagazine.com/wp-content/uploads/2024/07/MAIN-IMAGE-Members-of-Alvin-Ailey-American-Dance-Theater.-Photo-by-Dario-Calmese_horiz-scaled-e1731703792200.jpg
END:VEVENT
BEGIN:VEVENT
DTSTART;TZID=America/New_York:20250228T193000
DTEND;TZID=America/New_York:20250228T220000
DTSTAMP:20260423T032146
CREATED:20241203T202630Z
LAST-MODIFIED:20250813T140725Z
UID:10001060-1740771000-1740780000@enfacemagazine.com
SUMMARY:Alvin Ailey American Dance Theater
DESCRIPTION:Beloved by generations of audiences and revered by critics around the world\, this legendary dance company lifts audiences to their feet with performances of classics by their founder\, Presidential Medal of Freedom recipient Alvin Ailey\, along with some of the most exciting contemporary choreographers of the 20th and 21st centuries. \n“The dancing is wonderful – assured\, skillful\, incredibly fast. The evening concludes\, as does every performance\, with Ailey’s Revelations\, set to spirituals and gospel\, a triumphant hymn to the human spirit” (The Guardian\, UK). \nRepertory to be announced at a later date. 
URL:https://enfacemagazine.com/event/alvin-ailey-in-philadelphia/2025-02-28/
LOCATION:Academy of Music\, 240 S Broad St.\, Philadelphia\, PA\, 19102\, United States
CATEGORIES:Ballet
ATTACH;FMTTYPE=image/jpeg:https://enfacemagazine.com/wp-content/uploads/2024/07/MAIN-IMAGE-Members-of-Alvin-Ailey-American-Dance-Theater.-Photo-by-Dario-Calmese_horiz-scaled-e1731703792200.jpg
END:VEVENT
END:VCALENDAR