BEGIN:VCALENDAR
VERSION:2.0
PRODID:-//En Face Magazine - ECPv6.15.20//NONSGML v1.0//EN
CALSCALE:GREGORIAN
METHOD:PUBLISH
X-WR-CALNAME:En Face Magazine
X-ORIGINAL-URL:https://enfacemagazine.com
X-WR-CALDESC:Events for En Face Magazine
REFRESH-INTERVAL;VALUE=DURATION:PT1H
X-Robots-Tag:noindex
X-PUBLISHED-TTL:PT1H
BEGIN:VTIMEZONE
TZID:America/New_York
BEGIN:DAYLIGHT
TZOFFSETFROM:-0500
TZOFFSETTO:-0400
TZNAME:EDT
DTSTART:20230312T070000
END:DAYLIGHT
BEGIN:STANDARD
TZOFFSETFROM:-0400
TZOFFSETTO:-0500
TZNAME:EST
DTSTART:20231105T060000
END:STANDARD
BEGIN:DAYLIGHT
TZOFFSETFROM:-0500
TZOFFSETTO:-0400
TZNAME:EDT
DTSTART:20240310T070000
END:DAYLIGHT
BEGIN:STANDARD
TZOFFSETFROM:-0400
TZOFFSETTO:-0500
TZNAME:EST
DTSTART:20241103T060000
END:STANDARD
BEGIN:DAYLIGHT
TZOFFSETFROM:-0500
TZOFFSETTO:-0400
TZNAME:EDT
DTSTART:20250309T070000
END:DAYLIGHT
BEGIN:STANDARD
TZOFFSETFROM:-0400
TZOFFSETTO:-0500
TZNAME:EST
DTSTART:20251102T060000
END:STANDARD
BEGIN:DAYLIGHT
TZOFFSETFROM:-0500
TZOFFSETTO:-0400
TZNAME:EDT
DTSTART:20260308T070000
END:DAYLIGHT
BEGIN:STANDARD
TZOFFSETFROM:-0400
TZOFFSETTO:-0500
TZNAME:EST
DTSTART:20261101T060000
END:STANDARD
END:VTIMEZONE
BEGIN:VEVENT
DTSTART;TZID=America/New_York:20250406T140000
DTEND;TZID=America/New_York:20250406T163000
DTSTAMP:20260422T011157
CREATED:20241212T154505Z
LAST-MODIFIED:20250813T140633Z
UID:10001079-1743948000-1743957000@enfacemagazine.com
SUMMARY:Cinderella
DESCRIPTION:Choreographed by Alun Jones\, this dreamy and comical story of a servant turned princess is sure to delight the whole family. When Cinderella is forced to endure the antics of two ugly stepsisters\, she finds escape through a kindhearted Fairy Godmother\, a handsome prince\, and one enchanted pair of glass slippers.
URL:https://enfacemagazine.com/event/cinderella-louisville-ballet/2025-04-06/
LOCATION:Whitney Hall\, 501 W Main St\, Louisville\, KY\, 40202\, United States
CATEGORIES:Ballet,Story ballet
ATTACH;FMTTYPE=image/png:https://enfacemagazine.com/wp-content/uploads/2024/12/LouisvilleBalletCinderella-e1734018258917.png
END:VEVENT
BEGIN:VEVENT
DTSTART;TZID=America/New_York:20250405T200000
DTEND;TZID=America/New_York:20250405T223000
DTSTAMP:20260422T011157
CREATED:20241212T154505Z
LAST-MODIFIED:20250813T140633Z
UID:10001078-1743883200-1743892200@enfacemagazine.com
SUMMARY:Cinderella
DESCRIPTION:Choreographed by Alun Jones\, this dreamy and comical story of a servant turned princess is sure to delight the whole family. When Cinderella is forced to endure the antics of two ugly stepsisters\, she finds escape through a kindhearted Fairy Godmother\, a handsome prince\, and one enchanted pair of glass slippers.
URL:https://enfacemagazine.com/event/cinderella-louisville-ballet/2025-04-05/2/
LOCATION:Whitney Hall\, 501 W Main St\, Louisville\, KY\, 40202\, United States
CATEGORIES:Ballet,Story ballet
ATTACH;FMTTYPE=image/png:https://enfacemagazine.com/wp-content/uploads/2024/12/LouisvilleBalletCinderella-e1734018258917.png
END:VEVENT
BEGIN:VEVENT
DTSTART;TZID=America/New_York:20250405T140000
DTEND;TZID=America/New_York:20250405T163000
DTSTAMP:20260422T011157
CREATED:20241212T154505Z
LAST-MODIFIED:20250813T140633Z
UID:10001077-1743861600-1743870600@enfacemagazine.com
SUMMARY:Cinderella
DESCRIPTION:Choreographed by Alun Jones\, this dreamy and comical story of a servant turned princess is sure to delight the whole family. When Cinderella is forced to endure the antics of two ugly stepsisters\, she finds escape through a kindhearted Fairy Godmother\, a handsome prince\, and one enchanted pair of glass slippers.
URL:https://enfacemagazine.com/event/cinderella-louisville-ballet/2025-04-05/1/
LOCATION:Whitney Hall\, 501 W Main St\, Louisville\, KY\, 40202\, United States
CATEGORIES:Ballet,Story ballet
ATTACH;FMTTYPE=image/png:https://enfacemagazine.com/wp-content/uploads/2024/12/LouisvilleBalletCinderella-e1734018258917.png
END:VEVENT
BEGIN:VEVENT
DTSTART;TZID=America/New_York:20250404T200000
DTEND;TZID=America/New_York:20250404T223000
DTSTAMP:20260422T011157
CREATED:20241212T154505Z
LAST-MODIFIED:20250813T140633Z
UID:10001076-1743796800-1743805800@enfacemagazine.com
SUMMARY:Cinderella
DESCRIPTION:Choreographed by Alun Jones\, this dreamy and comical story of a servant turned princess is sure to delight the whole family. When Cinderella is forced to endure the antics of two ugly stepsisters\, she finds escape through a kindhearted Fairy Godmother\, a handsome prince\, and one enchanted pair of glass slippers.
URL:https://enfacemagazine.com/event/cinderella-louisville-ballet/2025-04-04/
LOCATION:Whitney Hall\, 501 W Main St\, Louisville\, KY\, 40202\, United States
CATEGORIES:Ballet,Story ballet
ATTACH;FMTTYPE=image/png:https://enfacemagazine.com/wp-content/uploads/2024/12/LouisvilleBalletCinderella-e1734018258917.png
END:VEVENT
BEGIN:VEVENT
DTSTART;TZID=America/New_York:20241103T140000
DTEND;TZID=America/New_York:20241103T163000
DTSTAMP:20260422T011157
CREATED:20240910T153615Z
LAST-MODIFIED:20250813T140844Z
UID:10000960-1730642400-1730651400@enfacemagazine.com
SUMMARY:Triple Take
DESCRIPTION:Hits of Louisville’s own Jack Harlow and symphonies of Stravinsky and Schumann collide with electrifying new choreography in this mixed-repertory program. Featuring three world premieres by Artistic Director Harald Uwe Kern\, Resident Choreographer Adam Hougland\, and Ching Ching Wong\, this collection of never-before-seen classical and contemporary works will keep you on your toes. \nBroken totem | Choreography by Adam Hougland | Music by Igor Stravinsky\nInfluences | Choreography by Harald Uwe Kern | Music by Robert Schumann\n502 | Choreography by Ching Ching Wong | Music by Jack Harlow
URL:https://enfacemagazine.com/event/triple-take/2024-11-03/
LOCATION:The Brown Theatre\, 315 W Broadway\, Louisville\, KY\, 40202\, United States
CATEGORIES:Ballet
ATTACH;FMTTYPE=image/png:https://enfacemagazine.com/wp-content/uploads/2024/09/LB_TripleTake_Horiz_v1-e1725982558151.png
END:VEVENT
BEGIN:VEVENT
DTSTART;TZID=America/New_York:20241102T200000
DTEND;TZID=America/New_York:20241102T223000
DTSTAMP:20260422T011157
CREATED:20240910T153615Z
LAST-MODIFIED:20250813T140844Z
UID:10000959-1730577600-1730586600@enfacemagazine.com
SUMMARY:Triple Take
DESCRIPTION:Hits of Louisville’s own Jack Harlow and symphonies of Stravinsky and Schumann collide with electrifying new choreography in this mixed-repertory program. Featuring three world premieres by Artistic Director Harald Uwe Kern\, Resident Choreographer Adam Hougland\, and Ching Ching Wong\, this collection of never-before-seen classical and contemporary works will keep you on your toes. \nBroken totem | Choreography by Adam Hougland | Music by Igor Stravinsky\nInfluences | Choreography by Harald Uwe Kern | Music by Robert Schumann\n502 | Choreography by Ching Ching Wong | Music by Jack Harlow
URL:https://enfacemagazine.com/event/triple-take/2024-11-02/2/
LOCATION:The Brown Theatre\, 315 W Broadway\, Louisville\, KY\, 40202\, United States
CATEGORIES:Ballet
ATTACH;FMTTYPE=image/png:https://enfacemagazine.com/wp-content/uploads/2024/09/LB_TripleTake_Horiz_v1-e1725982558151.png
END:VEVENT
BEGIN:VEVENT
DTSTART;TZID=America/New_York:20241102T140000
DTEND;TZID=America/New_York:20241102T163000
DTSTAMP:20260422T011157
CREATED:20240910T153615Z
LAST-MODIFIED:20250813T140844Z
UID:10000958-1730556000-1730565000@enfacemagazine.com
SUMMARY:Triple Take
DESCRIPTION:Hits of Louisville’s own Jack Harlow and symphonies of Stravinsky and Schumann collide with electrifying new choreography in this mixed-repertory program. Featuring three world premieres by Artistic Director Harald Uwe Kern\, Resident Choreographer Adam Hougland\, and Ching Ching Wong\, this collection of never-before-seen classical and contemporary works will keep you on your toes. \nBroken totem | Choreography by Adam Hougland | Music by Igor Stravinsky\nInfluences | Choreography by Harald Uwe Kern | Music by Robert Schumann\n502 | Choreography by Ching Ching Wong | Music by Jack Harlow
URL:https://enfacemagazine.com/event/triple-take/2024-11-02/1/
LOCATION:The Brown Theatre\, 315 W Broadway\, Louisville\, KY\, 40202\, United States
CATEGORIES:Ballet
ATTACH;FMTTYPE=image/png:https://enfacemagazine.com/wp-content/uploads/2024/09/LB_TripleTake_Horiz_v1-e1725982558151.png
END:VEVENT
BEGIN:VEVENT
DTSTART;TZID=America/New_York:20241101T200000
DTEND;TZID=America/New_York:20241101T223000
DTSTAMP:20260422T011157
CREATED:20240910T153615Z
LAST-MODIFIED:20250813T140844Z
UID:10000957-1730491200-1730500200@enfacemagazine.com
SUMMARY:Triple Take
DESCRIPTION:Hits of Louisville’s own Jack Harlow and symphonies of Stravinsky and Schumann collide with electrifying new choreography in this mixed-repertory program. Featuring three world premieres by Artistic Director Harald Uwe Kern\, Resident Choreographer Adam Hougland\, and Ching Ching Wong\, this collection of never-before-seen classical and contemporary works will keep you on your toes. \nBroken totem | Choreography by Adam Hougland | Music by Igor Stravinsky\nInfluences | Choreography by Harald Uwe Kern | Music by Robert Schumann\n502 | Choreography by Ching Ching Wong | Music by Jack Harlow
URL:https://enfacemagazine.com/event/triple-take/2024-11-01/
LOCATION:The Brown Theatre\, 315 W Broadway\, Louisville\, KY\, 40202\, United States
CATEGORIES:Ballet
ATTACH;FMTTYPE=image/png:https://enfacemagazine.com/wp-content/uploads/2024/09/LB_TripleTake_Horiz_v1-e1725982558151.png
END:VEVENT
END:VCALENDAR